From mboxrd@z Thu Jan  1 00:00:00 1970
Return-Path: <test-report-bounces@dpdk.org>
Received: from mails.dpdk.org (mails.dpdk.org [217.70.189.124])
	by inbox.dpdk.org (Postfix) with ESMTP id A65FC43EB3
	for <public@inbox.dpdk.org>; Fri, 19 Apr 2024 20:12:50 +0200 (CEST)
Received: from mails.dpdk.org (localhost [127.0.0.1])
	by mails.dpdk.org (Postfix) with ESMTP id A2F3A40696;
	Fri, 19 Apr 2024 20:12:50 +0200 (CEST)
Received: from mail-qt1-f225.google.com (mail-qt1-f225.google.com
 [209.85.160.225])
 by mails.dpdk.org (Postfix) with ESMTP id D873E40691
 for <test-report@dpdk.org>; Fri, 19 Apr 2024 20:12:48 +0200 (CEST)
Received: by mail-qt1-f225.google.com with SMTP id
 d75a77b69052e-437acd14e7aso5235931cf.2
 for <test-report@dpdk.org>; Fri, 19 Apr 2024 11:12:48 -0700 (PDT)
DKIM-Signature: v=1; a=rsa-sha256; c=relaxed/relaxed;
 d=iol.unh.edu; s=unh-iol; t=1713550368; x=1714155168; darn=dpdk.org;
 h=references:in-reply-to:cc:to:from:subject:message-id:date:from:to
 :cc:subject:date:message-id:reply-to;
 bh=Jnr7KMooPLLwqG9EoGSFXL/LE+S3Do5fEVa9kXPcRnk=;
 b=Rq54NszxwxzgO0q6MmZRemEU14XppHomzTNXU1fTmLuyDfhhRMi5Fii8ljIn2/Rwmw
 1G6uljNPM2Uf8RifR2ipXykZmnUYxgsF2Iw1Pk3RgJAn5nW2IRU5vCD3zxna8zAnDMuY
 6k7FLlTMLUoP5m4wlcGZCp/ZkWJB3m7IC8UYM=
X-Google-DKIM-Signature: v=1; a=rsa-sha256; c=relaxed/relaxed;
 d=1e100.net; s=20230601; t=1713550368; x=1714155168;
 h=references:in-reply-to:cc:to:from:subject:message-id:date
 :x-gm-message-state:from:to:cc:subject:date:message-id:reply-to;
 bh=Jnr7KMooPLLwqG9EoGSFXL/LE+S3Do5fEVa9kXPcRnk=;
 b=ICowKyiD+Qprju16CSGVYgWPuYewRx+6udUu9/07OD0XkslDWhI9HNtI4K8o7unR/v
 lzuLx5zuMJ8MbNB7tpTCqA63+AFYRtSYz5QSNRRCg3rvkk1D74dmjSj+TU+MJeprIe3g
 ktMyf+5B0FRxnZyFqdhLl1whvWw5WxnsBjVAF/xCibYDWPoIzkm665eLRsAdakDykx64
 cKuRcktzy/BiAdVI1/3w3frq0AextAVmD4HEcSA92WV7K7bZv4XooNeg4K9KZ4CsAINg
 XvppWpep8HvY3869Yxvmg8NzKebdmCfuAU2QmDk8m8P5XydYPacDN3fVlEjkDgZMMBYG
 sjtg==
X-Gm-Message-State: AOJu0Ywg3lsW01T9iTv63coD9p/uAnMfe50mbDsCPF0Yaqe5U9kTUM0q
 rTXCaHdQ7W2LxqdcWXVC5GKWQmYJM5iuKfZ1GwbA1FhQ/EyMYKOHL2yiLyTn65BQyBJfdaye5xx
 dOSVm3wyDjkz4ghJO5biRi4XB4S95kTAOmVv+k1rsrso5TX2i/xwv+kj3
X-Google-Smtp-Source: AGHT+IH8XCMoRpPlnkIIY5tgUBtKGJEFmRxUCJKwMDNS0RgfA3rc8YvX2fAe/m1RboREmbiGqNRAVd4c8+xo
X-Received: by 2002:ac8:57cd:0:b0:439:73c:3e5e with SMTP id
 w13-20020ac857cd000000b00439073c3e5emr1817441qta.29.1713550368291; 
 Fri, 19 Apr 2024 11:12:48 -0700 (PDT)
Received: from postal.iol.unh.edu (postal.iol.unh.edu.
 [2606:4100:3880:1234::84]) by smtp-relay.gmail.com with ESMTPS id
 p19-20020a05622a00d300b00437a76b2ac7sm184041qtw.3.2024.04.19.11.12.48
 (version=TLS1_2 cipher=ECDHE-ECDSA-AES128-GCM-SHA256 bits=128/128);
 Fri, 19 Apr 2024 11:12:48 -0700 (PDT)
X-Relaying-Domain: iol.unh.edu
Date: Fri, 19 Apr 2024 11:12:48 -0700 (PDT)
Message-ID: <6622b420.050a0220.4af15.9e3eSMTPIN_ADDED_MISSING@mx.google.com>
Received: from [172.21.0.7] (unknown [172.18.0.240])
 by postal.iol.unh.edu (Postfix) with ESMTP id EFB9A604D420;
 Fri, 19 Apr 2024 14:12:47 -0400 (EDT)
Subject: |SUCCESS| pw139547-139552 [PATCH] [v4,6/6] latencystats: fix for ped
From: dpdklab@iol.unh.edu
To: Test Report <test-report@dpdk.org>
Cc: dpdk-test-reports@iol.unh.edu
In-Reply-To: <20240419172926.55447-7-stephen@networkplumber.org>
References: <20240419172926.55447-7-stephen@networkplumber.org>
Content-Type: text/plain
X-BeenThere: test-report@dpdk.org
X-Mailman-Version: 2.1.29
Precedence: list
List-Id: automatic DPDK test reports <test-report.dpdk.org>
List-Unsubscribe: <https://mails.dpdk.org/options/test-report>,
 <mailto:test-report-request@dpdk.org?subject=unsubscribe>
List-Archive: <http://mails.dpdk.org/archives/test-report/>
List-Post: <mailto:test-report@dpdk.org>
List-Help: <mailto:test-report-request@dpdk.org?subject=help>
List-Subscribe: <https://mails.dpdk.org/listinfo/test-report>,
 <mailto:test-report-request@dpdk.org?subject=subscribe>
Errors-To: test-report-bounces@dpdk.org

Test-Label: iol-compile-amd64-testing
Test-Status: SUCCESS
http://dpdk.org/patch/139552

_Testing PASS_

Submitter: Stephen Hemminger <stephen@networkplumber.org>
Date: Friday, April 19 2024 17:28:26 
DPDK git baseline: Repo:dpdk
  Branch: master
  CommitID:7e06c0de1952d3109a5b0c4779d7e7d8059c9d78

139547-139552 --> testing pass

Test environment and result as below:

+---------------------+--------------------+----------------------+-------------------+
|     Environment     | dpdk_meson_compile | dpdk_mingw64_compile | dpdk_msvc_compile |
+=====================+====================+======================+===================+
| FreeBSD 13.2        | PASS               | SKIPPED              | SKIPPED           |
+---------------------+--------------------+----------------------+-------------------+
| Windows Server 2022 | PASS               | PASS                 | PASS              |
+---------------------+--------------------+----------------------+-------------------+
| Debian Bullseye     | PASS               | SKIPPED              | SKIPPED           |
+---------------------+--------------------+----------------------+-------------------+
| CentOS Stream 8     | PASS               | SKIPPED              | SKIPPED           |
+---------------------+--------------------+----------------------+-------------------+
| CentOS Stream 9     | PASS               | SKIPPED              | SKIPPED           |
+---------------------+--------------------+----------------------+-------------------+
| Windows Server 2019 | PASS               | PASS                 | SKIPPED           |
+---------------------+--------------------+----------------------+-------------------+


FreeBSD 13.2
	Kernel: 13.2
	Compiler: clang 14.0.5

Windows Server 2022
	Kernel: 10.0.20348.2031
	Compiler: clang 15.0.7, gcc 8.1.0 (MinGW), and MSVC VS 17.9

Debian Bullseye
	Kernel: 5.4.0-167-generic
	Compiler: gcc 10.2.1-6

CentOS Stream 8
	Kernel: 5.4.0-167-generic
	Compiler: gcc 8.5.0 20210514

CentOS Stream 9
	Kernel: 5.4.0-167-generic
	Compiler: gcc 11.4.1 20230605

Windows Server 2019
	Kernel: 10.0.17763
	Compiler: clang 14.0 and gcc 8.1.0 (MinGW)

To view detailed results, visit:
https://lab.dpdk.org/results/dashboard/patchsets/29830/

UNH-IOL DPDK Community Lab

To manage your email subscriptions, visit: 
https://lab.dpdk.org/results/dashboard/preferences/subscriptions/