From mboxrd@z Thu Jan  1 00:00:00 1970
Return-Path: <test-report-bounces@dpdk.org>
Received: from mails.dpdk.org (mails.dpdk.org [217.70.189.124])
	by inbox.dpdk.org (Postfix) with ESMTP id 24AF943EB3
	for <public@inbox.dpdk.org>; Fri, 19 Apr 2024 20:16:21 +0200 (CEST)
Received: from mails.dpdk.org (localhost [127.0.0.1])
	by mails.dpdk.org (Postfix) with ESMTP id 1B42A40696;
	Fri, 19 Apr 2024 20:16:21 +0200 (CEST)
Received: from mail-oo1-f98.google.com (mail-oo1-f98.google.com
 [209.85.161.98]) by mails.dpdk.org (Postfix) with ESMTP id 1E27140691
 for <test-report@dpdk.org>; Fri, 19 Apr 2024 20:16:20 +0200 (CEST)
Received: by mail-oo1-f98.google.com with SMTP id
 006d021491bc7-5aa27dba8a1so1579842eaf.0
 for <test-report@dpdk.org>; Fri, 19 Apr 2024 11:16:20 -0700 (PDT)
DKIM-Signature: v=1; a=rsa-sha256; c=relaxed/relaxed;
 d=iol.unh.edu; s=unh-iol; t=1713550579; x=1714155379; darn=dpdk.org;
 h=references:in-reply-to:cc:to:from:subject:message-id:date:from:to
 :cc:subject:date:message-id:reply-to;
 bh=9hDMbhQvf4Iq+XGDwq5QRtG64jBK6Q3Qr2x1uroQfCk=;
 b=RgKTeoqrdRoSQVNTy+L6Wtz8Z2Lw11SfW4YwYB30+ewEsscnMcITH05PI/KU+gkypF
 Uuoq6zvT8H9aUKqzk+aeai1eokIgd/YAhHc2EdtRDd6XV0Q1xj5u7rZ4WE3anXVOWIDt
 4yysb3/G+LDDL5XpjpjiczgJqxGJLDqwcSkSI=
X-Google-DKIM-Signature: v=1; a=rsa-sha256; c=relaxed/relaxed;
 d=1e100.net; s=20230601; t=1713550579; x=1714155379;
 h=references:in-reply-to:cc:to:from:subject:message-id:date
 :x-gm-message-state:from:to:cc:subject:date:message-id:reply-to;
 bh=9hDMbhQvf4Iq+XGDwq5QRtG64jBK6Q3Qr2x1uroQfCk=;
 b=jDwio5FOOj0ue4n8mKdpmQLt2m8rc0XVsH7FYQSvTlAGEu+aQ7oJ9NPfiKi2x2c2VX
 X9SRHKdNbjPjSd4iu4Luo3LtFLgxXMLXsB1t+3b5aAKTJjS6w08sagqww+EQj1TSgrTk
 7QKZVMpsAi0icKEvu5OItk32OSVX8PDIMcDa+Q2U7IGq1PJ5qpR/hye3ey/OcKkkNkY/
 VRqSxvIY5nXnvBDtAluiRsYG83Ni3nlFj5GyVP6od6CM4+VPbFYGClCkvfY+2uIQk6Yv
 G1MU9GjjcOp2EawAAibR+GpZy07b4I8HDhyI1ln9YYj7tKJGT8n5jtcvVwXWPUg1EocB
 MTeQ==
X-Gm-Message-State: AOJu0YyECaX5CPJ+FYd+wq+/DqY3vya24U+I0Mziq2u60fBN6B7sPmOr
 y78kqbuv9VHmw5kN+7e+8dHLETc3J+PjI9MfV+71FRDqf/ZWWdE2FOyZe+e3PUqHMh7V8YfDfBl
 0ItvAy01jIcev5c+4ue/FH9sUwy1/QlTQZxiYO4winF0s0tzKFh9ENoaJ
X-Google-Smtp-Source: AGHT+IErd9QDVNAeJ0VzEc+5WAXiPnHbBrXHnPhtVZaxqD/BH2I+EQ9EBB8BDWzCRWJdk2vnhPHkSgsqQNhB
X-Received: by 2002:a05:6820:27c2:b0:5ad:ec7:1d76 with SMTP id
 dd2-20020a05682027c200b005ad0ec71d76mr3212825oob.0.1713550579497; 
 Fri, 19 Apr 2024 11:16:19 -0700 (PDT)
Received: from postal.iol.unh.edu (postal.iol.unh.edu.
 [2606:4100:3880:1234::84]) by smtp-relay.gmail.com with ESMTPS id
 129-20020a4a1d87000000b005a9db549953sm338027oog.15.2024.04.19.11.16.19
 (version=TLS1_2 cipher=ECDHE-ECDSA-AES128-GCM-SHA256 bits=128/128);
 Fri, 19 Apr 2024 11:16:19 -0700 (PDT)
X-Relaying-Domain: iol.unh.edu
Date: Fri, 19 Apr 2024 11:16:19 -0700 (PDT)
Message-ID: <6622b4f3.4a0a0220.fb13e.375fSMTPIN_ADDED_MISSING@mx.google.com>
Received: from [172.21.0.6] (unknown [172.18.0.240])
 by postal.iol.unh.edu (Postfix) with ESMTP id 01945604D420;
 Fri, 19 Apr 2024 14:16:19 -0400 (EDT)
Subject: |SUCCESS| pw139547-139552 [PATCH] [v4,6/6] latencystats: fix for ped
From: dpdklab@iol.unh.edu
To: Test Report <test-report@dpdk.org>
Cc: dpdk-test-reports@iol.unh.edu
In-Reply-To: <20240419172926.55447-7-stephen@networkplumber.org>
References: <20240419172926.55447-7-stephen@networkplumber.org>
Content-Type: text/plain
X-BeenThere: test-report@dpdk.org
X-Mailman-Version: 2.1.29
Precedence: list
List-Id: automatic DPDK test reports <test-report.dpdk.org>
List-Unsubscribe: <https://mails.dpdk.org/options/test-report>,
 <mailto:test-report-request@dpdk.org?subject=unsubscribe>
List-Archive: <http://mails.dpdk.org/archives/test-report/>
List-Post: <mailto:test-report@dpdk.org>
List-Help: <mailto:test-report-request@dpdk.org?subject=help>
List-Subscribe: <https://mails.dpdk.org/listinfo/test-report>,
 <mailto:test-report-request@dpdk.org?subject=subscribe>
Errors-To: test-report-bounces@dpdk.org

Test-Label: iol-compile-amd64-testing
Test-Status: SUCCESS
http://dpdk.org/patch/139552

_Testing PASS_

Submitter: Stephen Hemminger <stephen@networkplumber.org>
Date: Friday, April 19 2024 17:28:26 
DPDK git baseline: Repo:dpdk
  Branch: master
  CommitID:7e06c0de1952d3109a5b0c4779d7e7d8059c9d78

139547-139552 --> testing pass

Test environment and result as below:

+---------------------+--------------------+----------------------+-------------------+
|     Environment     | dpdk_meson_compile | dpdk_mingw64_compile | dpdk_msvc_compile |
+=====================+====================+======================+===================+
| FreeBSD 13.2        | PASS               | SKIPPED              | SKIPPED           |
+---------------------+--------------------+----------------------+-------------------+
| Windows Server 2022 | PASS               | PASS                 | PASS              |
+---------------------+--------------------+----------------------+-------------------+
| Debian Bullseye     | PASS               | SKIPPED              | SKIPPED           |
+---------------------+--------------------+----------------------+-------------------+
| CentOS Stream 8     | PASS               | SKIPPED              | SKIPPED           |
+---------------------+--------------------+----------------------+-------------------+
| CentOS Stream 9     | PASS               | SKIPPED              | SKIPPED           |
+---------------------+--------------------+----------------------+-------------------+
| Windows Server 2019 | PASS               | PASS                 | SKIPPED           |
+---------------------+--------------------+----------------------+-------------------+
| Fedora 39           | PASS               | SKIPPED              | SKIPPED           |
+---------------------+--------------------+----------------------+-------------------+


FreeBSD 13.2
	Kernel: 13.2
	Compiler: clang 14.0.5

Windows Server 2022
	Kernel: 10.0.20348.2031
	Compiler: clang 15.0.7, gcc 8.1.0 (MinGW), and MSVC VS 17.9

Debian Bullseye
	Kernel: 5.4.0-167-generic
	Compiler: gcc 10.2.1-6

CentOS Stream 8
	Kernel: 5.4.0-167-generic
	Compiler: gcc 8.5.0 20210514

CentOS Stream 9
	Kernel: 5.4.0-167-generic
	Compiler: gcc 11.4.1 20230605

Windows Server 2019
	Kernel: 10.0.17763
	Compiler: clang 14.0 and gcc 8.1.0 (MinGW)

Fedora 39
	Kernel: Depends on container host
	Compiler: clang 17.0.6

To view detailed results, visit:
https://lab.dpdk.org/results/dashboard/patchsets/29830/

UNH-IOL DPDK Community Lab

To manage your email subscriptions, visit: 
https://lab.dpdk.org/results/dashboard/preferences/subscriptions/