From mboxrd@z Thu Jan  1 00:00:00 1970
Return-Path: <test-report-bounces@dpdk.org>
Received: from mails.dpdk.org (mails.dpdk.org [217.70.189.124])
	by inbox.dpdk.org (Postfix) with ESMTP id 2EFB543EB3
	for <public@inbox.dpdk.org>; Fri, 19 Apr 2024 20:19:21 +0200 (CEST)
Received: from mails.dpdk.org (localhost [127.0.0.1])
	by mails.dpdk.org (Postfix) with ESMTP id 2B6FB40696;
	Fri, 19 Apr 2024 20:19:21 +0200 (CEST)
Received: from mail-yb1-f225.google.com (mail-yb1-f225.google.com
 [209.85.219.225])
 by mails.dpdk.org (Postfix) with ESMTP id 9862540691
 for <test-report@dpdk.org>; Fri, 19 Apr 2024 20:19:19 +0200 (CEST)
Received: by mail-yb1-f225.google.com with SMTP id
 3f1490d57ef6-dcc6fc978ddso1978579276.0
 for <test-report@dpdk.org>; Fri, 19 Apr 2024 11:19:19 -0700 (PDT)
DKIM-Signature: v=1; a=rsa-sha256; c=relaxed/relaxed;
 d=iol.unh.edu; s=unh-iol; t=1713550759; x=1714155559; darn=dpdk.org;
 h=references:in-reply-to:cc:to:from:subject:message-id:date:from:to
 :cc:subject:date:message-id:reply-to;
 bh=VZGigiZbMBGm/xcb9SWbHAEekJTXYC2H2b/2CJNi6TY=;
 b=I65kX7++D8kTRAuyArOkLrZdWchXX0PrcXNNRasnX3E84UJm1Ph9zk3bffw5CMolSm
 ssvWBKot2LQYz8RN9aW0MTPebrPOh+9WjWN8s9+BXely6AlmEtv35hikoDlZvsegOxrt
 uyHfchUISnlo8gp5u2GvYr4JzvhVw/6fvai+g=
X-Google-DKIM-Signature: v=1; a=rsa-sha256; c=relaxed/relaxed;
 d=1e100.net; s=20230601; t=1713550759; x=1714155559;
 h=references:in-reply-to:cc:to:from:subject:message-id:date
 :x-gm-message-state:from:to:cc:subject:date:message-id:reply-to;
 bh=VZGigiZbMBGm/xcb9SWbHAEekJTXYC2H2b/2CJNi6TY=;
 b=Ap2xtC4h7ACF0U4QoU55GnzDpTRTUUeYOe6QgOG4Awwfd7hEJiW9gE1kgFUOoOLi6E
 KG448Wzn6ZxxJDVBPXFk4z5mV74WEl64dK+ZgOJSlFha3kDRHgoxORIqsurF9wvHr7Oo
 v+BCJT9PMgJrfHewtcHaN+md1dcOLaJrzpw/8D7uEN5vmQJFuSkFhIuxfeJSjfQn0CDI
 MzjaIRmqXfI4XDroCGWEbbuhpJwFy4iAGFka7+mDL4KO9cvuWqkVbT/l6f1I+2CuO7/a
 qRGhbXntOVPKCP8SHm2rWsdEuBTjK/+SROV3+aQEnwyATveNl0qzwLteJR7IzeV2XKLc
 7TKw==
X-Gm-Message-State: AOJu0YymfZONGQ6r26CpraKhCXnIXVsv6EkXrIl7NHdHSYVQalAWXQj8
 /CmLsrdBT024Vs3LFw7oyI2mqyeY8SofjUxFm7Dg78v0+LWNiRpfDbT08yJW+UuppGt+fYZWO74
 PARXhEK8ehMz0nPAbe7DLYKW87G0+efRZ4CXudFlcHcKZEsdU0DGKbu3M
X-Google-Smtp-Source: AGHT+IFO3pDt6KC9Cea0tiimzcJabLI49ihRblhT7x7yqkMh3UwltK5xvZNaco8Plv4ywJ97gHkeYKZ+ecU2
X-Received: by 2002:a25:d806:0:b0:dcd:9a9b:8d7e with SMTP id
 p6-20020a25d806000000b00dcd9a9b8d7emr5040409ybg.9.1713550758414; 
 Fri, 19 Apr 2024 11:19:18 -0700 (PDT)
Received: from postal.iol.unh.edu (postal.iol.unh.edu.
 [2606:4100:3880:1234::84]) by smtp-relay.gmail.com with ESMTPS id
 ca13-20020a056902178d00b00dcde0ca8735sm186426ybb.10.2024.04.19.11.19.18
 (version=TLS1_2 cipher=ECDHE-ECDSA-AES128-GCM-SHA256 bits=128/128);
 Fri, 19 Apr 2024 11:19:18 -0700 (PDT)
X-Relaying-Domain: iol.unh.edu
Date: Fri, 19 Apr 2024 11:19:18 -0700 (PDT)
Message-ID: <6622b5a6.050a0220.c1c9d.a3e7SMTPIN_ADDED_MISSING@mx.google.com>
Received: from [172.21.0.6] (unknown [172.18.0.240])
 by postal.iol.unh.edu (Postfix) with ESMTP id 0B380604D420;
 Fri, 19 Apr 2024 14:19:18 -0400 (EDT)
Subject: |SUCCESS| pw139547-139552 [PATCH] [v4,6/6] latencystats: fix for ped
From: dpdklab@iol.unh.edu
To: Test Report <test-report@dpdk.org>
Cc: dpdk-test-reports@iol.unh.edu
In-Reply-To: <20240419172926.55447-7-stephen@networkplumber.org>
References: <20240419172926.55447-7-stephen@networkplumber.org>
Content-Type: text/plain
X-BeenThere: test-report@dpdk.org
X-Mailman-Version: 2.1.29
Precedence: list
List-Id: automatic DPDK test reports <test-report.dpdk.org>
List-Unsubscribe: <https://mails.dpdk.org/options/test-report>,
 <mailto:test-report-request@dpdk.org?subject=unsubscribe>
List-Archive: <http://mails.dpdk.org/archives/test-report/>
List-Post: <mailto:test-report@dpdk.org>
List-Help: <mailto:test-report-request@dpdk.org?subject=help>
List-Subscribe: <https://mails.dpdk.org/listinfo/test-report>,
 <mailto:test-report-request@dpdk.org?subject=subscribe>
Errors-To: test-report-bounces@dpdk.org

Test-Label: iol-unit-arm64-testing
Test-Status: SUCCESS
http://dpdk.org/patch/139552

_Testing PASS_

Submitter: Stephen Hemminger <stephen@networkplumber.org>
Date: Friday, April 19 2024 17:28:26 
DPDK git baseline: Repo:dpdk
  Branch: master
  CommitID:7e06c0de1952d3109a5b0c4779d7e7d8059c9d78

139547-139552 --> testing pass

Test environment and result as below:

+--------------------------+---------------------------+------------------------------+----------------+
|       Environment        | cryptodev_sw_zuc_autotest | cryptodev_sw_snow3g_autotest | dpdk_unit_test |
+==========================+===========================+==============================+================+
| Debian 12 (arm)          | PASS                      | PASS                         | SKIPPED        |
+--------------------------+---------------------------+------------------------------+----------------+
| Debian 11 (Buster) (ARM) | SKIPPED                   | SKIPPED                      | PASS           |
+--------------------------+---------------------------+------------------------------+----------------+


Debian 12 (arm)
	Kernel: Container Host Kernel
	Compiler: gcc 12.2.0

Debian 11 (Buster) (ARM)
	Kernel: Container Host Kernel
	Compiler: gcc 10.2.1

To view detailed results, visit:
https://lab.dpdk.org/results/dashboard/patchsets/29830/

UNH-IOL DPDK Community Lab

To manage your email subscriptions, visit: 
https://lab.dpdk.org/results/dashboard/preferences/subscriptions/