From mboxrd@z Thu Jan  1 00:00:00 1970
Return-Path: <test-report-bounces@dpdk.org>
Received: from mails.dpdk.org (mails.dpdk.org [217.70.189.124])
	by inbox.dpdk.org (Postfix) with ESMTP id 8AE3643EB3
	for <public@inbox.dpdk.org>; Fri, 19 Apr 2024 20:20:30 +0200 (CEST)
Received: from mails.dpdk.org (localhost [127.0.0.1])
	by mails.dpdk.org (Postfix) with ESMTP id 860FF40696;
	Fri, 19 Apr 2024 20:20:30 +0200 (CEST)
Received: from mail-yw1-f226.google.com (mail-yw1-f226.google.com
 [209.85.128.226])
 by mails.dpdk.org (Postfix) with ESMTP id EEC4E40691
 for <test-report@dpdk.org>; Fri, 19 Apr 2024 20:20:28 +0200 (CEST)
Received: by mail-yw1-f226.google.com with SMTP id
 00721157ae682-61b3be24dd9so4830807b3.0
 for <test-report@dpdk.org>; Fri, 19 Apr 2024 11:20:28 -0700 (PDT)
DKIM-Signature: v=1; a=rsa-sha256; c=relaxed/relaxed;
 d=iol.unh.edu; s=unh-iol; t=1713550828; x=1714155628; darn=dpdk.org;
 h=references:in-reply-to:cc:to:from:subject:message-id:date:from:to
 :cc:subject:date:message-id:reply-to;
 bh=VZGigiZbMBGm/xcb9SWbHAEekJTXYC2H2b/2CJNi6TY=;
 b=OKDNsPSbnjbgZw2qvhTWcu8FTKHN4fGKN2gxxINibuX89/JgwXCVYG2R0UZlukbl5X
 ItR2Y4Nyg0W9T9h7oeAUGKOQxSqDSYL/VypO9mHEcwUQOH5nVWpQGQplCygiGjiiCXa9
 Dp8zsYVcDAioDvBKv8tDN9Yu0KlqDm1MtxroM=
X-Google-DKIM-Signature: v=1; a=rsa-sha256; c=relaxed/relaxed;
 d=1e100.net; s=20230601; t=1713550828; x=1714155628;
 h=references:in-reply-to:cc:to:from:subject:message-id:date
 :x-gm-message-state:from:to:cc:subject:date:message-id:reply-to;
 bh=VZGigiZbMBGm/xcb9SWbHAEekJTXYC2H2b/2CJNi6TY=;
 b=NFfy6WmUVxNCssqivmi0xN7cRCg0eSdAEz1f6YiyAYYSUfVZdpcgBGYFzqb0uEcexL
 KE22sVWBQYryvSekSDeB4dWqi9KVBXYvRQ5segZRuyBf8ADD67sJBPXRp3P6yLzyVPE0
 uTkpsbmnvSC2m0JLmQl2qXD4og4YPjTrRwcMfkP3ig31bjGWUFODFsE1JyvJkYVIHb5z
 D1uXkejezdcc+ri46d62St2y2eqNhUXuk6wqGnN05CWPRsxibRRYq2hjJK10stc6JsO4
 MAWjZ2xUzTUXTXYuXeXrJVzkqYieETSeBdpDR2QCVVGzLj80Wl7xQlcSGQHkCqzu3mbE
 ZUgA==
X-Gm-Message-State: AOJu0YyPQfk5yf2L9MjBtcJxH0Z6DqeJ5ASVV9wSrZkoNKOxD0TQZSAc
 rHCRpKRYGtiIJuA36dHRfur24fP76AIvEbbHLBqCFYw/eDKSfohLyBcpN+/Q5/JEE7H/cTa0qXg
 HBXSFTy6AR515kkFpnuDwqdUehftyn9sK/1QEMz0z
X-Google-Smtp-Source: AGHT+IHRjgeOo2Nc5Kwj+rWfnLEU+hzEZabD8UddoWiJThyts4oD1c19lO+gm4Zy4hg/FTa5epDL4NDLSNVV
X-Received: by 2002:a05:690c:f81:b0:618:92dc:c2f3 with SMTP id
 df1-20020a05690c0f8100b0061892dcc2f3mr2509919ywb.23.1713550827838; 
 Fri, 19 Apr 2024 11:20:27 -0700 (PDT)
Received: from postal.iol.unh.edu (postal.iol.unh.edu. [132.177.123.84])
 by smtp-relay.gmail.com with ESMTPS id
 j5-20020a816e05000000b0061adb2484a5sm298672ywc.5.2024.04.19.11.20.27
 (version=TLS1_2 cipher=ECDHE-ECDSA-AES128-GCM-SHA256 bits=128/128);
 Fri, 19 Apr 2024 11:20:27 -0700 (PDT)
X-Relaying-Domain: iol.unh.edu
Date: Fri, 19 Apr 2024 11:20:27 -0700 (PDT)
Message-ID: <6622b5eb.810a0220.88ed9.0dbbSMTPIN_ADDED_MISSING@mx.google.com>
Received: from [172.21.0.6] (unknown [172.18.0.240])
 by postal.iol.unh.edu (Postfix) with ESMTP id 7BAA7604D420;
 Fri, 19 Apr 2024 14:20:27 -0400 (EDT)
Subject: |SUCCESS| pw139547-139552 [PATCH] [v4,6/6] latencystats: fix for ped
From: dpdklab@iol.unh.edu
To: Test Report <test-report@dpdk.org>
Cc: dpdk-test-reports@iol.unh.edu
In-Reply-To: <20240419172926.55447-7-stephen@networkplumber.org>
References: <20240419172926.55447-7-stephen@networkplumber.org>
Content-Type: text/plain
X-BeenThere: test-report@dpdk.org
X-Mailman-Version: 2.1.29
Precedence: list
List-Id: automatic DPDK test reports <test-report.dpdk.org>
List-Unsubscribe: <https://mails.dpdk.org/options/test-report>,
 <mailto:test-report-request@dpdk.org?subject=unsubscribe>
List-Archive: <http://mails.dpdk.org/archives/test-report/>
List-Post: <mailto:test-report@dpdk.org>
List-Help: <mailto:test-report-request@dpdk.org?subject=help>
List-Subscribe: <https://mails.dpdk.org/listinfo/test-report>,
 <mailto:test-report-request@dpdk.org?subject=subscribe>
Errors-To: test-report-bounces@dpdk.org

Test-Label: iol-unit-arm64-testing
Test-Status: SUCCESS
http://dpdk.org/patch/139552

_Testing PASS_

Submitter: Stephen Hemminger <stephen@networkplumber.org>
Date: Friday, April 19 2024 17:28:26 
DPDK git baseline: Repo:dpdk
  Branch: master
  CommitID:7e06c0de1952d3109a5b0c4779d7e7d8059c9d78

139547-139552 --> testing pass

Test environment and result as below:

+--------------------------+---------------------------+------------------------------+----------------+
|       Environment        | cryptodev_sw_zuc_autotest | cryptodev_sw_snow3g_autotest | dpdk_unit_test |
+==========================+===========================+==============================+================+
| Debian 12 (arm)          | PASS                      | PASS                         | SKIPPED        |
+--------------------------+---------------------------+------------------------------+----------------+
| Debian 11 (Buster) (ARM) | SKIPPED                   | SKIPPED                      | PASS           |
+--------------------------+---------------------------+------------------------------+----------------+


Debian 12 (arm)
	Kernel: Container Host Kernel
	Compiler: gcc 12.2.0

Debian 11 (Buster) (ARM)
	Kernel: Container Host Kernel
	Compiler: gcc 10.2.1

To view detailed results, visit:
https://lab.dpdk.org/results/dashboard/patchsets/29830/

UNH-IOL DPDK Community Lab

To manage your email subscriptions, visit: 
https://lab.dpdk.org/results/dashboard/preferences/subscriptions/