From mboxrd@z Thu Jan  1 00:00:00 1970
Return-Path: <test-report-bounces@dpdk.org>
Received: from mails.dpdk.org (mails.dpdk.org [217.70.189.124])
	by inbox.dpdk.org (Postfix) with ESMTP id EBD3643EB3
	for <public@inbox.dpdk.org>; Fri, 19 Apr 2024 20:41:49 +0200 (CEST)
Received: from mails.dpdk.org (localhost [127.0.0.1])
	by mails.dpdk.org (Postfix) with ESMTP id E4F2440698;
	Fri, 19 Apr 2024 20:41:49 +0200 (CEST)
Received: from mail-yw1-f225.google.com (mail-yw1-f225.google.com
 [209.85.128.225])
 by mails.dpdk.org (Postfix) with ESMTP id 96D9C40696
 for <test-report@dpdk.org>; Fri, 19 Apr 2024 20:41:48 +0200 (CEST)
Received: by mail-yw1-f225.google.com with SMTP id
 00721157ae682-617d411a6b3so21966477b3.3
 for <test-report@dpdk.org>; Fri, 19 Apr 2024 11:41:48 -0700 (PDT)
DKIM-Signature: v=1; a=rsa-sha256; c=relaxed/relaxed;
 d=iol.unh.edu; s=unh-iol; t=1713552108; x=1714156908; darn=dpdk.org;
 h=references:in-reply-to:cc:to:from:subject:message-id:date:from:to
 :cc:subject:date:message-id:reply-to;
 bh=0gRiD6xzQ0WGNUafILBRWqe/lA5usTdpYHeQZB2KKWo=;
 b=B7lVj7E0vylUSSkMABeKCYOTluHllmr/Ud40xym0yfBAjHrIbH7xNZBPtDonVvao0R
 L9RfiZ58m2ovCrDexFYFhzQliI2VtUAHFpw7pEu5dyGex9Sa1HjzyA9EGDWw+siUHz2z
 sgopK5q7C4LWSJrafNo73vc+ERi55lvBkLIUY=
X-Google-DKIM-Signature: v=1; a=rsa-sha256; c=relaxed/relaxed;
 d=1e100.net; s=20230601; t=1713552108; x=1714156908;
 h=references:in-reply-to:cc:to:from:subject:message-id:date
 :x-gm-message-state:from:to:cc:subject:date:message-id:reply-to;
 bh=0gRiD6xzQ0WGNUafILBRWqe/lA5usTdpYHeQZB2KKWo=;
 b=CqFneJARl0o1yjgKOijBuFeAE6p5h/K9GML1fnoGk9MW5ODPbzbD2csiZsXfIvsIfZ
 kl9mYNhqbcTuw0GQmZL068wRY4z6XzImtu+Eh+vbA8HTGs2T10feYZj1M1sCl1Yi2jZJ
 jWRU/QIi6/Z4+SqBf1jdKlH5Ecubs04/0lYjBeRSfxzDYuNDuFKQUn6i8tQVscWK6pFX
 4dytL2zAp/F8U/ZpUa1ZN8r9ChW8X+F8WE+3aSP3SeKK0O8ay0hqxkXMBOvaSnRhITqj
 7COOUkk+n0+2iZdtYxDLzDmDlUxSqzDprmQGlCExPWvDwk9Tvi2nNMyEEZBtGbuXDTFu
 s/3w==
X-Gm-Message-State: AOJu0YyWJUUw7e+2sr8+Q53kB89WDRTQP1w7X1e5FXp+C2VKm81qPRbE
 OYblrS5+N16cSijHo7Uau/pp3xmBBrUQ5XxTa7fpuKbGGAtzCfOhFVr2QP3UKNPnK/Z2YKtr4fS
 vV2xk6XkoTLsb4VobMTqjhfHdJ4wHR5HLBAWiA9AK
X-Google-Smtp-Source: AGHT+IGS63heoUzGVjLdHKTWB4C0P5K5jSBkwFO63FcsLQPe4YqC4eByQJnrkPRB26JsUzfTfUnVYvxtgF0w
X-Received: by 2002:a05:690c:6a09:b0:618:7f3c:cbac with SMTP id
 ih9-20020a05690c6a0900b006187f3ccbacmr3303649ywb.31.1713552107981; 
 Fri, 19 Apr 2024 11:41:47 -0700 (PDT)
Received: from postal.iol.unh.edu (postal.iol.unh.edu. [132.177.123.84])
 by smtp-relay.gmail.com with ESMTPS id
 o63-20020a0dfe42000000b00610ee06edb0sm293510ywf.54.2024.04.19.11.41.47
 (version=TLS1_2 cipher=ECDHE-ECDSA-AES128-GCM-SHA256 bits=128/128);
 Fri, 19 Apr 2024 11:41:47 -0700 (PDT)
X-Relaying-Domain: iol.unh.edu
Date: Fri, 19 Apr 2024 11:41:47 -0700 (PDT)
Message-ID: <6622baeb.0d0a0220.67fa7.fc9cSMTPIN_ADDED_MISSING@mx.google.com>
Received: from [172.17.0.4] (unknown [172.18.0.217])
 by postal.iol.unh.edu (Postfix) with ESMTP id 9A9B4604D420;
 Fri, 19 Apr 2024 14:41:47 -0400 (EDT)
Subject: |SUCCESS| pw139547-139552 [PATCH] [v4,6/6] latencystats: fix for ped
From: dpdklab@iol.unh.edu
To: Test Report <test-report@dpdk.org>
Cc: dpdk-test-reports@iol.unh.edu
In-Reply-To: <20240419172926.55447-7-stephen@networkplumber.org>
References: <20240419172926.55447-7-stephen@networkplumber.org>
Content-Type: text/plain
X-BeenThere: test-report@dpdk.org
X-Mailman-Version: 2.1.29
Precedence: list
List-Id: automatic DPDK test reports <test-report.dpdk.org>
List-Unsubscribe: <https://mails.dpdk.org/options/test-report>,
 <mailto:test-report-request@dpdk.org?subject=unsubscribe>
List-Archive: <http://mails.dpdk.org/archives/test-report/>
List-Post: <mailto:test-report@dpdk.org>
List-Help: <mailto:test-report-request@dpdk.org?subject=help>
List-Subscribe: <https://mails.dpdk.org/listinfo/test-report>,
 <mailto:test-report-request@dpdk.org?subject=subscribe>
Errors-To: test-report-bounces@dpdk.org

Test-Label: iol-unit-amd64-testing
Test-Status: SUCCESS
http://dpdk.org/patch/139552

_Testing PASS_

Submitter: Stephen Hemminger <stephen@networkplumber.org>
Date: Friday, April 19 2024 17:28:26 
DPDK git baseline: Repo:dpdk
  Branch: master
  CommitID:7e06c0de1952d3109a5b0c4779d7e7d8059c9d78

139547-139552 --> testing pass

Test environment and result as below:

+---------------------+----------------+
|     Environment     | dpdk_unit_test |
+=====================+================+
| Windows Server 2019 | PASS           |
+---------------------+----------------+
| CentOS Stream 8     | PASS           |
+---------------------+----------------+
| Fedora 37           | PASS           |
+---------------------+----------------+
| Debian Bullseye     | PASS           |
+---------------------+----------------+
| Debian 12           | PASS           |
+---------------------+----------------+


Windows Server 2019
	Kernel: 10.0.17763
	Compiler: clang 14.0 and gcc 8.1.0 (MinGW)

CentOS Stream 8
	Kernel: 5.4.0-167-generic
	Compiler: gcc 8.5.0 20210514

Fedora 37
	Kernel: Depends on container host system
	Compiler: gcc 12.3.1

Debian Bullseye
	Kernel: 5.4.0-167-generic
	Compiler: gcc 10.2.1-6

Debian 12
	Kernel: Container Host Kernel
	Compiler: gcc 10.2.1

To view detailed results, visit:
https://lab.dpdk.org/results/dashboard/patchsets/29830/

UNH-IOL DPDK Community Lab

To manage your email subscriptions, visit: 
https://lab.dpdk.org/results/dashboard/preferences/subscriptions/