From mboxrd@z Thu Jan  1 00:00:00 1970
Return-Path: <test-report-bounces@dpdk.org>
Received: from mails.dpdk.org (mails.dpdk.org [217.70.189.124])
	by inbox.dpdk.org (Postfix) with ESMTP id C5A8843EB3
	for <public@inbox.dpdk.org>; Fri, 19 Apr 2024 20:51:13 +0200 (CEST)
Received: from mails.dpdk.org (localhost [127.0.0.1])
	by mails.dpdk.org (Postfix) with ESMTP id C015140698;
	Fri, 19 Apr 2024 20:51:13 +0200 (CEST)
Received: from mail-yw1-f226.google.com (mail-yw1-f226.google.com
 [209.85.128.226])
 by mails.dpdk.org (Postfix) with ESMTP id 51ECF40696
 for <test-report@dpdk.org>; Fri, 19 Apr 2024 20:51:12 +0200 (CEST)
Received: by mail-yw1-f226.google.com with SMTP id
 00721157ae682-61acfd3fd3fso26077007b3.1
 for <test-report@dpdk.org>; Fri, 19 Apr 2024 11:51:12 -0700 (PDT)
DKIM-Signature: v=1; a=rsa-sha256; c=relaxed/relaxed;
 d=iol.unh.edu; s=unh-iol; t=1713552671; x=1714157471; darn=dpdk.org;
 h=references:in-reply-to:cc:to:from:subject:message-id:date:from:to
 :cc:subject:date:message-id:reply-to;
 bh=b1gNYHdV8VRlEuavBQDDewQU68tN2zMgrJUYXvYW+8k=;
 b=L4RdvWmPdZc9DMz5Bhmz/HE2GSLQsW0S6/3EMf9k5WKot8KNtpoxTLSRalYcrvp0PX
 vRKuNULV/e8+Uu1FbFHnFLHF9ajrV2jdQuC5CaKQ1CE9eKGLckWq6zFbDFrjbrDVWda4
 I7CHqmjp83BBfZqTNh9gJ2FnK+aWKiD6HKNm0=
X-Google-DKIM-Signature: v=1; a=rsa-sha256; c=relaxed/relaxed;
 d=1e100.net; s=20230601; t=1713552671; x=1714157471;
 h=references:in-reply-to:cc:to:from:subject:message-id:date
 :x-gm-message-state:from:to:cc:subject:date:message-id:reply-to;
 bh=b1gNYHdV8VRlEuavBQDDewQU68tN2zMgrJUYXvYW+8k=;
 b=cS1czWZeEVYSSsygtntzrz1anXWuGE3DGfQ6LJsTD0Nbgb4qpOLEd3jGXeEirP4FMx
 HXBOE+8Q74SaT9iSqGfOFuYJ8wyPOfifMyPFcsfDih+5cILD0TNaYpjDUm7NsSKFJNo2
 8VGnghOEMYov3rGui+47rijc6bxfpBxKPHMCwL5YJBRiZSAPqznyY12SxVSh9KKPLAjv
 icWlMfNTs7ywWk++FL56tmXj4SHMabOol18qSIbhNQ6PMht4+axRSn2PD8xWRnykwYGs
 DLOEJV/2cGOtDluHInwKsWnppD8ChTgmInhPl4wXzv0kNHMD7pEt232XSEp2q9soQ2xG
 cNhQ==
X-Gm-Message-State: AOJu0YzFKguA0duKvrLx/Pe7v2vZHOX+EbS1dmOFBHG2ENAaYjdBhfLY
 J87vwP0197q/DVa2UJUSAxtKUn7ThIMAVJqin/cKPpOZwEzKHIKi2VsmHYD7ePjdbNFzsqAowCJ
 V4iX9lR6vEJCJFdXeEg2qt0Ims5LKtmyyuMYPJHk+
X-Google-Smtp-Source: AGHT+IFYyrldgk/1AUBZRKNLcud5rUZCb85gxWKprhy7lw+YDyP6hXJ5owFwsGjlw8oTDgpK/867yGWWM5h/
X-Received: by 2002:a05:690c:3346:b0:61b:33fb:5759 with SMTP id
 fk6-20020a05690c334600b0061b33fb5759mr2643477ywb.1.1713552671615; 
 Fri, 19 Apr 2024 11:51:11 -0700 (PDT)
Received: from postal.iol.unh.edu (postal.iol.unh.edu. [132.177.123.84])
 by smtp-relay.gmail.com with ESMTPS id
 x184-20020a8187c1000000b0061518612867sm298504ywf.72.2024.04.19.11.51.11
 (version=TLS1_2 cipher=ECDHE-ECDSA-AES128-GCM-SHA256 bits=128/128);
 Fri, 19 Apr 2024 11:51:11 -0700 (PDT)
X-Relaying-Domain: iol.unh.edu
Date: Fri, 19 Apr 2024 11:51:11 -0700 (PDT)
Message-ID: <6622bd1f.810a0220.29d52.10a6SMTPIN_ADDED_MISSING@mx.google.com>
Received: from [172.17.0.4] (unknown [172.18.0.217])
 by postal.iol.unh.edu (Postfix) with ESMTP id 3C02F604D420;
 Fri, 19 Apr 2024 14:51:11 -0400 (EDT)
Subject: |SUCCESS| pw139547-139552 [PATCH] [v4,6/6] latencystats: fix for ped
From: dpdklab@iol.unh.edu
To: Test Report <test-report@dpdk.org>
Cc: dpdk-test-reports@iol.unh.edu
In-Reply-To: <20240419172926.55447-7-stephen@networkplumber.org>
References: <20240419172926.55447-7-stephen@networkplumber.org>
Content-Type: text/plain
X-BeenThere: test-report@dpdk.org
X-Mailman-Version: 2.1.29
Precedence: list
List-Id: automatic DPDK test reports <test-report.dpdk.org>
List-Unsubscribe: <https://mails.dpdk.org/options/test-report>,
 <mailto:test-report-request@dpdk.org?subject=unsubscribe>
List-Archive: <http://mails.dpdk.org/archives/test-report/>
List-Post: <mailto:test-report@dpdk.org>
List-Help: <mailto:test-report-request@dpdk.org?subject=help>
List-Subscribe: <https://mails.dpdk.org/listinfo/test-report>,
 <mailto:test-report-request@dpdk.org?subject=subscribe>
Errors-To: test-report-bounces@dpdk.org

Test-Label: iol-abi-testing
Test-Status: SUCCESS
http://dpdk.org/patch/139552

_Testing PASS_

Submitter: Stephen Hemminger <stephen@networkplumber.org>
Date: Friday, April 19 2024 17:28:26 
DPDK git baseline: Repo:dpdk
  Branch: master
  CommitID:7e06c0de1952d3109a5b0c4779d7e7d8059c9d78

139547-139552 --> testing pass

Test environment and result as below:

+------------------+----------+
|   Environment    | abi_test |
+==================+==========+
| openSUSE Leap 15 | PASS     |
+------------------+----------+
| CentOS Stream 9  | PASS     |
+------------------+----------+
| Ubuntu 22.04     | PASS     |
+------------------+----------+
| Fedora 38        | PASS     |
+------------------+----------+
| Fedora 39        | PASS     |
+------------------+----------+
| CentOS Stream 8  | PASS     |
+------------------+----------+
| RHEL8            | PASS     |
+------------------+----------+
| Fedora 37        | PASS     |
+------------------+----------+
| Debian Bullseye  | PASS     |
+------------------+----------+
| Debian 12        | PASS     |
+------------------+----------+


openSUSE Leap 15
	Kernel: 5.4.0-167-generic
	Compiler: gcc 7.5.0

CentOS Stream 9
	Kernel: 5.4.0-167-generic
	Compiler: gcc 11.4.1 20230605

Ubuntu 22.04
	Kernel: 5.4.0-167-generic
	Compiler: gcc 11.4.0

Fedora 38
	Kernel: Depends on container host
	Compiler: clang 16.0.6

Fedora 39
	Kernel: Depends on container host
	Compiler: clang 17.0.6

CentOS Stream 8
	Kernel: 5.4.0-167-generic
	Compiler: gcc 8.5.0 20210514

RHEL8
	Kernel: 5.4.0-167-generic
	Compiler: gcc 8.5.0 20210514 (Red Hat 8.5.0-20)

Fedora 37
	Kernel: Depends on container host system
	Compiler: gcc 12.3.1

Debian Bullseye
	Kernel: 5.4.0-167-generic
	Compiler: gcc 10.2.1-6

Debian 12
	Kernel: Container Host Kernel
	Compiler: gcc 10.2.1

To view detailed results, visit:
https://lab.dpdk.org/results/dashboard/patchsets/29830/

UNH-IOL DPDK Community Lab

To manage your email subscriptions, visit: 
https://lab.dpdk.org/results/dashboard/preferences/subscriptions/