From mboxrd@z Thu Jan  1 00:00:00 1970
Return-Path: <test-report-bounces@dpdk.org>
Received: from mails.dpdk.org (mails.dpdk.org [217.70.189.124])
	by inbox.dpdk.org (Postfix) with ESMTP id 6560443EB3
	for <public@inbox.dpdk.org>; Fri, 19 Apr 2024 21:29:27 +0200 (CEST)
Received: from mails.dpdk.org (localhost [127.0.0.1])
	by mails.dpdk.org (Postfix) with ESMTP id 5ED6740698;
	Fri, 19 Apr 2024 21:29:27 +0200 (CEST)
Received: from mail-pl1-f226.google.com (mail-pl1-f226.google.com
 [209.85.214.226])
 by mails.dpdk.org (Postfix) with ESMTP id D662D40696
 for <test-report@dpdk.org>; Fri, 19 Apr 2024 21:29:26 +0200 (CEST)
Received: by mail-pl1-f226.google.com with SMTP id
 d9443c01a7336-1e504f58230so21896105ad.2
 for <test-report@dpdk.org>; Fri, 19 Apr 2024 12:29:26 -0700 (PDT)
DKIM-Signature: v=1; a=rsa-sha256; c=relaxed/relaxed;
 d=iol.unh.edu; s=unh-iol; t=1713554966; x=1714159766; darn=dpdk.org;
 h=references:in-reply-to:cc:to:from:subject:message-id:date:from:to
 :cc:subject:date:message-id:reply-to;
 bh=aKKtcHfXU3BxnJGcw+Rgl2yNKJKjNEI6ChHrxardAfw=;
 b=c13L5v79G/ZAFD+MI0/Kl5fEB7QJJNZ4EXPn09VOjTyTmts9eglRkz29Azo+ex0w1B
 NMEf+msuTvmpP4r6G/6qCOvl9UZOvDxujtgv+ZqaEYvnmUBUBZRqdeDKyJcAi92rFpFM
 hStIiF0Eby7HenrSRNssntkGkFuPHYoJ+WWiE=
X-Google-DKIM-Signature: v=1; a=rsa-sha256; c=relaxed/relaxed;
 d=1e100.net; s=20230601; t=1713554966; x=1714159766;
 h=references:in-reply-to:cc:to:from:subject:message-id:date
 :x-gm-message-state:from:to:cc:subject:date:message-id:reply-to;
 bh=aKKtcHfXU3BxnJGcw+Rgl2yNKJKjNEI6ChHrxardAfw=;
 b=Tl6TqiSbHy2iIUj52RaJtm6bYt5Pvk4cVfiCq+vPc3DG27CjRVl9AIUMWwJK84ASPT
 gRt3gsQPw3Jq39SXgXtFwh3P+TkJtcBH6hW8UkCiKo3Wi5GtFGtpKiFFZ7yWF/qAk425
 nCaEKolB2TOHjcOze0drNl3z7CK6HYAADbaALSZ1VD4QX3cE8wKKWKYj7YyCxeL+JKfr
 U5Zhia0PlcWxf6BQOCMb52hNrxHgXVtGg8yMADtHw0yHTfFUUUzdwEq2wpcUu64Yrljy
 udoeQpkCIVCrw9noCJh1y44PJI/VhENiAXG+94x7vxrG2mOkIJ9cGN2Au/JvbgErxrps
 aQwg==
X-Gm-Message-State: AOJu0YwXPyoQsKJWPNpkFb3j24H0QGmnMBu8XHyENU27Oly9zlEyGRue
 lrS2Bkb3sSzhXcaO01IvkJ6TeFxSPzH9JfHDazoMlPpKWO20PsNzuVdfLDZH9QbvHu5AzWTM9nI
 hNNffkwDNHUMrODdLj9YL6++7zCRGAcxL+xZmgwIl
X-Google-Smtp-Source: AGHT+IEbpNxAczW3cvW7SFEUC4Eb8gpkxEyB7SV2rfkA2/u68jt3zOwiDLj0lBkdCPVllS3oLhR4ZQW/UCJH
X-Received: by 2002:a17:903:18d:b0:1e4:2451:c2b5 with SMTP id
 z13-20020a170903018d00b001e42451c2b5mr4005670plg.13.1713554966041; 
 Fri, 19 Apr 2024 12:29:26 -0700 (PDT)
Received: from postal.iol.unh.edu (postal.iol.unh.edu. [132.177.123.84])
 by smtp-relay.gmail.com with ESMTPS id
 t2-20020a170902a5c200b001e2ae4aa486sm146774plq.130.2024.04.19.12.29.24
 (version=TLS1_2 cipher=ECDHE-ECDSA-AES128-GCM-SHA256 bits=128/128);
 Fri, 19 Apr 2024 12:29:26 -0700 (PDT)
X-Relaying-Domain: iol.unh.edu
Date: Fri, 19 Apr 2024 12:29:26 -0700 (PDT)
Message-ID: <6622c616.170a0220.38095.8b81SMTPIN_ADDED_MISSING@mx.google.com>
Received: from [172.17.0.3] (unknown [172.18.0.217])
 by postal.iol.unh.edu (Postfix) with ESMTP id 1CD6C604D420;
 Fri, 19 Apr 2024 15:29:24 -0400 (EDT)
Subject: |SUCCESS| pw139547-139552 [PATCH] [v4,6/6] latencystats: fix for ped
From: dpdklab@iol.unh.edu
To: Test Report <test-report@dpdk.org>
Cc: dpdk-test-reports@iol.unh.edu
In-Reply-To: <20240419172926.55447-7-stephen@networkplumber.org>
References: <20240419172926.55447-7-stephen@networkplumber.org>
Content-Type: text/plain
X-BeenThere: test-report@dpdk.org
X-Mailman-Version: 2.1.29
Precedence: list
List-Id: automatic DPDK test reports <test-report.dpdk.org>
List-Unsubscribe: <https://mails.dpdk.org/options/test-report>,
 <mailto:test-report-request@dpdk.org?subject=unsubscribe>
List-Archive: <http://mails.dpdk.org/archives/test-report/>
List-Post: <mailto:test-report@dpdk.org>
List-Help: <mailto:test-report-request@dpdk.org?subject=help>
List-Subscribe: <https://mails.dpdk.org/listinfo/test-report>,
 <mailto:test-report-request@dpdk.org?subject=subscribe>
Errors-To: test-report-bounces@dpdk.org

Test-Label: iol-unit-arm64-testing
Test-Status: SUCCESS
http://dpdk.org/patch/139552

_Testing PASS_

Submitter: Stephen Hemminger <stephen@networkplumber.org>
Date: Friday, April 19 2024 17:28:26 
DPDK git baseline: Repo:dpdk
  Branch: master
  CommitID:7e06c0de1952d3109a5b0c4779d7e7d8059c9d78

139547-139552 --> testing pass

Test environment and result as below:

+-----------------------------+---------------------------+------------------------------+----------------+--------------+
|         Environment         | cryptodev_sw_zuc_autotest | cryptodev_sw_snow3g_autotest | dpdk_unit_test | lpm_autotest |
+=============================+===========================+==============================+================+==============+
| Debian 12 (arm)             | PASS                      | PASS                         | PASS           | SKIPPED      |
+-----------------------------+---------------------------+------------------------------+----------------+--------------+
| Debian 11 (Buster) (ARM)    | SKIPPED                   | SKIPPED                      | PASS           | SKIPPED      |
+-----------------------------+---------------------------+------------------------------+----------------+--------------+
| Fedora 37 (ARM)             | SKIPPED                   | SKIPPED                      | PASS           | SKIPPED      |
+-----------------------------+---------------------------+------------------------------+----------------+--------------+
| 32-bit Ubuntu 20.04.4 (ARM) | SKIPPED                   | SKIPPED                      | PASS           | SKIPPED      |
+-----------------------------+---------------------------+------------------------------+----------------+--------------+
| Fedora 39 (ARM)             | SKIPPED                   | SKIPPED                      | PASS           | SKIPPED      |
+-----------------------------+---------------------------+------------------------------+----------------+--------------+
| Fedora 38 (ARM)             | SKIPPED                   | SKIPPED                      | PASS           | SKIPPED      |
+-----------------------------+---------------------------+------------------------------+----------------+--------------+
| Fedora 39 (ARM Clang)       | SKIPPED                   | SKIPPED                      | PASS           | SKIPPED      |
+-----------------------------+---------------------------+------------------------------+----------------+--------------+
| Ubuntu 20.04 (ARM)          | SKIPPED                   | SKIPPED                      | PASS           | SKIPPED      |
+-----------------------------+---------------------------+------------------------------+----------------+--------------+
| Fedora 38 (ARM Clang)       | SKIPPED                   | SKIPPED                      | PASS           | SKIPPED      |
+-----------------------------+---------------------------+------------------------------+----------------+--------------+
| CentOS Stream 9 (ARM)       | SKIPPED                   | SKIPPED                      | PASS           | SKIPPED      |
+-----------------------------+---------------------------+------------------------------+----------------+--------------+
| Ubuntu 20.04 ARM SVE        | SKIPPED                   | SKIPPED                      | SKIPPED        | PASS         |
+-----------------------------+---------------------------+------------------------------+----------------+--------------+


Debian 12 (arm)
	Kernel: Container Host Kernel
	Compiler: gcc 12.2.0

Debian 11 (Buster) (ARM)
	Kernel: Container Host Kernel
	Compiler: gcc 10.2.1

Fedora 37 (ARM)
	Kernel: Depends on container host
	Compiler: gcc 12.3.1

32-bit Ubuntu 20.04.4 (ARM)
	Kernel: 5.4.0-155-generic aarch64
	Compiler: gcc 9.4

Fedora 39 (ARM)
	Kernel: Depends on container host
	Compiler: gcc 13.2.1

Fedora 38 (ARM)
	Kernel: Depends on container host
	Compiler: gcc 13.2.1

Fedora 39 (ARM Clang)
	Kernel: Depends on container host
	Compiler: clang 17.0.6

Ubuntu 20.04 (ARM)
	Kernel: Container Host Kernel
	Compiler: gcc 9.4.0

Fedora 38 (ARM Clang)
	Kernel: Depends on container host
	Compiler: clang 16.0.6

CentOS Stream 9 (ARM)
	Kernel: Container Host Kernel
	Compiler: gcc 11.4.1

Ubuntu 20.04 ARM SVE
	Kernel: 5.4.0-167-generic
	Compiler: gcc (Ubuntu 10.5.0-1ubuntu1~20.04) 10.5.0

To view detailed results, visit:
https://lab.dpdk.org/results/dashboard/patchsets/29830/

UNH-IOL DPDK Community Lab

To manage your email subscriptions, visit: 
https://lab.dpdk.org/results/dashboard/preferences/subscriptions/