From mboxrd@z Thu Jan  1 00:00:00 1970
Return-Path: <test-report-bounces@dpdk.org>
Received: from mails.dpdk.org (mails.dpdk.org [217.70.189.124])
	by inbox.dpdk.org (Postfix) with ESMTP id 4B90843EB3
	for <public@inbox.dpdk.org>; Fri, 19 Apr 2024 23:05:44 +0200 (CEST)
Received: from mails.dpdk.org (localhost [127.0.0.1])
	by mails.dpdk.org (Postfix) with ESMTP id 46DFA40698;
	Fri, 19 Apr 2024 23:05:44 +0200 (CEST)
Received: from mail-ot1-f99.google.com (mail-ot1-f99.google.com
 [209.85.210.99]) by mails.dpdk.org (Postfix) with ESMTP id BFAD240696
 for <test-report@dpdk.org>; Fri, 19 Apr 2024 23:05:42 +0200 (CEST)
Received: by mail-ot1-f99.google.com with SMTP id
 46e09a7af769-6eb86b69e65so1456685a34.3
 for <test-report@dpdk.org>; Fri, 19 Apr 2024 14:05:42 -0700 (PDT)
DKIM-Signature: v=1; a=rsa-sha256; c=relaxed/relaxed;
 d=iol.unh.edu; s=unh-iol; t=1713560742; x=1714165542; darn=dpdk.org;
 h=references:in-reply-to:cc:to:from:subject:message-id:date:from:to
 :cc:subject:date:message-id:reply-to;
 bh=zwHXcdsuY1ec2uJLctzAOKDdy5UY7SyzVOWjyhD7j9M=;
 b=eefgJRmJ1IYfWMeLtfxU4hzso45icUiuGg0MjUBM1MbelEipx//zlsIYUQVi7mKwsW
 9fVuC3V7JlK0ZZCZxkXzSade8aO8nVnTXus6JkBED3SzLg6zos4n4j4lrzSKJpCBPSk6
 /EMWQX4PKAfXE7pjF4PKq8UzPXmiCht3D/ZzI=
X-Google-DKIM-Signature: v=1; a=rsa-sha256; c=relaxed/relaxed;
 d=1e100.net; s=20230601; t=1713560742; x=1714165542;
 h=references:in-reply-to:cc:to:from:subject:message-id:date
 :x-gm-message-state:from:to:cc:subject:date:message-id:reply-to;
 bh=zwHXcdsuY1ec2uJLctzAOKDdy5UY7SyzVOWjyhD7j9M=;
 b=MJdEYcgrPIfgyVJtE0B5HHInytZwNtlXpHoObFGkS9eAjo2cqkWiZJToS7vLt9ZW4T
 Z8rQn9JSvtNevirMwhPb+747Exizls0Uqqlq421xZYLuU+JS0T8sUpw2pL2RRZorP2q/
 wskgogzm6CvGL60l0WSebxm6aAJyNxNlRXSfB+obh5JKaHSOYNP2aV6W79MFvhGxCZ1H
 CaYjaHnd6AdtlyDRbCJ57+3bOYfNyz/Y1cpZnrirNM79sAAViQTgGbSamcIR6yDpsYH+
 rnrtBeXYIorstjHr0XYulgh1VMwCFvgriHMYUmjbf/9wWiNyT8hc/M+qu1ShUirEmqQf
 S26w==
X-Gm-Message-State: AOJu0YzyCJexH+Jtg4gf12b4bcXEKAEWIoJoCHbZkY8y+MvUgBmoj+PM
 L42eXwXUXVPeBg8u38tpS0JZlxG+WgoPVxYs+2S2PxqQOCOKtoDGYrf37BGK4Z4YHhRlVt/pF0x
 nL6BTiKq/Duu5o3sNoc50QltReHd9pFU6tTZQrgI7inoBSof6jgEtWgk+
X-Google-Smtp-Source: AGHT+IFW3jrLPXshLNiiWaO6SplEYExHMHtDe2PKrU2RL7XgpTUjXUJONOis31wp1n+M8X4aEMFvSXYmkyYl
X-Received: by 2002:a05:6359:100f:b0:183:55a6:b23c with SMTP id
 ib15-20020a056359100f00b0018355a6b23cmr3816776rwb.6.1713560741944; 
 Fri, 19 Apr 2024 14:05:41 -0700 (PDT)
Received: from postal.iol.unh.edu (postal.iol.unh.edu.
 [2606:4100:3880:1234::84]) by smtp-relay.gmail.com with ESMTPS id
 k12-20020ad45bec000000b0069b76f58c4dsm291685qvc.4.2024.04.19.14.05.41
 (version=TLS1_2 cipher=ECDHE-ECDSA-AES128-GCM-SHA256 bits=128/128);
 Fri, 19 Apr 2024 14:05:41 -0700 (PDT)
X-Relaying-Domain: iol.unh.edu
Date: Fri, 19 Apr 2024 14:05:41 -0700 (PDT)
Message-ID: <6622dca5.d40a0220.6d8c8.09abSMTPIN_ADDED_MISSING@mx.google.com>
Received: from [172.21.0.6] (unknown [172.18.0.240])
 by postal.iol.unh.edu (Postfix) with ESMTP id 9F5C5604D420;
 Fri, 19 Apr 2024 17:05:41 -0400 (EDT)
Subject: |SUCCESS| pw139553-139557 [PATCH] [6/6] crypto/ionic: add documentat
From: dpdklab@iol.unh.edu
To: Test Report <test-report@dpdk.org>
Cc: dpdk-test-reports@iol.unh.edu
In-Reply-To: <20240419195310.21432-7-andrew.boyer@amd.com>
References: <20240419195310.21432-7-andrew.boyer@amd.com>
Content-Type: text/plain
X-BeenThere: test-report@dpdk.org
X-Mailman-Version: 2.1.29
Precedence: list
List-Id: automatic DPDK test reports <test-report.dpdk.org>
List-Unsubscribe: <https://mails.dpdk.org/options/test-report>,
 <mailto:test-report-request@dpdk.org?subject=unsubscribe>
List-Archive: <http://mails.dpdk.org/archives/test-report/>
List-Post: <mailto:test-report@dpdk.org>
List-Help: <mailto:test-report-request@dpdk.org?subject=help>
List-Subscribe: <https://mails.dpdk.org/listinfo/test-report>,
 <mailto:test-report-request@dpdk.org?subject=subscribe>
Errors-To: test-report-bounces@dpdk.org

Test-Label: iol-unit-amd64-testing
Test-Status: SUCCESS
http://dpdk.org/patch/139557

_Testing PASS_

Submitter: Andrew Boyer <Andrew.Boyer@amd.com>
Date: Friday, April 19 2024 19:53:10 
DPDK git baseline: Repo:dpdk
  Branch: master
  CommitID:7e06c0de1952d3109a5b0c4779d7e7d8059c9d78

139553-139557 --> testing pass

Test environment and result as below:

+------------------+----------------+
|   Environment    | dpdk_unit_test |
+==================+================+
| Debian Bullseye  | PASS           |
+------------------+----------------+
| CentOS Stream 8  | PASS           |
+------------------+----------------+
| CentOS Stream 9  | PASS           |
+------------------+----------------+
| Fedora 39        | PASS           |
+------------------+----------------+
| Fedora 38        | PASS           |
+------------------+----------------+
| Debian 12        | PASS           |
+------------------+----------------+
| Fedora 37        | PASS           |
+------------------+----------------+
| openSUSE Leap 15 | PASS           |
+------------------+----------------+


Debian Bullseye
	Kernel: 5.4.0-167-generic
	Compiler: gcc 10.2.1-6

CentOS Stream 8
	Kernel: 5.4.0-167-generic
	Compiler: gcc 8.5.0 20210514

CentOS Stream 9
	Kernel: 5.4.0-167-generic
	Compiler: gcc 11.4.1 20230605

Fedora 39
	Kernel: Depends on container host
	Compiler: gcc 13.2.1

Fedora 38
	Kernel: Depends on container host
	Compiler: gcc 13.2.1

Debian 12
	Kernel: Container Host Kernel
	Compiler: gcc 10.2.1

Fedora 37
	Kernel: Depends on container host system
	Compiler: gcc 12.3.1

openSUSE Leap 15
	Kernel: 5.4.0-167-generic
	Compiler: gcc 7.5.0

To view detailed results, visit:
https://lab.dpdk.org/results/dashboard/patchsets/29831/

UNH-IOL DPDK Community Lab

To manage your email subscriptions, visit: 
https://lab.dpdk.org/results/dashboard/preferences/subscriptions/