From mboxrd@z Thu Jan  1 00:00:00 1970
Return-Path: <test-report-bounces@dpdk.org>
Received: from mails.dpdk.org (mails.dpdk.org [217.70.189.124])
	by inbox.dpdk.org (Postfix) with ESMTP id 4E22A43EB3
	for <public@inbox.dpdk.org>; Fri, 19 Apr 2024 23:19:03 +0200 (CEST)
Received: from mails.dpdk.org (localhost [127.0.0.1])
	by mails.dpdk.org (Postfix) with ESMTP id 4A48640698;
	Fri, 19 Apr 2024 23:19:03 +0200 (CEST)
Received: from mail-yw1-f225.google.com (mail-yw1-f225.google.com
 [209.85.128.225])
 by mails.dpdk.org (Postfix) with ESMTP id A4C4840696
 for <test-report@dpdk.org>; Fri, 19 Apr 2024 23:19:02 +0200 (CEST)
Received: by mail-yw1-f225.google.com with SMTP id
 00721157ae682-618874234c9so28005407b3.0
 for <test-report@dpdk.org>; Fri, 19 Apr 2024 14:19:02 -0700 (PDT)
DKIM-Signature: v=1; a=rsa-sha256; c=relaxed/relaxed;
 d=iol.unh.edu; s=unh-iol; t=1713561542; x=1714166342; darn=dpdk.org;
 h=references:in-reply-to:cc:to:from:subject:message-id:date:from:to
 :cc:subject:date:message-id:reply-to;
 bh=P82b6phgTnNpS5V/ntKBOaBmhztP4Em8VfzbBkRPQ0c=;
 b=e17KiwP7KEhXC4nk2SzTziQoPoe3vg+RSO66fOAlVagKtbU25OqJHV/NEdszy47RDd
 PoIrIWzw24lq5blccsHtYXUJdLzwXLM6V6ROY8cmhjLoF5RJddAyD4iS9F8GMeHPOnZJ
 B764DrHxETyKkohv9V1l4IgpS4cHHZSNdXLCM=
X-Google-DKIM-Signature: v=1; a=rsa-sha256; c=relaxed/relaxed;
 d=1e100.net; s=20230601; t=1713561542; x=1714166342;
 h=references:in-reply-to:cc:to:from:subject:message-id:date
 :x-gm-message-state:from:to:cc:subject:date:message-id:reply-to;
 bh=P82b6phgTnNpS5V/ntKBOaBmhztP4Em8VfzbBkRPQ0c=;
 b=V79R1433wvf/SGLfP1vb+rV9ACoHecjibKOUcdAAPv8AMUxbvEVXUoLc5DDgQSgJNI
 us/B1N0zeJGFSIuwhtR5akCQ7QnVOyKI/IArhnFBDlg5YJJcUEvXZGfw/+ts9BcveM28
 CsMA2p5rpN6vRuPLTkBOpzVsNJK7JqRqm2iZNPoZ7ScP57BhAuyLUe9Yd8tPEf9emPkC
 1VIQjPZmBRrlOoa4JQ89s02zOUBFDFSKaeYexeBUjH4NSXtrrlVbs5Z9IK/Wccl4lzeN
 tkt94BhehIeHpOJvoc2N8sMx0R3nwzD10HPkq0mRyie7e8FPKzIQeyt0uicJmXRG+Tz6
 0+5Q==
X-Gm-Message-State: AOJu0Yw9JNRyHqQqu98d7KCKZkZSmSTNvDh4FMEpFpmLU+3mhCBNYeze
 5rGHhxkZzJ3yTXUluX+seJ5WEY1rkWFaOY4n4cLHfRIuERcBJb2aL03nG9ua21wTwS+zv/MXCbg
 5GvV1Gjz9Kwf+mnKY+iH0ziTO/tPVztNyBpWtvxYE
X-Google-Smtp-Source: AGHT+IGQKufUXUszcJdmpLsNTab2vswCQ/TFtdJwhLB2iiO0n2tzGsIbcfmF6/XgYlqfABr6kHbcylV7m8Nq
X-Received: by 2002:a05:690c:668e:b0:618:95a3:70b9 with SMTP id
 hz14-20020a05690c668e00b0061895a370b9mr3587947ywb.36.1713561542130; 
 Fri, 19 Apr 2024 14:19:02 -0700 (PDT)
Received: from postal.iol.unh.edu (postal.iol.unh.edu. [132.177.123.84])
 by smtp-relay.gmail.com with ESMTPS id
 g5-20020a81fd05000000b006087da090b6sm182467ywn.74.2024.04.19.14.19.02
 (version=TLS1_2 cipher=ECDHE-ECDSA-AES128-GCM-SHA256 bits=128/128);
 Fri, 19 Apr 2024 14:19:02 -0700 (PDT)
X-Relaying-Domain: iol.unh.edu
Date: Fri, 19 Apr 2024 14:19:02 -0700 (PDT)
Message-ID: <6622dfc6.810a0220.740df.7bb0SMTPIN_ADDED_MISSING@mx.google.com>
Received: from [172.17.0.4] (unknown [172.18.0.217])
 by postal.iol.unh.edu (Postfix) with ESMTP id B9D7E604D420;
 Fri, 19 Apr 2024 17:19:01 -0400 (EDT)
Subject: |SUCCESS| pw139553-139557 [PATCH] [6/6] crypto/ionic: add documentat
From: dpdklab@iol.unh.edu
To: Test Report <test-report@dpdk.org>
Cc: dpdk-test-reports@iol.unh.edu
In-Reply-To: <20240419195310.21432-7-andrew.boyer@amd.com>
References: <20240419195310.21432-7-andrew.boyer@amd.com>
Content-Type: text/plain
X-BeenThere: test-report@dpdk.org
X-Mailman-Version: 2.1.29
Precedence: list
List-Id: automatic DPDK test reports <test-report.dpdk.org>
List-Unsubscribe: <https://mails.dpdk.org/options/test-report>,
 <mailto:test-report-request@dpdk.org?subject=unsubscribe>
List-Archive: <http://mails.dpdk.org/archives/test-report/>
List-Post: <mailto:test-report@dpdk.org>
List-Help: <mailto:test-report-request@dpdk.org?subject=help>
List-Subscribe: <https://mails.dpdk.org/listinfo/test-report>,
 <mailto:test-report-request@dpdk.org?subject=subscribe>
Errors-To: test-report-bounces@dpdk.org

Test-Label: iol-abi-testing
Test-Status: SUCCESS
http://dpdk.org/patch/139557

_Testing PASS_

Submitter: Andrew Boyer <Andrew.Boyer@amd.com>
Date: Friday, April 19 2024 19:53:10 
DPDK git baseline: Repo:dpdk
  Branch: master
  CommitID:7e06c0de1952d3109a5b0c4779d7e7d8059c9d78

139553-139557 --> testing pass

Test environment and result as below:

+------------------+----------+
|   Environment    | abi_test |
+==================+==========+
| Ubuntu 22.04     | PASS     |
+------------------+----------+
| Debian 12        | PASS     |
+------------------+----------+
| Fedora 37        | PASS     |
+------------------+----------+
| Fedora 38        | PASS     |
+------------------+----------+
| Debian Bullseye  | PASS     |
+------------------+----------+
| openSUSE Leap 15 | PASS     |
+------------------+----------+
| CentOS Stream 8  | PASS     |
+------------------+----------+
| CentOS Stream 9  | PASS     |
+------------------+----------+
| Fedora 39        | PASS     |
+------------------+----------+
| RHEL8            | PASS     |
+------------------+----------+


Ubuntu 22.04
	Kernel: 5.4.0-167-generic
	Compiler: gcc 11.4.0

Debian 12
	Kernel: Container Host Kernel
	Compiler: gcc 10.2.1

Fedora 37
	Kernel: Depends on container host system
	Compiler: gcc 12.3.1

Fedora 38
	Kernel: Depends on container host
	Compiler: clang 16.0.6

Debian Bullseye
	Kernel: 5.4.0-167-generic
	Compiler: gcc 10.2.1-6

openSUSE Leap 15
	Kernel: 5.4.0-167-generic
	Compiler: gcc 7.5.0

CentOS Stream 8
	Kernel: 5.4.0-167-generic
	Compiler: gcc 8.5.0 20210514

CentOS Stream 9
	Kernel: 5.4.0-167-generic
	Compiler: gcc 11.4.1 20230605

Fedora 39
	Kernel: Depends on container host
	Compiler: clang 17.0.6

RHEL8
	Kernel: 5.4.0-167-generic
	Compiler: gcc 8.5.0 20210514 (Red Hat 8.5.0-20)

To view detailed results, visit:
https://lab.dpdk.org/results/dashboard/patchsets/29831/

UNH-IOL DPDK Community Lab

To manage your email subscriptions, visit: 
https://lab.dpdk.org/results/dashboard/preferences/subscriptions/