From mboxrd@z Thu Jan  1 00:00:00 1970
Return-Path: <test-report-bounces@dpdk.org>
Received: from mails.dpdk.org (mails.dpdk.org [217.70.189.124])
	by inbox.dpdk.org (Postfix) with ESMTP id 64B4643EB3
	for <public@inbox.dpdk.org>; Fri, 19 Apr 2024 23:19:12 +0200 (CEST)
Received: from mails.dpdk.org (localhost [127.0.0.1])
	by mails.dpdk.org (Postfix) with ESMTP id 610BB40698;
	Fri, 19 Apr 2024 23:19:12 +0200 (CEST)
Received: from mail-io1-f99.google.com (mail-io1-f99.google.com
 [209.85.166.99]) by mails.dpdk.org (Postfix) with ESMTP id 3764B40696
 for <test-report@dpdk.org>; Fri, 19 Apr 2024 23:19:06 +0200 (CEST)
Received: by mail-io1-f99.google.com with SMTP id
 ca18e2360f4ac-7da42caa377so72895839f.3
 for <test-report@dpdk.org>; Fri, 19 Apr 2024 14:19:06 -0700 (PDT)
DKIM-Signature: v=1; a=rsa-sha256; c=relaxed/relaxed;
 d=iol.unh.edu; s=unh-iol; t=1713561545; x=1714166345; darn=dpdk.org;
 h=references:in-reply-to:cc:to:from:subject:message-id:date:from:to
 :cc:subject:date:message-id:reply-to;
 bh=P82b6phgTnNpS5V/ntKBOaBmhztP4Em8VfzbBkRPQ0c=;
 b=I6CPaKzj++2aop4MkjP/4vr86RN5xVlr3Feu3XzVzC/FuJpDYyw/CD0rBby3Sw4fe4
 b3aVm2Im3Q8oLEsOEt35ftlKWMKcyl5sijj1GXtak092fD5lfN32/ASrpCYMFzJzFQkf
 IxPEunWuoF7vz1gLwmrltLOPcSjFWuPdLQHFo=
X-Google-DKIM-Signature: v=1; a=rsa-sha256; c=relaxed/relaxed;
 d=1e100.net; s=20230601; t=1713561545; x=1714166345;
 h=references:in-reply-to:cc:to:from:subject:message-id:date
 :x-gm-message-state:from:to:cc:subject:date:message-id:reply-to;
 bh=P82b6phgTnNpS5V/ntKBOaBmhztP4Em8VfzbBkRPQ0c=;
 b=DSe//CWXOFdhtsdqDx2w2tr8LmJphKe2V6v4fQZo6IF0suzKUJblyM/WWrrtr/iiAF
 f8wLQKi5ih+GDzTRW8m5Q6nOPbqkOCsdgJ1azPhdg8S3ZyDFDDOCcOnaaAhsdGJYpL5s
 /CMhePopjz8EQ/xxvEUa52MMdBf3enwas0PzCy0gkiJX94rrZcnmMBZ+4Lnp/cAm5+6l
 pxbYnsJLm7K4w2JPjaobj/rcjgyfst9pMHn30ttM1sQE+tSUAYocWIQzVSDbdee2lwOW
 q0Sil8kq09zWY6LkkyN+hKnnp2aCQX5ox9m+gcVKkaydR4S4w31PqNOTqvnYeCyePvQV
 tkYg==
X-Gm-Message-State: AOJu0YzSomQ5IZ49GVNKwd9b24dHxK+ODr7i0lzD15pxBqahtusPATst
 rt7zpYsa5FInn2vFpRjtVSywlYaZ1K8o9irmqKkXUZIlTdsaKV2h7Eui0DdMat/ktxgPE50CaAO
 gEI3ZFg5/xtRG/J8LiqWoLFSTCDyQIK8ythxEuybi
X-Google-Smtp-Source: AGHT+IHmSt/I/Md19V7puhtnbQ/7nAn9bmDg8zGicbsKXhk3Z8yuyldRquCPpGSZT0lApnj81SGCUoDSBM7b
X-Received: by 2002:a5d:8194:0:b0:7da:72f7:2954 with SMTP id
 u20-20020a5d8194000000b007da72f72954mr1045625ion.13.1713561545636; 
 Fri, 19 Apr 2024 14:19:05 -0700 (PDT)
Received: from postal.iol.unh.edu (postal.iol.unh.edu. [132.177.123.84])
 by smtp-relay.gmail.com with ESMTPS id
 k11-20020a5d874b000000b007d98100ab0csm211366iol.10.2024.04.19.14.19.05
 (version=TLS1_2 cipher=ECDHE-ECDSA-AES128-GCM-SHA256 bits=128/128);
 Fri, 19 Apr 2024 14:19:05 -0700 (PDT)
X-Relaying-Domain: iol.unh.edu
Date: Fri, 19 Apr 2024 14:19:05 -0700 (PDT)
Message-ID: <6622dfc9.5d0a0220.fd662.b59dSMTPIN_ADDED_MISSING@mx.google.com>
Received: from [172.21.0.6] (unknown [172.18.0.240])
 by postal.iol.unh.edu (Postfix) with ESMTP id 22189604D420;
 Fri, 19 Apr 2024 17:19:05 -0400 (EDT)
Subject: |SUCCESS| pw139553-139557 [PATCH] [6/6] crypto/ionic: add documentat
From: dpdklab@iol.unh.edu
To: Test Report <test-report@dpdk.org>
Cc: dpdk-test-reports@iol.unh.edu
In-Reply-To: <20240419195310.21432-7-andrew.boyer@amd.com>
References: <20240419195310.21432-7-andrew.boyer@amd.com>
Content-Type: text/plain
X-BeenThere: test-report@dpdk.org
X-Mailman-Version: 2.1.29
Precedence: list
List-Id: automatic DPDK test reports <test-report.dpdk.org>
List-Unsubscribe: <https://mails.dpdk.org/options/test-report>,
 <mailto:test-report-request@dpdk.org?subject=unsubscribe>
List-Archive: <http://mails.dpdk.org/archives/test-report/>
List-Post: <mailto:test-report@dpdk.org>
List-Help: <mailto:test-report-request@dpdk.org?subject=help>
List-Subscribe: <https://mails.dpdk.org/listinfo/test-report>,
 <mailto:test-report-request@dpdk.org?subject=subscribe>
Errors-To: test-report-bounces@dpdk.org

Test-Label: iol-abi-testing
Test-Status: SUCCESS
http://dpdk.org/patch/139557

_Testing PASS_

Submitter: Andrew Boyer <Andrew.Boyer@amd.com>
Date: Friday, April 19 2024 19:53:10 
DPDK git baseline: Repo:dpdk
  Branch: master
  CommitID:7e06c0de1952d3109a5b0c4779d7e7d8059c9d78

139553-139557 --> testing pass

Test environment and result as below:

+------------------+----------+
|   Environment    | abi_test |
+==================+==========+
| Ubuntu 22.04     | PASS     |
+------------------+----------+
| Debian 12        | PASS     |
+------------------+----------+
| Fedora 37        | PASS     |
+------------------+----------+
| Fedora 38        | PASS     |
+------------------+----------+
| Debian Bullseye  | PASS     |
+------------------+----------+
| openSUSE Leap 15 | PASS     |
+------------------+----------+
| CentOS Stream 8  | PASS     |
+------------------+----------+
| CentOS Stream 9  | PASS     |
+------------------+----------+
| Fedora 39        | PASS     |
+------------------+----------+
| RHEL8            | PASS     |
+------------------+----------+


Ubuntu 22.04
	Kernel: 5.4.0-167-generic
	Compiler: gcc 11.4.0

Debian 12
	Kernel: Container Host Kernel
	Compiler: gcc 10.2.1

Fedora 37
	Kernel: Depends on container host system
	Compiler: gcc 12.3.1

Fedora 38
	Kernel: Depends on container host
	Compiler: clang 16.0.6

Debian Bullseye
	Kernel: 5.4.0-167-generic
	Compiler: gcc 10.2.1-6

openSUSE Leap 15
	Kernel: 5.4.0-167-generic
	Compiler: gcc 7.5.0

CentOS Stream 8
	Kernel: 5.4.0-167-generic
	Compiler: gcc 8.5.0 20210514

CentOS Stream 9
	Kernel: 5.4.0-167-generic
	Compiler: gcc 11.4.1 20230605

Fedora 39
	Kernel: Depends on container host
	Compiler: clang 17.0.6

RHEL8
	Kernel: 5.4.0-167-generic
	Compiler: gcc 8.5.0 20210514 (Red Hat 8.5.0-20)

To view detailed results, visit:
https://lab.dpdk.org/results/dashboard/patchsets/29831/

UNH-IOL DPDK Community Lab

To manage your email subscriptions, visit: 
https://lab.dpdk.org/results/dashboard/preferences/subscriptions/