From mboxrd@z Thu Jan  1 00:00:00 1970
Return-Path: <test-report-bounces@dpdk.org>
Received: from mails.dpdk.org (mails.dpdk.org [217.70.189.124])
	by inbox.dpdk.org (Postfix) with ESMTP id 9265043EB3
	for <public@inbox.dpdk.org>; Fri, 19 Apr 2024 23:19:43 +0200 (CEST)
Received: from mails.dpdk.org (localhost [127.0.0.1])
	by mails.dpdk.org (Postfix) with ESMTP id 8BB8940698;
	Fri, 19 Apr 2024 23:19:43 +0200 (CEST)
Received: from mail-vs1-f100.google.com (mail-vs1-f100.google.com
 [209.85.217.100])
 by mails.dpdk.org (Postfix) with ESMTP id 1087740696
 for <test-report@dpdk.org>; Fri, 19 Apr 2024 23:19:42 +0200 (CEST)
Received: by mail-vs1-f100.google.com with SMTP id
 ada2fe7eead31-47a404c6decso790654137.3
 for <test-report@dpdk.org>; Fri, 19 Apr 2024 14:19:42 -0700 (PDT)
DKIM-Signature: v=1; a=rsa-sha256; c=relaxed/relaxed;
 d=iol.unh.edu; s=unh-iol; t=1713561581; x=1714166381; darn=dpdk.org;
 h=references:in-reply-to:cc:to:from:subject:message-id:date:from:to
 :cc:subject:date:message-id:reply-to;
 bh=P82b6phgTnNpS5V/ntKBOaBmhztP4Em8VfzbBkRPQ0c=;
 b=O04FEinzfwzwSDd6cAuwXcbu+2DUPx2UZrMURhX/tDcqh30gITwEqqNy8jZt1wYQSa
 Ekt1n23S0aaXCsT6FAYkSiMR17qg7WuDQvNCov5X+ljsFtLKu76Hhknt41you+nCLZGy
 fRa8aRgPQyGN1+4U9OLCVZ9zaqtrqi7Cr6jJ0=
X-Google-DKIM-Signature: v=1; a=rsa-sha256; c=relaxed/relaxed;
 d=1e100.net; s=20230601; t=1713561581; x=1714166381;
 h=references:in-reply-to:cc:to:from:subject:message-id:date
 :x-gm-message-state:from:to:cc:subject:date:message-id:reply-to;
 bh=P82b6phgTnNpS5V/ntKBOaBmhztP4Em8VfzbBkRPQ0c=;
 b=dTfSnJ8ptQQ7ZzgqlDPak904kOuqayX7qnbTeeOTBFdHTd/O2G3IQ76NKAMWVKNTeM
 rimUc5H3ja5JmJiBpo6bIuHkRaWEpvgBknRY/0wFow1QOv6VghyIp9N5ikC8wPKs/pwQ
 3o8qRde+c5aumZahkeTEE0TjTIAbQ7YYmtFXmg/HSjcrWLPmWQUFPhzty4cwEQMmbI6c
 RrlmcQN4FmrzopIHMTzPzkY3gtagzOLO9YC30hOkvWtoOGWOrooYzORLPSpbyZopaRgF
 BHHrX7qeIcIvhAzY7WqG+nHkYqC0uX+34DAZti9NmPijM6qcPqgT2lJzRDevPgWo8nCS
 WKag==
X-Gm-Message-State: AOJu0YwqUFlARfKv5QyGtmL/p/Wudk/BqvTqEjC5HzH2XUJBuJskso+3
 yaKhrf9blq25INZyz2Pjy+dThicOj7ruSlBkZsuqvMfZ0jFSWSWvTQAPFtRM1neqrKABo1Rmxhg
 lkkTzGyq98CPlE7Sg0cvRNfM5LiWB6xCDIAgmwOoP
X-Google-Smtp-Source: AGHT+IH+4ll4ElyN3clLXBBwZ3I0tygL5RQz7RSv0qPfjAqHKuAYeHNdZZlTR4KD6G5yCEJU/vhuDh1Z+6e3
X-Received: by 2002:a05:6102:34e6:b0:47b:d7ef:23fb with SMTP id
 bi6-20020a05610234e600b0047bd7ef23fbmr566600vsb.2.1713561581465; 
 Fri, 19 Apr 2024 14:19:41 -0700 (PDT)
Received: from postal.iol.unh.edu (postal.iol.unh.edu. [132.177.123.84])
 by smtp-relay.gmail.com with ESMTPS id
 cy35-20020a0561300fa300b007e10a4cca39sm184149uab.13.2024.04.19.14.19.41
 (version=TLS1_2 cipher=ECDHE-ECDSA-AES128-GCM-SHA256 bits=128/128);
 Fri, 19 Apr 2024 14:19:41 -0700 (PDT)
X-Relaying-Domain: iol.unh.edu
Date: Fri, 19 Apr 2024 14:19:41 -0700 (PDT)
Message-ID: <6622dfed.050a0220.d5b5f.92f1SMTPIN_ADDED_MISSING@mx.google.com>
Received: from [172.21.0.6] (unknown [172.18.0.240])
 by postal.iol.unh.edu (Postfix) with ESMTP id 1FB17604D420;
 Fri, 19 Apr 2024 17:19:41 -0400 (EDT)
Subject: |SUCCESS| pw139553-139557 [PATCH] [6/6] crypto/ionic: add documentat
From: dpdklab@iol.unh.edu
To: Test Report <test-report@dpdk.org>
Cc: dpdk-test-reports@iol.unh.edu
In-Reply-To: <20240419195310.21432-7-andrew.boyer@amd.com>
References: <20240419195310.21432-7-andrew.boyer@amd.com>
Content-Type: text/plain
X-BeenThere: test-report@dpdk.org
X-Mailman-Version: 2.1.29
Precedence: list
List-Id: automatic DPDK test reports <test-report.dpdk.org>
List-Unsubscribe: <https://mails.dpdk.org/options/test-report>,
 <mailto:test-report-request@dpdk.org?subject=unsubscribe>
List-Archive: <http://mails.dpdk.org/archives/test-report/>
List-Post: <mailto:test-report@dpdk.org>
List-Help: <mailto:test-report-request@dpdk.org?subject=help>
List-Subscribe: <https://mails.dpdk.org/listinfo/test-report>,
 <mailto:test-report-request@dpdk.org?subject=subscribe>
Errors-To: test-report-bounces@dpdk.org

Test-Label: iol-abi-testing
Test-Status: SUCCESS
http://dpdk.org/patch/139557

_Testing PASS_

Submitter: Andrew Boyer <Andrew.Boyer@amd.com>
Date: Friday, April 19 2024 19:53:10 
DPDK git baseline: Repo:dpdk
  Branch: master
  CommitID:7e06c0de1952d3109a5b0c4779d7e7d8059c9d78

139553-139557 --> testing pass

Test environment and result as below:

+------------------+----------+
|   Environment    | abi_test |
+==================+==========+
| Ubuntu 22.04     | PASS     |
+------------------+----------+
| Debian 12        | PASS     |
+------------------+----------+
| Fedora 37        | PASS     |
+------------------+----------+
| Fedora 38        | PASS     |
+------------------+----------+
| Debian Bullseye  | PASS     |
+------------------+----------+
| openSUSE Leap 15 | PASS     |
+------------------+----------+
| CentOS Stream 8  | PASS     |
+------------------+----------+
| CentOS Stream 9  | PASS     |
+------------------+----------+
| Fedora 39        | PASS     |
+------------------+----------+
| RHEL8            | PASS     |
+------------------+----------+


Ubuntu 22.04
	Kernel: 5.4.0-167-generic
	Compiler: gcc 11.4.0

Debian 12
	Kernel: Container Host Kernel
	Compiler: gcc 10.2.1

Fedora 37
	Kernel: Depends on container host system
	Compiler: gcc 12.3.1

Fedora 38
	Kernel: Depends on container host
	Compiler: clang 16.0.6

Debian Bullseye
	Kernel: 5.4.0-167-generic
	Compiler: gcc 10.2.1-6

openSUSE Leap 15
	Kernel: 5.4.0-167-generic
	Compiler: gcc 7.5.0

CentOS Stream 8
	Kernel: 5.4.0-167-generic
	Compiler: gcc 8.5.0 20210514

CentOS Stream 9
	Kernel: 5.4.0-167-generic
	Compiler: gcc 11.4.1 20230605

Fedora 39
	Kernel: Depends on container host
	Compiler: clang 17.0.6

RHEL8
	Kernel: 5.4.0-167-generic
	Compiler: gcc 8.5.0 20210514 (Red Hat 8.5.0-20)

To view detailed results, visit:
https://lab.dpdk.org/results/dashboard/patchsets/29831/

UNH-IOL DPDK Community Lab

To manage your email subscriptions, visit: 
https://lab.dpdk.org/results/dashboard/preferences/subscriptions/