From mboxrd@z Thu Jan  1 00:00:00 1970
Return-Path: <test-report-bounces@dpdk.org>
Received: from mails.dpdk.org (mails.dpdk.org [217.70.189.124])
	by inbox.dpdk.org (Postfix) with ESMTP id 2BA6D43EB3
	for <public@inbox.dpdk.org>; Fri, 19 Apr 2024 23:20:56 +0200 (CEST)
Received: from mails.dpdk.org (localhost [127.0.0.1])
	by mails.dpdk.org (Postfix) with ESMTP id 2193440698;
	Fri, 19 Apr 2024 23:20:56 +0200 (CEST)
Received: from mail-oo1-f98.google.com (mail-oo1-f98.google.com
 [209.85.161.98]) by mails.dpdk.org (Postfix) with ESMTP id CEA9040696
 for <test-report@dpdk.org>; Fri, 19 Apr 2024 23:20:44 +0200 (CEST)
Received: by mail-oo1-f98.google.com with SMTP id
 006d021491bc7-5aa2551d33dso1462462eaf.0
 for <test-report@dpdk.org>; Fri, 19 Apr 2024 14:20:44 -0700 (PDT)
DKIM-Signature: v=1; a=rsa-sha256; c=relaxed/relaxed;
 d=iol.unh.edu; s=unh-iol; t=1713561644; x=1714166444; darn=dpdk.org;
 h=references:in-reply-to:cc:to:from:subject:message-id:date:from:to
 :cc:subject:date:message-id:reply-to;
 bh=aBEIvMfnzOI7Q4Mc8dyTXTwey64lKlBQV1eqWk6Mpe4=;
 b=DFzJphFGfJIbjHR9alWHFGiUfte8uuLnb5bXB9gbmF7VHpIGDxXrPo32o0ve7m6c9s
 7xzXkGYrj7ea0fZk+LO5jhDzo44kGGScOIizgsTDtMMFf0tJNYeI0bRwNA1AdQS65aKz
 Q6BkxRn3h8i2yWFH1jhPhKzekAYK0D5FkQ9s4=
X-Google-DKIM-Signature: v=1; a=rsa-sha256; c=relaxed/relaxed;
 d=1e100.net; s=20230601; t=1713561644; x=1714166444;
 h=references:in-reply-to:cc:to:from:subject:message-id:date
 :x-gm-message-state:from:to:cc:subject:date:message-id:reply-to;
 bh=aBEIvMfnzOI7Q4Mc8dyTXTwey64lKlBQV1eqWk6Mpe4=;
 b=JMcn99R2a0toug7jJnbz3ZhbDck9bZKZNRFHdHAXzyTZSABWc/GovIKUaIudS/5g/4
 20Iry8Lpk4BZK3rtMhVh+SyvO1JZZD67c2023Sj+KRuaAilOGR1rCTMNpDrGEt5jThIu
 pc2WYj8aCWZZkrGXpP5S4dJM5MSzEDhnynMp6MreqK4CceVqcFaYv8HeEGDiZBlC4PRf
 B+w+OCiZlUIoBl28jJmCRNvk+IIwIdTcuGrT6MzqgN6vZ5IZM0HOVVV+apSXHPbNMWbz
 gHCepToCTMkWOZQxfps2NIbt/xEfd2q0nFnCE5MD41F8xeEoiWtEWfCac1a3ryl8fyn7
 B4bg==
X-Gm-Message-State: AOJu0YzYt/yYpJUy1Oo/Re0bLbSDzJpQEuC1NHW5OAVuXlHCKfKrR7Jn
 R9JjxYNawahxrhkaz3B5IODSQLnN8xSxwWNz1Sp6JvmkuQ63tIEZDstiRK9X4+ZOiYQttRAgwvU
 HCYp8JGQFmpK6/3jxnoAhMJAfTnT4TmqqVOudn8xFRP6ePtSuDz4lI2Jh
X-Google-Smtp-Source: AGHT+IGpTnIgnjmg4SjPkNxmAfdgduy8DrBwL+rDsgu6EN0V1Gc3H2+1c3OLAg8V1tR/uhbgQfhPckBzMB5g
X-Received: by 2002:a4a:5b85:0:b0:5aa:67ac:856f with SMTP id
 g127-20020a4a5b85000000b005aa67ac856fmr3477120oob.4.1713561644252; 
 Fri, 19 Apr 2024 14:20:44 -0700 (PDT)
Received: from postal.iol.unh.edu (postal.iol.unh.edu.
 [2606:4100:3880:1234::84]) by smtp-relay.gmail.com with ESMTPS id
 bb38-20020a056820162600b005a7b1614139sm188762oob.6.2024.04.19.14.20.44
 (version=TLS1_2 cipher=ECDHE-ECDSA-AES128-GCM-SHA256 bits=128/128);
 Fri, 19 Apr 2024 14:20:44 -0700 (PDT)
X-Relaying-Domain: iol.unh.edu
Date: Fri, 19 Apr 2024 14:20:44 -0700 (PDT)
Message-ID: <6622e02c.050a0220.2ea9.9491SMTPIN_ADDED_MISSING@mx.google.com>
Received: from [172.21.0.6] (unknown [172.18.0.240])
 by postal.iol.unh.edu (Postfix) with ESMTP id B81F8604D420;
 Fri, 19 Apr 2024 17:20:43 -0400 (EDT)
Subject: |SUCCESS| pw139553-139557 [PATCH] [6/6] crypto/ionic: add documentat
From: dpdklab@iol.unh.edu
To: Test Report <test-report@dpdk.org>
Cc: dpdk-test-reports@iol.unh.edu
In-Reply-To: <20240419195310.21432-7-andrew.boyer@amd.com>
References: <20240419195310.21432-7-andrew.boyer@amd.com>
Content-Type: text/plain
X-BeenThere: test-report@dpdk.org
X-Mailman-Version: 2.1.29
Precedence: list
List-Id: automatic DPDK test reports <test-report.dpdk.org>
List-Unsubscribe: <https://mails.dpdk.org/options/test-report>,
 <mailto:test-report-request@dpdk.org?subject=unsubscribe>
List-Archive: <http://mails.dpdk.org/archives/test-report/>
List-Post: <mailto:test-report@dpdk.org>
List-Help: <mailto:test-report-request@dpdk.org?subject=help>
List-Subscribe: <https://mails.dpdk.org/listinfo/test-report>,
 <mailto:test-report-request@dpdk.org?subject=subscribe>
Errors-To: test-report-bounces@dpdk.org

Test-Label: iol-compile-amd64-testing
Test-Status: SUCCESS
http://dpdk.org/patch/139557

_Testing PASS_

Submitter: Andrew Boyer <Andrew.Boyer@amd.com>
Date: Friday, April 19 2024 19:53:10 
DPDK git baseline: Repo:dpdk
  Branch: master
  CommitID:7e06c0de1952d3109a5b0c4779d7e7d8059c9d78

139553-139557 --> testing pass

Test environment and result as below:

+---------------------+-------------------+--------------------+----------------------+
|     Environment     | dpdk_msvc_compile | dpdk_meson_compile | dpdk_mingw64_compile |
+=====================+===================+====================+======================+
| Windows Server 2022 | PASS              | PASS               | PASS                 |
+---------------------+-------------------+--------------------+----------------------+
| FreeBSD 13.2        | SKIPPED           | PASS               | SKIPPED              |
+---------------------+-------------------+--------------------+----------------------+
| CentOS Stream 8     | SKIPPED           | PASS               | SKIPPED              |
+---------------------+-------------------+--------------------+----------------------+
| Windows Server 2019 | SKIPPED           | PASS               | PASS                 |
+---------------------+-------------------+--------------------+----------------------+
| Debian Bullseye     | SKIPPED           | PASS               | SKIPPED              |
+---------------------+-------------------+--------------------+----------------------+
| Debian 12           | SKIPPED           | PASS               | SKIPPED              |
+---------------------+-------------------+--------------------+----------------------+
| openSUSE Leap 15    | SKIPPED           | PASS               | SKIPPED              |
+---------------------+-------------------+--------------------+----------------------+
| CentOS Stream 9     | SKIPPED           | PASS               | SKIPPED              |
+---------------------+-------------------+--------------------+----------------------+
| Ubuntu 22.04        | SKIPPED           | PASS               | SKIPPED              |
+---------------------+-------------------+--------------------+----------------------+
| Ubuntu 20.04        | SKIPPED           | PASS               | SKIPPED              |
+---------------------+-------------------+--------------------+----------------------+
| Fedora 37           | SKIPPED           | PASS               | SKIPPED              |
+---------------------+-------------------+--------------------+----------------------+
| Fedora 38           | SKIPPED           | PASS               | SKIPPED              |
+---------------------+-------------------+--------------------+----------------------+
| RHEL8               | SKIPPED           | PASS               | SKIPPED              |
+---------------------+-------------------+--------------------+----------------------+


Windows Server 2022
	Kernel: 10.0.20348.2031
	Compiler: clang 15.0.7, gcc 8.1.0 (MinGW), and MSVC VS 17.9

FreeBSD 13.2
	Kernel: 13.2
	Compiler: clang 14.0.5

CentOS Stream 8
	Kernel: 5.4.0-167-generic
	Compiler: gcc 8.5.0 20210514

Windows Server 2019
	Kernel: 10.0.17763
	Compiler: clang 14.0 and gcc 8.1.0 (MinGW)

Debian Bullseye
	Kernel: 5.4.0-167-generic
	Compiler: gcc 10.2.1-6

Debian 12
	Kernel: Container Host Kernel
	Compiler: gcc 10.2.1

openSUSE Leap 15
	Kernel: 5.4.0-167-generic
	Compiler: gcc 7.5.0

CentOS Stream 9
	Kernel: 5.4.0-167-generic
	Compiler: gcc 11.4.1 20230605

Ubuntu 22.04
	Kernel: 5.4.0-167-generic
	Compiler: gcc 11.4.0

Ubuntu 20.04
	Kernel: 5.4.0-167-generic
	Compiler: gcc 9.4.0-1ubuntu1~20.04.1

Fedora 37
	Kernel: Depends on container host system
	Compiler: gcc 12.3.1

Fedora 38
	Kernel: Depends on container host
	Compiler: gcc 13.2.1

RHEL8
	Kernel: 5.4.0-167-generic
	Compiler: gcc 8.5.0 20210514 (Red Hat 8.5.0-20)

To view detailed results, visit:
https://lab.dpdk.org/results/dashboard/patchsets/29831/

UNH-IOL DPDK Community Lab

To manage your email subscriptions, visit: 
https://lab.dpdk.org/results/dashboard/preferences/subscriptions/