From mboxrd@z Thu Jan  1 00:00:00 1970
Return-Path: <test-report-bounces@dpdk.org>
Received: from mails.dpdk.org (mails.dpdk.org [217.70.189.124])
	by inbox.dpdk.org (Postfix) with ESMTP id 7718743EB3
	for <public@inbox.dpdk.org>; Fri, 19 Apr 2024 23:23:11 +0200 (CEST)
Received: from mails.dpdk.org (localhost [127.0.0.1])
	by mails.dpdk.org (Postfix) with ESMTP id 72E9F40698;
	Fri, 19 Apr 2024 23:23:11 +0200 (CEST)
Received: from mail-il1-f228.google.com (mail-il1-f228.google.com
 [209.85.166.228])
 by mails.dpdk.org (Postfix) with ESMTP id ED19E40696
 for <test-report@dpdk.org>; Fri, 19 Apr 2024 23:23:09 +0200 (CEST)
Received: by mail-il1-f228.google.com with SMTP id
 e9e14a558f8ab-36b2f1152dbso9718425ab.2
 for <test-report@dpdk.org>; Fri, 19 Apr 2024 14:23:09 -0700 (PDT)
DKIM-Signature: v=1; a=rsa-sha256; c=relaxed/relaxed;
 d=iol.unh.edu; s=unh-iol; t=1713561789; x=1714166589; darn=dpdk.org;
 h=references:in-reply-to:cc:to:from:subject:message-id:date:from:to
 :cc:subject:date:message-id:reply-to;
 bh=0Es7X7h5lYTCcOVDYaYAnlwsC6nivPeL8BXY8Yi8H0s=;
 b=KOBHEYw9c6xwK8MJMX8o7sjw3eISyi515AZxlA+NMhGmo1zTDIi5BnIgvjAwDwzVlq
 yMnn82+SI1I4Do+DEe2cKlF0FkkOBu7GIrLAABhi4bhEKVtcP0QeyHZwFFc6nOUAkjI3
 UZPnDR0LR55mvn5pD6U/ZZKfxKVyPqffs2p80=
X-Google-DKIM-Signature: v=1; a=rsa-sha256; c=relaxed/relaxed;
 d=1e100.net; s=20230601; t=1713561789; x=1714166589;
 h=references:in-reply-to:cc:to:from:subject:message-id:date
 :x-gm-message-state:from:to:cc:subject:date:message-id:reply-to;
 bh=0Es7X7h5lYTCcOVDYaYAnlwsC6nivPeL8BXY8Yi8H0s=;
 b=PRM69IBBL/ZrE+a+jibcNe8G78s22tO78vYC50ixrMhSTv4oRVlCBxIqyp4budiw2Y
 dQitMOcDD/b3000yfRGa6QHkCgE0868xvDBZBhGRXcXn7bM4o9kvI/ljUMZrXvulfbmM
 Fdyw5PA6cjfQZbrMr/NGh8v50B+kngkRhO5SKh06cST3jlW1gbDEYcwfhbLK4Mf5BcLP
 4wHjd0o8oHvdQ8sxHSEIhJlRrmNRmrDKzCdHU4xm9H76RrD7pnid7mIXaRt4bUZWn+XL
 X8nD/S1Cqpzji2kJdUsbiOCRUbK293xsJWVmKbonu9fbhKdEfVqGXL9E1K/cVH8oiu8E
 cRxA==
X-Gm-Message-State: AOJu0Yyp/zk/8pUFg8chtDWjfdj0CnlJoTM7S43f+rsh8WbYkg/iy7vX
 HEVh5UgqmXopQKXeimXm9/C+MMQTERuGchqe56po2YuLnb3WdmMjCty61R4nzV8OzpDpvusksHQ
 ObDr/Ctb9Dga2LrMbM1ZRG9+IE61aZutIpbIL4YQ8Zz6qRiV6qETCWpxl
X-Google-Smtp-Source: AGHT+IE5nVp2gY7gwo4aR7kfdY0qukhC+E8cbyQA+O0WdEU2CdiBt8Gv1tv7IccVkNZfR8Xp2XUXzlBaly1B
X-Received: by 2002:a05:6e02:1608:b0:36b:837:db0e with SMTP id
 t8-20020a056e02160800b0036b0837db0emr4600858ilu.1.1713561788886; 
 Fri, 19 Apr 2024 14:23:08 -0700 (PDT)
Received: from postal.iol.unh.edu (postal.iol.unh.edu.
 [2606:4100:3880:1234::84]) by smtp-relay.gmail.com with ESMTPS id
 k15-20020a056e02156f00b0036a07854c0esm226086ilu.11.2024.04.19.14.23.08
 (version=TLS1_2 cipher=ECDHE-ECDSA-AES128-GCM-SHA256 bits=128/128);
 Fri, 19 Apr 2024 14:23:08 -0700 (PDT)
X-Relaying-Domain: iol.unh.edu
Date: Fri, 19 Apr 2024 14:23:08 -0700 (PDT)
Message-ID: <6622e0bc.050a0220.71b89.cf7aSMTPIN_ADDED_MISSING@mx.google.com>
Received: from [172.17.0.4] (unknown [172.18.0.217])
 by postal.iol.unh.edu (Postfix) with ESMTP id 66D90604D421;
 Fri, 19 Apr 2024 17:23:08 -0400 (EDT)
Subject: |SUCCESS| pw139553-139557 [PATCH] [6/6] crypto/ionic: add documentat
From: dpdklab@iol.unh.edu
To: Test Report <test-report@dpdk.org>
Cc: dpdk-test-reports@iol.unh.edu
In-Reply-To: <20240419195310.21432-7-andrew.boyer@amd.com>
References: <20240419195310.21432-7-andrew.boyer@amd.com>
Content-Type: text/plain
X-BeenThere: test-report@dpdk.org
X-Mailman-Version: 2.1.29
Precedence: list
List-Id: automatic DPDK test reports <test-report.dpdk.org>
List-Unsubscribe: <https://mails.dpdk.org/options/test-report>,
 <mailto:test-report-request@dpdk.org?subject=unsubscribe>
List-Archive: <http://mails.dpdk.org/archives/test-report/>
List-Post: <mailto:test-report@dpdk.org>
List-Help: <mailto:test-report-request@dpdk.org?subject=help>
List-Subscribe: <https://mails.dpdk.org/listinfo/test-report>,
 <mailto:test-report-request@dpdk.org?subject=subscribe>
Errors-To: test-report-bounces@dpdk.org

Test-Label: iol-unit-arm64-testing
Test-Status: SUCCESS
http://dpdk.org/patch/139557

_Testing PASS_

Submitter: Andrew Boyer <Andrew.Boyer@amd.com>
Date: Friday, April 19 2024 19:53:10 
DPDK git baseline: Repo:dpdk
  Branch: master
  CommitID:7e06c0de1952d3109a5b0c4779d7e7d8059c9d78

139553-139557 --> testing pass

Test environment and result as below:

+--------------------------+----------------+--------------+
|       Environment        | dpdk_unit_test | lpm_autotest |
+==========================+================+==============+
| Debian 12 (arm)          | PASS           | SKIPPED      |
+--------------------------+----------------+--------------+
| Fedora 38 (ARM)          | PASS           | SKIPPED      |
+--------------------------+----------------+--------------+
| CentOS Stream 9 (ARM)    | PASS           | SKIPPED      |
+--------------------------+----------------+--------------+
| Debian 11 (Buster) (ARM) | PASS           | SKIPPED      |
+--------------------------+----------------+--------------+
| Fedora 37 (ARM)          | PASS           | SKIPPED      |
+--------------------------+----------------+--------------+
| Ubuntu 20.04 ARM SVE     | SKIPPED        | PASS         |
+--------------------------+----------------+--------------+


Debian 12 (arm)
	Kernel: Container Host Kernel
	Compiler: gcc 12.2.0

Fedora 38 (ARM)
	Kernel: Depends on container host
	Compiler: gcc 13.2.1

CentOS Stream 9 (ARM)
	Kernel: Container Host Kernel
	Compiler: gcc 11.4.1

Debian 11 (Buster) (ARM)
	Kernel: Container Host Kernel
	Compiler: gcc 10.2.1

Fedora 37 (ARM)
	Kernel: Depends on container host
	Compiler: gcc 12.3.1

Ubuntu 20.04 ARM SVE
	Kernel: 5.4.0-167-generic
	Compiler: gcc (Ubuntu 10.5.0-1ubuntu1~20.04) 10.5.0

To view detailed results, visit:
https://lab.dpdk.org/results/dashboard/patchsets/29831/

UNH-IOL DPDK Community Lab

To manage your email subscriptions, visit: 
https://lab.dpdk.org/results/dashboard/preferences/subscriptions/