From mboxrd@z Thu Jan  1 00:00:00 1970
Return-Path: <test-report-bounces@dpdk.org>
Received: from mails.dpdk.org (mails.dpdk.org [217.70.189.124])
	by inbox.dpdk.org (Postfix) with ESMTP id 995EB43EB4
	for <public@inbox.dpdk.org>; Sat, 20 Apr 2024 00:10:06 +0200 (CEST)
Received: from mails.dpdk.org (localhost [127.0.0.1])
	by mails.dpdk.org (Postfix) with ESMTP id 8106B402A5;
	Sat, 20 Apr 2024 00:10:06 +0200 (CEST)
Received: from mail-yw1-f228.google.com (mail-yw1-f228.google.com
 [209.85.128.228])
 by mails.dpdk.org (Postfix) with ESMTP id 46AB3402A3
 for <test-report@dpdk.org>; Sat, 20 Apr 2024 00:10:05 +0200 (CEST)
Received: by mail-yw1-f228.google.com with SMTP id
 00721157ae682-61b3be24dd9so6360687b3.0
 for <test-report@dpdk.org>; Fri, 19 Apr 2024 15:10:05 -0700 (PDT)
DKIM-Signature: v=1; a=rsa-sha256; c=relaxed/relaxed;
 d=iol.unh.edu; s=unh-iol; t=1713564604; x=1714169404; darn=dpdk.org;
 h=references:in-reply-to:cc:to:from:subject:message-id:date:from:to
 :cc:subject:date:message-id:reply-to;
 bh=EWEbBIONZ/vCEJFNw1ZAQLscO+81EI6DCct6eJsoP9Q=;
 b=ZprbYBBQym4LNXD3LYchl9sakC60dUo72bBYFtVwI/RcZf4qwtSaruWWXmCMyVvKed
 TaP9XGT5AzYSx76GW/PdQklZKByjLETyUpO9jaM6YUB/Ceb0VAcSEYDzW2fRnGDFdgrN
 Ojll8p+xSvdTLCP6E2t/EHYwtlULF7PDZsk38=
X-Google-DKIM-Signature: v=1; a=rsa-sha256; c=relaxed/relaxed;
 d=1e100.net; s=20230601; t=1713564604; x=1714169404;
 h=references:in-reply-to:cc:to:from:subject:message-id:date
 :x-gm-message-state:from:to:cc:subject:date:message-id:reply-to;
 bh=EWEbBIONZ/vCEJFNw1ZAQLscO+81EI6DCct6eJsoP9Q=;
 b=eagiOMcAbrkjs66hC3DhSiilRhHfeSyXPCW5CAAGygdFitnjiJu3r7uzZ03TjuAyxc
 c4k40RjhKitMYjDDAxgznkR2JieCJRUyb7SbVncVgRLpwkgES+K/9h5CGIUZW1DjwhTv
 h0erHmBnaUavmgvy/sQ5j7WypNh7HWlrdbvcVwLJbf45tafHxvz7rl4Fsuy5f4KbdHlT
 ezz28+H2Vugl6MnOhYqSVof7CrcQ8N9CDMJsl2XS89Tmq1CWYBMH/UQ+6WMXrNHyvtHJ
 wFJl9De8tdM2I3HezYPRXlMy1tv/LRf2A4kpMrv8PdDiYI3OmmxBs91gTUtlabVdCVK2
 hHGg==
X-Gm-Message-State: AOJu0YyyqX54K/T9vaZfm3akAg6DIrklMxT8I18FMoWeJeldN0MnOi1L
 7oge7wy7e2Pd0vIB92HmSaHKl4ebdHBaO3s/4dQGBwOpsB1PE/ZXhVF6EljCrJTF8c+M7lhsILY
 LnQR/n9RqLIveqVZGD4cjb+QsNa3+pdobJQT8R1yiQIMKPFgnsiLLMZKG
X-Google-Smtp-Source: AGHT+IGvZMkWUm9ik6CbOme1S63VkI9nGcTCQ9wSqy+Dql7FxZ/PIxvYd60r8OdmjprUPQM8j0xvqW1nBv47
X-Received: by 2002:a05:690c:f11:b0:61a:e5b8:7a18 with SMTP id
 dc17-20020a05690c0f1100b0061ae5b87a18mr3466467ywb.20.1713564604598; 
 Fri, 19 Apr 2024 15:10:04 -0700 (PDT)
Received: from postal.iol.unh.edu (postal.iol.unh.edu.
 [2606:4100:3880:1234::84]) by smtp-relay.gmail.com with ESMTPS id
 x83-20020a81a056000000b0061582c3b359sm312306ywg.50.2024.04.19.15.10.04
 (version=TLS1_2 cipher=ECDHE-ECDSA-AES128-GCM-SHA256 bits=128/128);
 Fri, 19 Apr 2024 15:10:04 -0700 (PDT)
X-Relaying-Domain: iol.unh.edu
Date: Fri, 19 Apr 2024 15:10:04 -0700 (PDT)
Message-ID: <6622ebbc.810a0220.e57e4.130dSMTPIN_ADDED_MISSING@mx.google.com>
Received: from [172.17.0.2] (unknown [172.18.0.217])
 by postal.iol.unh.edu (Postfix) with ESMTP id 35AFA604D420;
 Fri, 19 Apr 2024 18:10:04 -0400 (EDT)
Subject: |SUCCESS| pw139553-139557 [PATCH] [6/6] crypto/ionic: add documentat
From: dpdklab@iol.unh.edu
To: Test Report <test-report@dpdk.org>
Cc: dpdk-test-reports@iol.unh.edu
In-Reply-To: <20240419195310.21432-7-andrew.boyer@amd.com>
References: <20240419195310.21432-7-andrew.boyer@amd.com>
Content-Type: text/plain
X-BeenThere: test-report@dpdk.org
X-Mailman-Version: 2.1.29
Precedence: list
List-Id: automatic DPDK test reports <test-report.dpdk.org>
List-Unsubscribe: <https://mails.dpdk.org/options/test-report>,
 <mailto:test-report-request@dpdk.org?subject=unsubscribe>
List-Archive: <http://mails.dpdk.org/archives/test-report/>
List-Post: <mailto:test-report@dpdk.org>
List-Help: <mailto:test-report-request@dpdk.org?subject=help>
List-Subscribe: <https://mails.dpdk.org/listinfo/test-report>,
 <mailto:test-report-request@dpdk.org?subject=subscribe>
Errors-To: test-report-bounces@dpdk.org

Test-Label: iol-unit-arm64-testing
Test-Status: SUCCESS
http://dpdk.org/patch/139557

_Testing PASS_

Submitter: Andrew Boyer <Andrew.Boyer@amd.com>
Date: Friday, April 19 2024 19:53:10 
DPDK git baseline: Repo:dpdk
  Branch: master
  CommitID:7e06c0de1952d3109a5b0c4779d7e7d8059c9d78

139553-139557 --> testing pass

Test environment and result as below:

+-----------------------------+----------------+--------------+---------------------------+------------------------------+
|         Environment         | dpdk_unit_test | lpm_autotest | cryptodev_sw_zuc_autotest | cryptodev_sw_snow3g_autotest |
+=============================+================+==============+===========================+==============================+
| Debian 12 (arm)             | PASS           | SKIPPED      | PASS                      | PASS                         |
+-----------------------------+----------------+--------------+---------------------------+------------------------------+
| Fedora 38 (ARM)             | PASS           | SKIPPED      | SKIPPED                   | SKIPPED                      |
+-----------------------------+----------------+--------------+---------------------------+------------------------------+
| CentOS Stream 9 (ARM)       | PASS           | SKIPPED      | SKIPPED                   | SKIPPED                      |
+-----------------------------+----------------+--------------+---------------------------+------------------------------+
| Debian 11 (Buster) (ARM)    | PASS           | SKIPPED      | SKIPPED                   | SKIPPED                      |
+-----------------------------+----------------+--------------+---------------------------+------------------------------+
| Fedora 37 (ARM)             | PASS           | SKIPPED      | SKIPPED                   | SKIPPED                      |
+-----------------------------+----------------+--------------+---------------------------+------------------------------+
| 32-bit Ubuntu 20.04.4 (ARM) | PASS           | SKIPPED      | SKIPPED                   | SKIPPED                      |
+-----------------------------+----------------+--------------+---------------------------+------------------------------+
| Ubuntu 20.04 (ARM)          | PASS           | SKIPPED      | SKIPPED                   | SKIPPED                      |
+-----------------------------+----------------+--------------+---------------------------+------------------------------+
| Fedora 39 (ARM)             | PASS           | SKIPPED      | SKIPPED                   | SKIPPED                      |
+-----------------------------+----------------+--------------+---------------------------+------------------------------+
| Fedora 38 (ARM Clang)       | PASS           | SKIPPED      | SKIPPED                   | SKIPPED                      |
+-----------------------------+----------------+--------------+---------------------------+------------------------------+
| Fedora 39 (ARM Clang)       | PASS           | SKIPPED      | SKIPPED                   | SKIPPED                      |
+-----------------------------+----------------+--------------+---------------------------+------------------------------+
| Ubuntu 20.04 ARM SVE        | SKIPPED        | PASS         | SKIPPED                   | SKIPPED                      |
+-----------------------------+----------------+--------------+---------------------------+------------------------------+


Debian 12 (arm)
	Kernel: Container Host Kernel
	Compiler: gcc 12.2.0

Fedora 38 (ARM)
	Kernel: Depends on container host
	Compiler: gcc 13.2.1

CentOS Stream 9 (ARM)
	Kernel: Container Host Kernel
	Compiler: gcc 11.4.1

Debian 11 (Buster) (ARM)
	Kernel: Container Host Kernel
	Compiler: gcc 10.2.1

Fedora 37 (ARM)
	Kernel: Depends on container host
	Compiler: gcc 12.3.1

32-bit Ubuntu 20.04.4 (ARM)
	Kernel: 5.4.0-155-generic aarch64
	Compiler: gcc 9.4

Ubuntu 20.04 (ARM)
	Kernel: Container Host Kernel
	Compiler: gcc 9.4.0

Fedora 39 (ARM)
	Kernel: Depends on container host
	Compiler: gcc 13.2.1

Fedora 38 (ARM Clang)
	Kernel: Depends on container host
	Compiler: clang 16.0.6

Fedora 39 (ARM Clang)
	Kernel: Depends on container host
	Compiler: clang 17.0.6

Ubuntu 20.04 ARM SVE
	Kernel: 5.4.0-167-generic
	Compiler: gcc (Ubuntu 10.5.0-1ubuntu1~20.04) 10.5.0

To view detailed results, visit:
https://lab.dpdk.org/results/dashboard/patchsets/29831/

UNH-IOL DPDK Community Lab

To manage your email subscriptions, visit: 
https://lab.dpdk.org/results/dashboard/preferences/subscriptions/