From mboxrd@z Thu Jan  1 00:00:00 1970
Return-Path: <test-report-bounces@dpdk.org>
Received: from mails.dpdk.org (mails.dpdk.org [217.70.189.124])
	by inbox.dpdk.org (Postfix) with ESMTP id A4E0C43EAE
	for <public@inbox.dpdk.org>; Sat, 20 Apr 2024 02:02:50 +0200 (CEST)
Received: from mails.dpdk.org (localhost [127.0.0.1])
	by mails.dpdk.org (Postfix) with ESMTP id A100340A6D;
	Sat, 20 Apr 2024 02:02:50 +0200 (CEST)
Received: from mail-io1-f100.google.com (mail-io1-f100.google.com
 [209.85.166.100])
 by mails.dpdk.org (Postfix) with ESMTP id 196EE402C8
 for <test-report@dpdk.org>; Sat, 20 Apr 2024 02:02:49 +0200 (CEST)
Received: by mail-io1-f100.google.com with SMTP id
 ca18e2360f4ac-7da8164ae07so602839f.0
 for <test-report@dpdk.org>; Fri, 19 Apr 2024 17:02:49 -0700 (PDT)
DKIM-Signature: v=1; a=rsa-sha256; c=relaxed/relaxed;
 d=iol.unh.edu; s=unh-iol; t=1713571368; x=1714176168; darn=dpdk.org;
 h=references:in-reply-to:cc:to:from:subject:message-id:date:from:to
 :cc:subject:date:message-id:reply-to;
 bh=t18kDSaf6vJS1lQiTBoAkkLoeXFf+3KClL9uBCljPrw=;
 b=ctQYPb5VM3SB5qHZ/mySzMU6uq62vXxrdeNV7URO0YO/sWxttSQHoVren4mT0/FVfX
 KX/BoTQhWVEABzzdFIFw9D/CiPHyBMi3NxvrCcPKBKZn+efNK+3Rz/e0FUnAREfz4mul
 UiXlssMWZXzywLUDpov810WuCFAFRUVvy5wkk=
X-Google-DKIM-Signature: v=1; a=rsa-sha256; c=relaxed/relaxed;
 d=1e100.net; s=20230601; t=1713571368; x=1714176168;
 h=references:in-reply-to:cc:to:from:subject:message-id:date
 :x-gm-message-state:from:to:cc:subject:date:message-id:reply-to;
 bh=t18kDSaf6vJS1lQiTBoAkkLoeXFf+3KClL9uBCljPrw=;
 b=d/T1NGF2XmbgLJTeq2Ys47A4CNC9EaPs0JGQSEpT56Xq/lGR/wsHMYf3WEHSdUgWUK
 2P3eRtMh1ATllC6TIeRG+ZRcGA5d/gyHA/3Yla/AwMIWX11UIfTxtri+ShGiIC1ZN4sQ
 xEWr2YVNwdnpwToSZYlHFy5SFG0ku8LovVyhTr1k/Arg6R4nPRioRZTlp7v7HNvzrG2S
 um09/VdeeZvvzA74uVeGOApyB99CUN9ljE/kdzmIjXPVbsuK2m925yTRm98XClRh4SOP
 jpY67fJbYlIpDlyilOImil1U+3AnZFAEwf+jKUz/Zi+RFqLyws8wapeyoWbBp0vpKt9h
 A+ng==
X-Gm-Message-State: AOJu0Yzs3M+0dnK/vEh0F22Ku3c4EUE3SXqydJzlwmR/mY3cMIrjnycN
 w320rjHTlLS2LO/5aJDo4s/7p2mw3XwVgLj3q6VmO6imR1us4WP/x5I/bd+oh1Zq0dIsHSYxqmD
 e/saHW/woAqGyr5mDNF0fTFKSGE9aVHamCE2JzMEi
X-Google-Smtp-Source: AGHT+IFK6qNXpETY7c3sPXGK9nW4lE7KFeSD2XThHu6BkMpeXOz+lhBqOE53ucu+RXfqgZdZHiCz01ZbCQr6
X-Received: by 2002:a5e:df46:0:b0:7d9:d323:4ed9 with SMTP id
 g6-20020a5edf46000000b007d9d3234ed9mr4128480ioq.16.1713571368560; 
 Fri, 19 Apr 2024 17:02:48 -0700 (PDT)
Received: from postal.iol.unh.edu (postal.iol.unh.edu. [132.177.123.84])
 by smtp-relay.gmail.com with ESMTPS id
 v38-20020a05663835a600b00482773ccfc7sm299970jal.71.2024.04.19.17.02.48
 (version=TLS1_2 cipher=ECDHE-ECDSA-AES128-GCM-SHA256 bits=128/128);
 Fri, 19 Apr 2024 17:02:48 -0700 (PDT)
X-Relaying-Domain: iol.unh.edu
Date: Fri, 19 Apr 2024 17:02:48 -0700 (PDT)
Message-ID: <66230628.050a0220.e2f63.0684SMTPIN_ADDED_MISSING@mx.google.com>
Received: from [172.21.0.6] (unknown [172.18.0.240])
 by postal.iol.unh.edu (Postfix) with ESMTP id 2898B604D420;
 Fri, 19 Apr 2024 20:02:48 -0400 (EDT)
Subject: |SUCCESS| pw139561-139603 [PATCH] [v4,45/45] app/test-bbdev: use rte
From: dpdklab@iol.unh.edu
To: Test Report <test-report@dpdk.org>
Cc: dpdk-test-reports@iol.unh.edu
In-Reply-To: <1713568003-30453-46-git-send-email-roretzla@linux.microsoft.com>
References: <1713568003-30453-46-git-send-email-roretzla@linux.microsoft.com>
Content-Type: text/plain
X-BeenThere: test-report@dpdk.org
X-Mailman-Version: 2.1.29
Precedence: list
List-Id: automatic DPDK test reports <test-report.dpdk.org>
List-Unsubscribe: <https://mails.dpdk.org/options/test-report>,
 <mailto:test-report-request@dpdk.org?subject=unsubscribe>
List-Archive: <http://mails.dpdk.org/archives/test-report/>
List-Post: <mailto:test-report@dpdk.org>
List-Help: <mailto:test-report-request@dpdk.org?subject=help>
List-Subscribe: <https://mails.dpdk.org/listinfo/test-report>,
 <mailto:test-report-request@dpdk.org?subject=subscribe>
Errors-To: test-report-bounces@dpdk.org

Test-Label: iol-unit-arm64-testing
Test-Status: SUCCESS
http://dpdk.org/patch/139603

_Testing PASS_

Submitter: Tyler Retzlaff <roretzla@linux.microsoft.com>
Date: Friday, April 19 2024 23:06:43 
DPDK git baseline: Repo:dpdk
  Branch: master
  CommitID:7e06c0de1952d3109a5b0c4779d7e7d8059c9d78

139561-139603 --> testing pass

Test environment and result as below:

+--------------------------+------------------------------+---------------------------+----------------+--------------+
|       Environment        | cryptodev_sw_snow3g_autotest | cryptodev_sw_zuc_autotest | dpdk_unit_test | lpm_autotest |
+==========================+==============================+===========================+================+==============+
| Debian 12 (arm)          | PASS                         | PASS                      | PASS           | SKIPPED      |
+--------------------------+------------------------------+---------------------------+----------------+--------------+
| Debian 11 (Buster) (ARM) | SKIPPED                      | SKIPPED                   | PASS           | SKIPPED      |
+--------------------------+------------------------------+---------------------------+----------------+--------------+
| CentOS Stream 9 (ARM)    | SKIPPED                      | SKIPPED                   | PASS           | SKIPPED      |
+--------------------------+------------------------------+---------------------------+----------------+--------------+
| Ubuntu 20.04 ARM SVE     | SKIPPED                      | SKIPPED                   | SKIPPED        | PASS         |
+--------------------------+------------------------------+---------------------------+----------------+--------------+


Debian 12 (arm)
	Kernel: Container Host Kernel
	Compiler: gcc 12.2.0

Debian 11 (Buster) (ARM)
	Kernel: Container Host Kernel
	Compiler: gcc 10.2.1

CentOS Stream 9 (ARM)
	Kernel: Container Host Kernel
	Compiler: gcc 11.4.1

Ubuntu 20.04 ARM SVE
	Kernel: 5.4.0-167-generic
	Compiler: gcc (Ubuntu 10.5.0-1ubuntu1~20.04) 10.5.0

To view detailed results, visit:
https://lab.dpdk.org/results/dashboard/patchsets/29833/

UNH-IOL DPDK Community Lab

To manage your email subscriptions, visit: 
https://lab.dpdk.org/results/dashboard/preferences/subscriptions/