From mboxrd@z Thu Jan  1 00:00:00 1970
Return-Path: <test-report-bounces@dpdk.org>
Received: from mails.dpdk.org (mails.dpdk.org [217.70.189.124])
	by inbox.dpdk.org (Postfix) with ESMTP id ED8D843EAE
	for <public@inbox.dpdk.org>; Sat, 20 Apr 2024 02:05:35 +0200 (CEST)
Received: from mails.dpdk.org (localhost [127.0.0.1])
	by mails.dpdk.org (Postfix) with ESMTP id E10E0406B7;
	Sat, 20 Apr 2024 02:05:35 +0200 (CEST)
Received: from mail-pl1-f228.google.com (mail-pl1-f228.google.com
 [209.85.214.228])
 by mails.dpdk.org (Postfix) with ESMTP id 8A1E2402C3
 for <test-report@dpdk.org>; Sat, 20 Apr 2024 02:05:34 +0200 (CEST)
Received: by mail-pl1-f228.google.com with SMTP id
 d9443c01a7336-1e65a1370b7so25954895ad.3
 for <test-report@dpdk.org>; Fri, 19 Apr 2024 17:05:34 -0700 (PDT)
DKIM-Signature: v=1; a=rsa-sha256; c=relaxed/relaxed;
 d=iol.unh.edu; s=unh-iol; t=1713571534; x=1714176334; darn=dpdk.org;
 h=references:in-reply-to:cc:to:from:subject:message-id:date:from:to
 :cc:subject:date:message-id:reply-to;
 bh=NABuc0q4kQcLnwdR6savY134K22TIKMlQatYLYsgRaY=;
 b=XN548hkwq+RfS7Stceso7RWfHm1pzSPpF1SYvBh/0Tha7LTiJBPSmTm2Sed2LSCZ1+
 EjR/s3V9orS1C+iQ2YxwPfjYH6QW3ixrbWv05aDxFiXX/ectbdye9PtY6S2nmWcYxeHg
 QawrewQrYV+3bfzRnCihfJiFAoS7df3qqoJyY=
X-Google-DKIM-Signature: v=1; a=rsa-sha256; c=relaxed/relaxed;
 d=1e100.net; s=20230601; t=1713571534; x=1714176334;
 h=references:in-reply-to:cc:to:from:subject:message-id:date
 :x-gm-message-state:from:to:cc:subject:date:message-id:reply-to;
 bh=NABuc0q4kQcLnwdR6savY134K22TIKMlQatYLYsgRaY=;
 b=NWDx02pb4BtKPctlbPkiJeUyZ573A0cEZfCIiyHva1qVoo9X6OYhpkX6J/nGtKKC2r
 zjni5wvG1HH3PDITFlBX/nQ1p5XQMUAGADW/lTytYpJhIDTuNg6gk0tuFU5/hFap5UGD
 BE/TXHGSUDtY2k45X1BiTOJcNGVYwrjOsBKAUkYPJ11IW4oc1G7ExYPURv1Cyhg3g4N5
 v8Qq0AR5/cVlFFOAujs8wsC3aanlHCtb7fxJ/TzgdKDIz6WYy6RryK50FkCCkcISRaB8
 GphUKu3Hi1AXAJ+zHqXWqMIphE1Om8FbEjuMfOp7b0tZHu2GAmbIdNDODTXio/q4Cats
 YagQ==
X-Gm-Message-State: AOJu0YwCw/sPkoFMyv6jEc9gfkTCo1hareypg2oXPaGbAaOOJF6TL+fL
 vzyctRMaSqHnmAbTnkxJf8ubW7m8K469QTYJ53qNKy3Psl3TIVG2Vy6pCxJuQfVj1ze4ncCIVDr
 eumWaKHaOP1M77DTGCixbfsXFj0lV7+i6xvN4Y+ioQ1j13FiwowzUAlE/
X-Google-Smtp-Source: AGHT+IHE3JW8bVR1NiNfL+NPUv82OAxRQrfH8C+TzhDW97Gx5Uur0XEi6ouZCMLnW7FA9MFkxhiok3PLXrwd
X-Received: by 2002:a17:903:1c8:b0:1e7:d482:9d96 with SMTP id
 e8-20020a17090301c800b001e7d4829d96mr4679066plh.10.1713571533737; 
 Fri, 19 Apr 2024 17:05:33 -0700 (PDT)
Received: from postal.iol.unh.edu (postal.iol.unh.edu.
 [2606:4100:3880:1234::84]) by smtp-relay.gmail.com with ESMTPS id
 o2-20020a1709026b0200b001dca998bfafsm150517plk.134.2024.04.19.17.05.33
 (version=TLS1_2 cipher=ECDHE-ECDSA-AES128-GCM-SHA256 bits=128/128);
 Fri, 19 Apr 2024 17:05:33 -0700 (PDT)
X-Relaying-Domain: iol.unh.edu
Date: Fri, 19 Apr 2024 17:05:33 -0700 (PDT)
Message-ID: <662306cd.170a0220.b0799.8235SMTPIN_ADDED_MISSING@mx.google.com>
Received: from [172.21.0.6] (unknown [172.18.0.240])
 by postal.iol.unh.edu (Postfix) with ESMTP id E0673604D420;
 Fri, 19 Apr 2024 20:05:32 -0400 (EDT)
Subject: |SUCCESS| pw139561-139603 [PATCH] [v4,45/45] app/test-bbdev: use rte
From: dpdklab@iol.unh.edu
To: Test Report <test-report@dpdk.org>
Cc: dpdk-test-reports@iol.unh.edu
In-Reply-To: <1713568003-30453-46-git-send-email-roretzla@linux.microsoft.com>
References: <1713568003-30453-46-git-send-email-roretzla@linux.microsoft.com>
Content-Type: text/plain
X-BeenThere: test-report@dpdk.org
X-Mailman-Version: 2.1.29
Precedence: list
List-Id: automatic DPDK test reports <test-report.dpdk.org>
List-Unsubscribe: <https://mails.dpdk.org/options/test-report>,
 <mailto:test-report-request@dpdk.org?subject=unsubscribe>
List-Archive: <http://mails.dpdk.org/archives/test-report/>
List-Post: <mailto:test-report@dpdk.org>
List-Help: <mailto:test-report-request@dpdk.org?subject=help>
List-Subscribe: <https://mails.dpdk.org/listinfo/test-report>,
 <mailto:test-report-request@dpdk.org?subject=subscribe>
Errors-To: test-report-bounces@dpdk.org

Test-Label: iol-compile-amd64-testing
Test-Status: SUCCESS
http://dpdk.org/patch/139603

_Testing PASS_

Submitter: Tyler Retzlaff <roretzla@linux.microsoft.com>
Date: Friday, April 19 2024 23:06:43 
DPDK git baseline: Repo:dpdk
  Branch: master
  CommitID:7e06c0de1952d3109a5b0c4779d7e7d8059c9d78

139561-139603 --> testing pass

Test environment and result as below:

+---------------------+--------------------+----------------------+-------------------+
|     Environment     | dpdk_meson_compile | dpdk_mingw64_compile | dpdk_msvc_compile |
+=====================+====================+======================+===================+
| CentOS Stream 9     | PASS               | SKIPPED              | SKIPPED           |
+---------------------+--------------------+----------------------+-------------------+
| CentOS Stream 8     | PASS               | SKIPPED              | SKIPPED           |
+---------------------+--------------------+----------------------+-------------------+
| Windows Server 2022 | PASS               | PASS                 | PASS              |
+---------------------+--------------------+----------------------+-------------------+
| FreeBSD 13.2        | PASS               | SKIPPED              | SKIPPED           |
+---------------------+--------------------+----------------------+-------------------+
| Debian Bullseye     | PASS               | SKIPPED              | SKIPPED           |
+---------------------+--------------------+----------------------+-------------------+
| Debian 12           | PASS               | SKIPPED              | SKIPPED           |
+---------------------+--------------------+----------------------+-------------------+
| Windows Server 2019 | PASS               | PASS                 | SKIPPED           |
+---------------------+--------------------+----------------------+-------------------+
| Fedora 37           | PASS               | SKIPPED              | SKIPPED           |
+---------------------+--------------------+----------------------+-------------------+


CentOS Stream 9
	Kernel: 5.4.0-167-generic
	Compiler: gcc 11.4.1 20230605

CentOS Stream 8
	Kernel: 5.4.0-167-generic
	Compiler: gcc 8.5.0 20210514

Windows Server 2022
	Kernel: 10.0.20348.2031
	Compiler: clang 15.0.7, gcc 8.1.0 (MinGW), and MSVC VS 17.9

FreeBSD 13.2
	Kernel: 13.2
	Compiler: clang 14.0.5

Debian Bullseye
	Kernel: 5.4.0-167-generic
	Compiler: gcc 10.2.1-6

Debian 12
	Kernel: Container Host Kernel
	Compiler: gcc 10.2.1

Windows Server 2019
	Kernel: 10.0.17763
	Compiler: clang 14.0 and gcc 8.1.0 (MinGW)

Fedora 37
	Kernel: Depends on container host system
	Compiler: gcc 12.3.1

To view detailed results, visit:
https://lab.dpdk.org/results/dashboard/patchsets/29833/

UNH-IOL DPDK Community Lab

To manage your email subscriptions, visit: 
https://lab.dpdk.org/results/dashboard/preferences/subscriptions/