From mboxrd@z Thu Jan  1 00:00:00 1970
Return-Path: <test-report-bounces@dpdk.org>
Received: from mails.dpdk.org (mails.dpdk.org [217.70.189.124])
	by inbox.dpdk.org (Postfix) with ESMTP id 6285643EAE
	for <public@inbox.dpdk.org>; Sat, 20 Apr 2024 02:09:47 +0200 (CEST)
Received: from mails.dpdk.org (localhost [127.0.0.1])
	by mails.dpdk.org (Postfix) with ESMTP id 55A3F40A71;
	Sat, 20 Apr 2024 02:09:47 +0200 (CEST)
Received: from mail-yw1-f225.google.com (mail-yw1-f225.google.com
 [209.85.128.225])
 by mails.dpdk.org (Postfix) with ESMTP id DC3C8406B7
 for <test-report@dpdk.org>; Sat, 20 Apr 2024 02:09:45 +0200 (CEST)
Received: by mail-yw1-f225.google.com with SMTP id
 00721157ae682-615019cd427so23336587b3.3
 for <test-report@dpdk.org>; Fri, 19 Apr 2024 17:09:45 -0700 (PDT)
DKIM-Signature: v=1; a=rsa-sha256; c=relaxed/relaxed;
 d=iol.unh.edu; s=unh-iol; t=1713571785; x=1714176585; darn=dpdk.org;
 h=references:in-reply-to:cc:to:from:subject:message-id:date:from:to
 :cc:subject:date:message-id:reply-to;
 bh=3UhcyIZNStBfhKfcw/6YuuMs6r7NNAPcnxkJ+aiYEYU=;
 b=gT/OQBZ4MW2Hy5mTMO5+11S5d8/EC0DJxCR4ryhJkxrHvTU2gcyj1Mfj2rSVYOJass
 I2UYhtSXvOP5/UNeYVtHWVIJjlTXloioxJ3bijBNLS6BbIi1ZNCsaskbjEmIWyjB/Og4
 R0XbCF6HFE/67nbDymXvHhd35SANKxA94Snxc=
X-Google-DKIM-Signature: v=1; a=rsa-sha256; c=relaxed/relaxed;
 d=1e100.net; s=20230601; t=1713571785; x=1714176585;
 h=references:in-reply-to:cc:to:from:subject:message-id:date
 :x-gm-message-state:from:to:cc:subject:date:message-id:reply-to;
 bh=3UhcyIZNStBfhKfcw/6YuuMs6r7NNAPcnxkJ+aiYEYU=;
 b=LbaiWe85aGpTvpcxIy18sFbAVZulC5UD22ARx3wLCknpMQWwYLSBXdOo1ZAjBJVu+k
 Yb4oFuf9f5HCPfmA1CzIH+zBHc4PJqzyvraaDdx6ue6edwU3ULN935zdmkb8LaZEww5q
 u8kLCkbqxwfpxy8ojMj8YU1eZD6KVjzKQW16b8BZeBuU3iMOuoACF74T1UxHhV+h7y3a
 cwhP2tVt0o7hVSw2veOuWRKCUoqzG7Dnq87/RumdhTzy5yNJRf28cdZT/oEYi5e4iAXJ
 khxkcGFXhp4OU4JTxB4dQEHLFSsWs/IsXKhoxBs+VV8zYPpcTY4V2XyT7U+P5JuuGaCj
 USog==
X-Gm-Message-State: AOJu0YylPd/795zoAVJu09gk/sCK1QS01zNiyHPhdFW45XlDdgyaCMwt
 wI07pnNVeykL9CaAmGuQKWHohoSErSKGzoMkqg5N1vDQACz3cXxrABrSmLpZbDCZ46uog/vwxaV
 Yg2oA4VHTLtfPihb/76RWXO7kU1P9eGnti/ZtlcnE
X-Google-Smtp-Source: AGHT+IFTDkItZAHF4ZWNFzdXi86ciWlpwiYuxstWj9H6CIYWn1Zd0/raiP23Se0a4+CCQ51QgVpwB31l0zYu
X-Received: by 2002:a05:690c:dd5:b0:61b:34a8:cba4 with SMTP id
 db21-20020a05690c0dd500b0061b34a8cba4mr3738430ywb.30.1713571785254; 
 Fri, 19 Apr 2024 17:09:45 -0700 (PDT)
Received: from postal.iol.unh.edu (postal.iol.unh.edu. [132.177.123.84])
 by smtp-relay.gmail.com with ESMTPS id
 i79-20020a819152000000b00618878011a2sm95133ywg.21.2024.04.19.17.09.45
 (version=TLS1_2 cipher=ECDHE-ECDSA-AES128-GCM-SHA256 bits=128/128);
 Fri, 19 Apr 2024 17:09:45 -0700 (PDT)
X-Relaying-Domain: iol.unh.edu
Date: Fri, 19 Apr 2024 17:09:45 -0700 (PDT)
Message-ID: <662307c9.810a0220.bba2d.4e6eSMTPIN_ADDED_MISSING@mx.google.com>
Received: from [172.21.0.7] (unknown [172.18.0.240])
 by postal.iol.unh.edu (Postfix) with ESMTP id E04B5604D420;
 Fri, 19 Apr 2024 20:09:44 -0400 (EDT)
Subject: |SUCCESS| pw139561-139603 [PATCH] [v4,45/45] app/test-bbdev: use rte
From: dpdklab@iol.unh.edu
To: Test Report <test-report@dpdk.org>
Cc: dpdk-test-reports@iol.unh.edu
In-Reply-To: <1713568003-30453-46-git-send-email-roretzla@linux.microsoft.com>
References: <1713568003-30453-46-git-send-email-roretzla@linux.microsoft.com>
Content-Type: text/plain
X-BeenThere: test-report@dpdk.org
X-Mailman-Version: 2.1.29
Precedence: list
List-Id: automatic DPDK test reports <test-report.dpdk.org>
List-Unsubscribe: <https://mails.dpdk.org/options/test-report>,
 <mailto:test-report-request@dpdk.org?subject=unsubscribe>
List-Archive: <http://mails.dpdk.org/archives/test-report/>
List-Post: <mailto:test-report@dpdk.org>
List-Help: <mailto:test-report-request@dpdk.org?subject=help>
List-Subscribe: <https://mails.dpdk.org/listinfo/test-report>,
 <mailto:test-report-request@dpdk.org?subject=subscribe>
Errors-To: test-report-bounces@dpdk.org

Test-Label: iol-compile-arm64-testing
Test-Status: SUCCESS
http://dpdk.org/patch/139603

_Testing PASS_

Submitter: Tyler Retzlaff <roretzla@linux.microsoft.com>
Date: Friday, April 19 2024 23:06:43 
DPDK git baseline: Repo:dpdk
  Branch: master
  CommitID:7e06c0de1952d3109a5b0c4779d7e7d8059c9d78

139561-139603 --> testing pass

Test environment and result as below:

+----------------------+--------------------+
|     Environment      | dpdk_meson_compile |
+======================+====================+
| Ubuntu 20.04 ARM SVE | PASS               |
+----------------------+--------------------+
| Debian 12 with MUSDK | PASS               |
+----------------------+--------------------+
| Fedora 38 (ARM)      | PASS               |
+----------------------+--------------------+
| Debian 12 (arm)      | PASS               |
+----------------------+--------------------+


Ubuntu 20.04 ARM SVE
	Kernel: 5.4.0-167-generic
	Compiler: gcc (Ubuntu 10.5.0-1ubuntu1~20.04) 10.5.0

Debian 12 with MUSDK
	Kernel: Container Host Kernel
	Compiler: gcc 12.2.0

Fedora 38 (ARM)
	Kernel: Depends on container host
	Compiler: gcc 13.2.1

Debian 12 (arm)
	Kernel: Container Host Kernel
	Compiler: gcc 12.2.0

To view detailed results, visit:
https://lab.dpdk.org/results/dashboard/patchsets/29833/

UNH-IOL DPDK Community Lab

To manage your email subscriptions, visit: 
https://lab.dpdk.org/results/dashboard/preferences/subscriptions/