From mboxrd@z Thu Jan  1 00:00:00 1970
Return-Path: <test-report-bounces@dpdk.org>
Received: from mails.dpdk.org (mails.dpdk.org [217.70.189.124])
	by inbox.dpdk.org (Postfix) with ESMTP id 1B7DF43EAE
	for <public@inbox.dpdk.org>; Sat, 20 Apr 2024 02:17:46 +0200 (CEST)
Received: from mails.dpdk.org (localhost [127.0.0.1])
	by mails.dpdk.org (Postfix) with ESMTP id 14134406B7;
	Sat, 20 Apr 2024 02:17:46 +0200 (CEST)
Received: from mail-oo1-f98.google.com (mail-oo1-f98.google.com
 [209.85.161.98]) by mails.dpdk.org (Postfix) with ESMTP id A1A8C402C3
 for <test-report@dpdk.org>; Sat, 20 Apr 2024 02:17:34 +0200 (CEST)
Received: by mail-oo1-f98.google.com with SMTP id
 006d021491bc7-5acf5c1a2f5so1707996eaf.0
 for <test-report@dpdk.org>; Fri, 19 Apr 2024 17:17:34 -0700 (PDT)
DKIM-Signature: v=1; a=rsa-sha256; c=relaxed/relaxed;
 d=iol.unh.edu; s=unh-iol; t=1713572254; x=1714177054; darn=dpdk.org;
 h=references:in-reply-to:cc:to:from:subject:message-id:date:from:to
 :cc:subject:date:message-id:reply-to;
 bh=nAImppSofRxE4PdCFXh8fIqY0eDHCsvw6aXUXACcy14=;
 b=V/GSAWGpp9sZNR4vKs2OVu7jETdJu2Yulj0mo23s0Q6b7tZtOhse62WU2coR1MqJht
 RW3+zEdrW3Pb241n1QlKRq2Qv0zQVWYk9YPk/116oH8Ai/KRCQYW7QofDZ0FnIW1avXx
 63be0Ra0aG5d2bH6GEMc+Piq3P3tHb87oLYOM=
X-Google-DKIM-Signature: v=1; a=rsa-sha256; c=relaxed/relaxed;
 d=1e100.net; s=20230601; t=1713572254; x=1714177054;
 h=references:in-reply-to:cc:to:from:subject:message-id:date
 :x-gm-message-state:from:to:cc:subject:date:message-id:reply-to;
 bh=nAImppSofRxE4PdCFXh8fIqY0eDHCsvw6aXUXACcy14=;
 b=AxGQBDJbF60CQMG4ncbUhJR5TQ/WSZzBZSY5dMHBvZH8gGgSN7fIhJiAAIkmYhAW83
 sNZYk+vvp3FzVBnvkhJT1G1l192d0QNYTPx67eSmY9bI3MUeb0w99tu2yUuHFImqArME
 7H3pYt5asK/nQjMsZt7SoBgSRVjckVNNXYRbCtO+K9WDd+Lr3wp34SRraZ6lnHG+eLAh
 zyx9uQB4k7rT3A4MxmSWD86u/wSAMd7tksj727VQAO0kbgGr5P8/2rSorUNhRhxuPKTs
 OdRwKWj6DqGqRa4lSdl5XKZCK/4EBYOd2tM0GfXFiI4Dsdy4CxAq6DcyMjn95qUzjA7+
 C/Ig==
X-Gm-Message-State: AOJu0YyZL4rFyTyvIrYNILZk27BrPZ0pYL9112S4uCrpMFg02XghuwP1
 zY28yLK2U0rw4KKaZ7sVwRxfJg1vWKcH1zfgLj0Ed6Xm+RuLSDwEaLG7vsWkEx/C6P5UqrgJSf2
 yOPAxCry+MXjXK74WOAZibUX3YKi0YJjvdN3NkffN
X-Google-Smtp-Source: AGHT+IE9MoHHr2kqdHN/xa4tPJbHK8HfmNjqTLjOZ5dpc8LsThrc5g3nBShQe5+Be5wd+ttKdo1ezGwaupz4
X-Received: by 2002:a4a:306:0:b0:5ac:bdbe:10fd with SMTP id
 6-20020a4a0306000000b005acbdbe10fdmr3637760ooi.9.1713572254139; 
 Fri, 19 Apr 2024 17:17:34 -0700 (PDT)
Received: from postal.iol.unh.edu (postal.iol.unh.edu. [132.177.123.84])
 by smtp-relay.gmail.com with ESMTPS id
 129-20020a4a1d87000000b005a9db549953sm379922oog.15.2024.04.19.17.17.34
 (version=TLS1_2 cipher=ECDHE-ECDSA-AES128-GCM-SHA256 bits=128/128);
 Fri, 19 Apr 2024 17:17:34 -0700 (PDT)
X-Relaying-Domain: iol.unh.edu
Date: Fri, 19 Apr 2024 17:17:34 -0700 (PDT)
Message-ID: <6623099e.4a0a0220.fb13e.678eSMTPIN_ADDED_MISSING@mx.google.com>
Received: from [172.17.0.4] (unknown [172.18.0.217])
 by postal.iol.unh.edu (Postfix) with ESMTP id A1C68604D420;
 Fri, 19 Apr 2024 20:17:33 -0400 (EDT)
Subject: |SUCCESS| pw139561-139603 [PATCH] [v4,45/45] app/test-bbdev: use rte
From: dpdklab@iol.unh.edu
To: Test Report <test-report@dpdk.org>
Cc: dpdk-test-reports@iol.unh.edu
In-Reply-To: <1713568003-30453-46-git-send-email-roretzla@linux.microsoft.com>
References: <1713568003-30453-46-git-send-email-roretzla@linux.microsoft.com>
Content-Type: text/plain
X-BeenThere: test-report@dpdk.org
X-Mailman-Version: 2.1.29
Precedence: list
List-Id: automatic DPDK test reports <test-report.dpdk.org>
List-Unsubscribe: <https://mails.dpdk.org/options/test-report>,
 <mailto:test-report-request@dpdk.org?subject=unsubscribe>
List-Archive: <http://mails.dpdk.org/archives/test-report/>
List-Post: <mailto:test-report@dpdk.org>
List-Help: <mailto:test-report-request@dpdk.org?subject=help>
List-Subscribe: <https://mails.dpdk.org/listinfo/test-report>,
 <mailto:test-report-request@dpdk.org?subject=subscribe>
Errors-To: test-report-bounces@dpdk.org

Test-Label: iol-unit-amd64-testing
Test-Status: SUCCESS
http://dpdk.org/patch/139603

_Testing PASS_

Submitter: Tyler Retzlaff <roretzla@linux.microsoft.com>
Date: Friday, April 19 2024 23:06:43 
DPDK git baseline: Repo:dpdk
  Branch: master
  CommitID:7e06c0de1952d3109a5b0c4779d7e7d8059c9d78

139561-139603 --> testing pass

Test environment and result as below:

+---------------------+----------------+
|     Environment     | dpdk_unit_test |
+=====================+================+
| Windows Server 2019 | PASS           |
+---------------------+----------------+
| CentOS Stream 8     | PASS           |
+---------------------+----------------+
| CentOS Stream 9     | PASS           |
+---------------------+----------------+
| Debian Bullseye     | PASS           |
+---------------------+----------------+
| Debian 12           | PASS           |
+---------------------+----------------+
| Fedora 37           | PASS           |
+---------------------+----------------+
| Fedora 38           | PASS           |
+---------------------+----------------+
| Fedora 39           | PASS           |
+---------------------+----------------+


Windows Server 2019
	Kernel: 10.0.17763
	Compiler: clang 14.0 and gcc 8.1.0 (MinGW)

CentOS Stream 8
	Kernel: 5.4.0-167-generic
	Compiler: gcc 8.5.0 20210514

CentOS Stream 9
	Kernel: 5.4.0-167-generic
	Compiler: gcc 11.4.1 20230605

Debian Bullseye
	Kernel: 5.4.0-167-generic
	Compiler: gcc 10.2.1-6

Debian 12
	Kernel: Container Host Kernel
	Compiler: gcc 10.2.1

Fedora 37
	Kernel: Depends on container host system
	Compiler: gcc 12.3.1

Fedora 38
	Kernel: Depends on container host
	Compiler: gcc 13.2.1

Fedora 39
	Kernel: Depends on container host
	Compiler: gcc 13.2.1

To view detailed results, visit:
https://lab.dpdk.org/results/dashboard/patchsets/29833/

UNH-IOL DPDK Community Lab

To manage your email subscriptions, visit: 
https://lab.dpdk.org/results/dashboard/preferences/subscriptions/