From mboxrd@z Thu Jan  1 00:00:00 1970
Return-Path: <test-report-bounces@dpdk.org>
Received: from mails.dpdk.org (mails.dpdk.org [217.70.189.124])
	by inbox.dpdk.org (Postfix) with ESMTP id 11DA743EAE
	for <public@inbox.dpdk.org>; Sat, 20 Apr 2024 02:32:13 +0200 (CEST)
Received: from mails.dpdk.org (localhost [127.0.0.1])
	by mails.dpdk.org (Postfix) with ESMTP id 0BD85406B7;
	Sat, 20 Apr 2024 02:32:13 +0200 (CEST)
Received: from mail-yb1-f227.google.com (mail-yb1-f227.google.com
 [209.85.219.227])
 by mails.dpdk.org (Postfix) with ESMTP id 47ABF402C3
 for <test-report@dpdk.org>; Sat, 20 Apr 2024 02:32:12 +0200 (CEST)
Received: by mail-yb1-f227.google.com with SMTP id
 3f1490d57ef6-dcd7c526cc0so2816611276.1
 for <test-report@dpdk.org>; Fri, 19 Apr 2024 17:32:12 -0700 (PDT)
DKIM-Signature: v=1; a=rsa-sha256; c=relaxed/relaxed;
 d=iol.unh.edu; s=unh-iol; t=1713573131; x=1714177931; darn=dpdk.org;
 h=references:in-reply-to:cc:to:from:subject:message-id:date:from:to
 :cc:subject:date:message-id:reply-to;
 bh=Ks132LIOhjXeyPYTWt6chNtfpu5+90xq0L09KSHwYb4=;
 b=Uceyc3GgyykohQN7hGr/U0jfZz4nRIBD3NQZ5oP2cCiTvMrzmpS66NXZr7GRha16Z+
 X2+3jGXZcRqpxgTlXVp7LFpUEsXsQ3HffmhkB1niccGVS4/YfA9+R7CJGg8oOXflqPxI
 yqu1avFaE4cW332SJagHRiFV5n11QDn/xY1L4=
X-Google-DKIM-Signature: v=1; a=rsa-sha256; c=relaxed/relaxed;
 d=1e100.net; s=20230601; t=1713573131; x=1714177931;
 h=references:in-reply-to:cc:to:from:subject:message-id:date
 :x-gm-message-state:from:to:cc:subject:date:message-id:reply-to;
 bh=Ks132LIOhjXeyPYTWt6chNtfpu5+90xq0L09KSHwYb4=;
 b=fp+ztiedXOG76ZltC/fd+JrKZLBRl7ak0qGmryrnwYZkIkwOkiKbwhzYCKGWIKPyAg
 RINtJe/SLN1s+CoMTx+k5JKAC5E6D3bZhSWqFI654PL3bJ/YUfLhJrIqDqPGqiwwrt0G
 vWy0c1zFzClk32EiVwEWlML16juVil2tbh9q7nQ+s5YSGLLy/Et7XTXFtVygEtYPN1mu
 DWgp6K3pfjXE9ASlCbiH+1Y0cw1rjJqN5q+10ObP9U7gSF0/x1WV7PBpjpwni2L5ShXb
 eBqM0hTU1Kpcawwm3/dRWdjUu31160Lm4mvytwbi8f62Tc4J8wSYnVgGwrYHzC1765GB
 6RJA==
X-Gm-Message-State: AOJu0YzxotVb7Pe4bl85px9vwZaterzKQNdesC2OnssaVaLM8X8kIt2g
 +Jyc5xMXasDlfg8s9PaeWMY+loxivcn0pMlCwP4YEHhi2A64ns9hAVRrvhavcos+YNeYgruXkd8
 K4vU4QjqcP0Otjna8uUbUU0+cQAH6fwhkG6Y1ziIk
X-Google-Smtp-Source: AGHT+IHx1auHmLyjvwxy1/dUHuLUiCBFZWHRRWEcn6yXjgznqOaN+lTHWk593vB02a0fT2FD95rJ6EsaSgCW
X-Received: by 2002:a25:86c9:0:b0:dd1:55b6:e671 with SMTP id
 y9-20020a2586c9000000b00dd155b6e671mr3631383ybm.21.1713573131653; 
 Fri, 19 Apr 2024 17:32:11 -0700 (PDT)
Received: from postal.iol.unh.edu (postal.iol.unh.edu. [132.177.123.84])
 by smtp-relay.gmail.com with ESMTPS id
 dm11-20020a056902220b00b00de46e299734sm188801ybb.8.2024.04.19.17.32.11
 (version=TLS1_2 cipher=ECDHE-ECDSA-AES128-GCM-SHA256 bits=128/128);
 Fri, 19 Apr 2024 17:32:11 -0700 (PDT)
X-Relaying-Domain: iol.unh.edu
Date: Fri, 19 Apr 2024 17:32:11 -0700 (PDT)
Message-ID: <66230d0b.050a0220.e6a41.b2eeSMTPIN_ADDED_MISSING@mx.google.com>
Received: from [172.17.0.2] (unknown [172.18.0.217])
 by postal.iol.unh.edu (Postfix) with ESMTP id 3844C604D420;
 Fri, 19 Apr 2024 20:32:11 -0400 (EDT)
Subject: |SUCCESS| pw139561-139603 [PATCH] [v4,45/45] app/test-bbdev: use rte
From: dpdklab@iol.unh.edu
To: Test Report <test-report@dpdk.org>
Cc: dpdk-test-reports@iol.unh.edu
In-Reply-To: <1713568003-30453-46-git-send-email-roretzla@linux.microsoft.com>
References: <1713568003-30453-46-git-send-email-roretzla@linux.microsoft.com>
Content-Type: text/plain
X-BeenThere: test-report@dpdk.org
X-Mailman-Version: 2.1.29
Precedence: list
List-Id: automatic DPDK test reports <test-report.dpdk.org>
List-Unsubscribe: <https://mails.dpdk.org/options/test-report>,
 <mailto:test-report-request@dpdk.org?subject=unsubscribe>
List-Archive: <http://mails.dpdk.org/archives/test-report/>
List-Post: <mailto:test-report@dpdk.org>
List-Help: <mailto:test-report-request@dpdk.org?subject=help>
List-Subscribe: <https://mails.dpdk.org/listinfo/test-report>,
 <mailto:test-report-request@dpdk.org?subject=subscribe>
Errors-To: test-report-bounces@dpdk.org

Test-Label: iol-unit-amd64-testing
Test-Status: SUCCESS
http://dpdk.org/patch/139603

_Testing PASS_

Submitter: Tyler Retzlaff <roretzla@linux.microsoft.com>
Date: Friday, April 19 2024 23:06:43 
DPDK git baseline: Repo:dpdk
  Branch: master
  CommitID:7e06c0de1952d3109a5b0c4779d7e7d8059c9d78

139561-139603 --> testing pass

Test environment and result as below:

+---------------------+----------------+
|     Environment     | dpdk_unit_test |
+=====================+================+
| Windows Server 2019 | PASS           |
+---------------------+----------------+
| CentOS Stream 8     | PASS           |
+---------------------+----------------+
| CentOS Stream 9     | PASS           |
+---------------------+----------------+
| Debian Bullseye     | PASS           |
+---------------------+----------------+
| Debian 12           | PASS           |
+---------------------+----------------+
| Fedora 37           | PASS           |
+---------------------+----------------+
| Fedora 38           | PASS           |
+---------------------+----------------+
| Fedora 39           | PASS           |
+---------------------+----------------+
| Windows Server 2022 | PASS           |
+---------------------+----------------+
| openSUSE Leap 15    | PASS           |
+---------------------+----------------+
| RHEL8               | PASS           |
+---------------------+----------------+
| Ubuntu 22.04        | PASS           |
+---------------------+----------------+
| Ubuntu 20.04        | PASS           |
+---------------------+----------------+


Windows Server 2019
	Kernel: 10.0.17763
	Compiler: clang 14.0 and gcc 8.1.0 (MinGW)

CentOS Stream 8
	Kernel: 5.4.0-167-generic
	Compiler: gcc 8.5.0 20210514

CentOS Stream 9
	Kernel: 5.4.0-167-generic
	Compiler: gcc 11.4.1 20230605

Debian Bullseye
	Kernel: 5.4.0-167-generic
	Compiler: gcc 10.2.1-6

Debian 12
	Kernel: Container Host Kernel
	Compiler: gcc 10.2.1

Fedora 37
	Kernel: Depends on container host system
	Compiler: gcc 12.3.1

Fedora 38
	Kernel: Depends on container host
	Compiler: gcc 13.2.1

Fedora 39
	Kernel: Depends on container host
	Compiler: gcc 13.2.1

Windows Server 2022
	Kernel: 10.0.20348.2031
	Compiler: clang 15.0.7, gcc 8.1.0 (MinGW), and MSVC VS 17.9

openSUSE Leap 15
	Kernel: 5.4.0-167-generic
	Compiler: gcc 7.5.0

RHEL8
	Kernel: 5.4.0-167-generic
	Compiler: gcc 8.5.0 20210514 (Red Hat 8.5.0-20)

Ubuntu 22.04
	Kernel: 5.4.0-167-generic
	Compiler: gcc 11.4.0

Ubuntu 20.04
	Kernel: 5.4.0-167-generic
	Compiler: gcc 9.4.0-1ubuntu1~20.04.1

To view detailed results, visit:
https://lab.dpdk.org/results/dashboard/patchsets/29833/

UNH-IOL DPDK Community Lab

To manage your email subscriptions, visit: 
https://lab.dpdk.org/results/dashboard/preferences/subscriptions/