From mboxrd@z Thu Jan  1 00:00:00 1970
Return-Path: <test-report-bounces@dpdk.org>
Received: from mails.dpdk.org (mails.dpdk.org [217.70.189.124])
	by inbox.dpdk.org (Postfix) with ESMTP id 5B54C43EAE
	for <public@inbox.dpdk.org>; Sat, 20 Apr 2024 02:35:30 +0200 (CEST)
Received: from mails.dpdk.org (localhost [127.0.0.1])
	by mails.dpdk.org (Postfix) with ESMTP id 56975406B7;
	Sat, 20 Apr 2024 02:35:30 +0200 (CEST)
Received: from mail-il1-f228.google.com (mail-il1-f228.google.com
 [209.85.166.228])
 by mails.dpdk.org (Postfix) with ESMTP id 0CF56402C3
 for <test-report@dpdk.org>; Sat, 20 Apr 2024 02:35:26 +0200 (CEST)
Received: by mail-il1-f228.google.com with SMTP id
 e9e14a558f8ab-36b309dd33bso11117465ab.1
 for <test-report@dpdk.org>; Fri, 19 Apr 2024 17:35:26 -0700 (PDT)
DKIM-Signature: v=1; a=rsa-sha256; c=relaxed/relaxed;
 d=iol.unh.edu; s=unh-iol; t=1713573325; x=1714178125; darn=dpdk.org;
 h=references:in-reply-to:cc:to:from:subject:message-id:date:from:to
 :cc:subject:date:message-id:reply-to;
 bh=npADoxlEI4kArLVD0irS13I8NzMgI8w2/romyLulwR4=;
 b=RSWJYVbAjC7/4Y0No1TR0uWdp9rHQ+T4Ouc7iYvBPE2psgx+/UikWevEsm0zp7Hdcc
 09bmKj1JrAJ2gjrEXdLs7s9P21iMWYCn/nStrf8X2RewRpBqKYmA/H8AZKrOuVpIATOc
 xE2NR1Pxi64WFsn7nUfylQK8uAuBcXetgFwcc=
X-Google-DKIM-Signature: v=1; a=rsa-sha256; c=relaxed/relaxed;
 d=1e100.net; s=20230601; t=1713573325; x=1714178125;
 h=references:in-reply-to:cc:to:from:subject:message-id:date
 :x-gm-message-state:from:to:cc:subject:date:message-id:reply-to;
 bh=npADoxlEI4kArLVD0irS13I8NzMgI8w2/romyLulwR4=;
 b=n64umJn7/56fMSonsU+/WD25J/WFWG2NhDO00f59zAdWijMnTlW2zGRZqdxaMa1oNB
 WY/7ZPApfD8gYDaSMDcjwrjuS748RlDksAvnZwIo/AcoYYQarWkfzX1vi7HEo7zRecJC
 IpCKKLrf/9t7HuxrBnGoad7o+6CIkxXzNue/unEl54sVzs30DnKsJ6pO3Ma0/8JlfcWm
 fKZwZVnFM7sBf8mFcwsQ/KM0sdP/dP7YaLkblUl6oMl5kHzblSAOlsPEAvF3CI7QZRa5
 EOi2VJJs/PR5mkA1JI5pAPVKEvU05BO8cTjhztONkejtINPZD8UqxzWFkHcuhbBgpWSl
 gGiw==
X-Gm-Message-State: AOJu0YyEMYQ2UYiDb67IZDE48yijCospl27CRn6jW+Opf56fjuFbuZM+
 0ozLfMY/t6TGKyplgGSd1Nn1sId7r5lQdNVtW6kqqR404u9+dRZ8kuy8Wt6Bfzt8cO4R+IniAol
 lTzkwqkYGSMmaPiy7r8ImEV8q1JCzqDJWyXCgXU8+
X-Google-Smtp-Source: AGHT+IGcI0UnnnJj1fTU1KIODdnKGCkwkvB1MqupM91UKE4692gksyouHJSMJYhLkit42ID5wCS/AtmAS68C
X-Received: by 2002:a05:6e02:15c2:b0:36a:b4f2:ac17 with SMTP id
 q2-20020a056e0215c200b0036ab4f2ac17mr4687299ilu.8.1713573325485; 
 Fri, 19 Apr 2024 17:35:25 -0700 (PDT)
Received: from postal.iol.unh.edu (postal.iol.unh.edu. [132.177.123.84])
 by smtp-relay.gmail.com with ESMTPS id
 bw7-20020a056638460700b00482e185be2bsm306614jab.19.2024.04.19.17.35.25
 (version=TLS1_2 cipher=ECDHE-ECDSA-AES128-GCM-SHA256 bits=128/128);
 Fri, 19 Apr 2024 17:35:25 -0700 (PDT)
X-Relaying-Domain: iol.unh.edu
Date: Fri, 19 Apr 2024 17:35:25 -0700 (PDT)
Message-ID: <66230dcd.050a0220.d5656.03e1SMTPIN_ADDED_MISSING@mx.google.com>
Received: from [172.17.0.5] (unknown [172.18.0.217])
 by postal.iol.unh.edu (Postfix) with ESMTP id 1CF98604D420;
 Fri, 19 Apr 2024 20:35:25 -0400 (EDT)
Subject: |SUCCESS| pw139561-139603 [PATCH] [v4,45/45] app/test-bbdev: use rte
From: dpdklab@iol.unh.edu
To: Test Report <test-report@dpdk.org>
Cc: dpdk-test-reports@iol.unh.edu
In-Reply-To: <1713568003-30453-46-git-send-email-roretzla@linux.microsoft.com>
References: <1713568003-30453-46-git-send-email-roretzla@linux.microsoft.com>
Content-Type: text/plain
X-BeenThere: test-report@dpdk.org
X-Mailman-Version: 2.1.29
Precedence: list
List-Id: automatic DPDK test reports <test-report.dpdk.org>
List-Unsubscribe: <https://mails.dpdk.org/options/test-report>,
 <mailto:test-report-request@dpdk.org?subject=unsubscribe>
List-Archive: <http://mails.dpdk.org/archives/test-report/>
List-Post: <mailto:test-report@dpdk.org>
List-Help: <mailto:test-report-request@dpdk.org?subject=help>
List-Subscribe: <https://mails.dpdk.org/listinfo/test-report>,
 <mailto:test-report-request@dpdk.org?subject=subscribe>
Errors-To: test-report-bounces@dpdk.org

Test-Label: iol-compile-arm64-testing
Test-Status: SUCCESS
http://dpdk.org/patch/139603

_Testing PASS_

Submitter: Tyler Retzlaff <roretzla@linux.microsoft.com>
Date: Friday, April 19 2024 23:06:43 
DPDK git baseline: Repo:dpdk
  Branch: master
  CommitID:7e06c0de1952d3109a5b0c4779d7e7d8059c9d78

139561-139603 --> testing pass

Test environment and result as below:

+----------------------------------------+--------------------+
|              Environment               | dpdk_meson_compile |
+========================================+====================+
| Ubuntu 20.04 ARM SVE                   | PASS               |
+----------------------------------------+--------------------+
| Debian 12 with MUSDK                   | PASS               |
+----------------------------------------+--------------------+
| Fedora 38 (ARM)                        | PASS               |
+----------------------------------------+--------------------+
| Debian 12 (arm)                        | PASS               |
+----------------------------------------+--------------------+
| Ubuntu 20.04 aarch32 GCC Cross Compile | PASS               |
+----------------------------------------+--------------------+
| Fedora 39 (ARM)                        | PASS               |
+----------------------------------------+--------------------+
| Fedora 37 (ARM)                        | PASS               |
+----------------------------------------+--------------------+
| Debian 11 (Buster) (ARM)               | PASS               |
+----------------------------------------+--------------------+
| CentOS Stream 9 (ARM)                  | PASS               |
+----------------------------------------+--------------------+


Ubuntu 20.04 ARM SVE
	Kernel: 5.4.0-167-generic
	Compiler: gcc (Ubuntu 10.5.0-1ubuntu1~20.04) 10.5.0

Debian 12 with MUSDK
	Kernel: Container Host Kernel
	Compiler: gcc 12.2.0

Fedora 38 (ARM)
	Kernel: Depends on container host
	Compiler: gcc 13.2.1

Debian 12 (arm)
	Kernel: Container Host Kernel
	Compiler: gcc 12.2.0

Ubuntu 20.04 aarch32 GCC Cross Compile
	Kernel: 5.4.0-167-generic
	Compiler: gcc 9.4.0

Fedora 39 (ARM)
	Kernel: Depends on container host
	Compiler: gcc 13.2.1

Fedora 37 (ARM)
	Kernel: Depends on container host
	Compiler: gcc 12.3.1

Debian 11 (Buster) (ARM)
	Kernel: Container Host Kernel
	Compiler: gcc 10.2.1

CentOS Stream 9 (ARM)
	Kernel: Container Host Kernel
	Compiler: gcc 11.4.1

To view detailed results, visit:
https://lab.dpdk.org/results/dashboard/patchsets/29833/

UNH-IOL DPDK Community Lab

To manage your email subscriptions, visit: 
https://lab.dpdk.org/results/dashboard/preferences/subscriptions/