From mboxrd@z Thu Jan  1 00:00:00 1970
Return-Path: <test-report-bounces@dpdk.org>
Received: from mails.dpdk.org (mails.dpdk.org [217.70.189.124])
	by inbox.dpdk.org (Postfix) with ESMTP id 0121443EAE
	for <public@inbox.dpdk.org>; Sat, 20 Apr 2024 03:09:44 +0200 (CEST)
Received: from mails.dpdk.org (localhost [127.0.0.1])
	by mails.dpdk.org (Postfix) with ESMTP id F00E940A6E;
	Sat, 20 Apr 2024 03:09:43 +0200 (CEST)
Received: from mail-oa1-f100.google.com (mail-oa1-f100.google.com
 [209.85.160.100])
 by mails.dpdk.org (Postfix) with ESMTP id C95A8402C3
 for <test-report@dpdk.org>; Sat, 20 Apr 2024 03:09:40 +0200 (CEST)
Received: by mail-oa1-f100.google.com with SMTP id
 586e51a60fabf-2390335b67cso1136598fac.0
 for <test-report@dpdk.org>; Fri, 19 Apr 2024 18:09:40 -0700 (PDT)
DKIM-Signature: v=1; a=rsa-sha256; c=relaxed/relaxed;
 d=iol.unh.edu; s=unh-iol; t=1713575380; x=1714180180; darn=dpdk.org;
 h=references:in-reply-to:cc:to:from:subject:message-id:date:from:to
 :cc:subject:date:message-id:reply-to;
 bh=VDe5mNr1MAqRe+Y20HzkY4QrAKfAaShMPDY9Ho6QHPo=;
 b=Wv2U7olpWYwxy47AN1IW2NQlFPdQjKT5eATuqC8Bv9hLXCHhyNZ/g0LcMyqY9RFNcc
 JvZTslwAQPU5yMpjjFamFUVV2Ov0A/YIOPgdlndABDLUHU9fgeDB8Z8Fi4tpH2W3XWFb
 rtSk7WizMnQ9YzKOetyDTIqxiX6vEruX/Bb2Y=
X-Google-DKIM-Signature: v=1; a=rsa-sha256; c=relaxed/relaxed;
 d=1e100.net; s=20230601; t=1713575380; x=1714180180;
 h=references:in-reply-to:cc:to:from:subject:message-id:date
 :x-gm-message-state:from:to:cc:subject:date:message-id:reply-to;
 bh=VDe5mNr1MAqRe+Y20HzkY4QrAKfAaShMPDY9Ho6QHPo=;
 b=M76FgVmr7R4WxHhZ7kJSgZRf+nW7810iWXJ1zOR/lieWoDQts169J52fDfwRHqLbvJ
 hMTLKrtrFqWxl9xxvkdPI5jNQNBoLgvkRt7xtWTBwlJFK4BJ3GgM1EXTdkmU8Apjk6Zd
 pCwjCnl2y5XD0X0u+amdw/S6tZz4ZCcMxo81WeF9lxQNVnio2w4vDdgNo5M4NzIhUJFK
 t+FI14qJm4SzLMOS8he8JjCegBaDu3xgIHZkNCbTZ8wO0snvOKpcU1U8bmdtxSUdqMyz
 VbEUl/x01sPTBb0ajXRhEGT32Z8DSvTYd7SYh73Lii+W9p+cnURtT7MllXwvXF2nAaWk
 xxHw==
X-Gm-Message-State: AOJu0Yyw9TQRNX8S5y+BXqqOrOJmqoYaqvDtxPnk68QBheDll8+TQPSg
 5jqDuA9evCb8h+7mWGqgJSJUn2LATR5hu+s2F5NjJrWX6xgiI4rB3uh3QucNInzO13lyPXUxVOb
 d8yolG2neaHwwruVNVnKHKs/YOLCli7jzw8jVPBy6CWbQDOLjy9KlYquk
X-Google-Smtp-Source: AGHT+IHtkzy/icfyMJtNJF1SL51pvMufoS6M6uFJRKX4vUtFvqPDhvk9bpoSYgf4LOE0QDjbM+Mp5GJB2Dcm
X-Received: by 2002:a05:6870:610a:b0:233:1901:7523 with SMTP id
 s10-20020a056870610a00b0023319017523mr4541111oae.55.1713575380213; 
 Fri, 19 Apr 2024 18:09:40 -0700 (PDT)
Received: from postal.iol.unh.edu (postal.iol.unh.edu.
 [2606:4100:3880:1234::84]) by smtp-relay.gmail.com with ESMTPS id
 zv40-20020a0568714fa800b0023433f8ba7csm102366oab.43.2024.04.19.18.09.40
 (version=TLS1_2 cipher=ECDHE-ECDSA-AES128-GCM-SHA256 bits=128/128);
 Fri, 19 Apr 2024 18:09:40 -0700 (PDT)
X-Relaying-Domain: iol.unh.edu
Date: Fri, 19 Apr 2024 18:09:40 -0700 (PDT)
Message-ID: <662315d4.050a0220.92f51.4c8fSMTPIN_ADDED_MISSING@mx.google.com>
Received: from [172.17.0.3] (unknown [172.18.0.217])
 by postal.iol.unh.edu (Postfix) with ESMTP id 5AEA1604D420;
 Fri, 19 Apr 2024 21:09:39 -0400 (EDT)
Subject: |SUCCESS| pw139559 [PATCH] net/ionic: clean up logging issues
From: dpdklab@iol.unh.edu
To: Test Report <test-report@dpdk.org>
Cc: dpdk-test-reports@iol.unh.edu
In-Reply-To: <20240419202556.46188-1-andrew.boyer@amd.com>
References: <20240419202556.46188-1-andrew.boyer@amd.com>
Content-Type: text/plain
X-BeenThere: test-report@dpdk.org
X-Mailman-Version: 2.1.29
Precedence: list
List-Id: automatic DPDK test reports <test-report.dpdk.org>
List-Unsubscribe: <https://mails.dpdk.org/options/test-report>,
 <mailto:test-report-request@dpdk.org?subject=unsubscribe>
List-Archive: <http://mails.dpdk.org/archives/test-report/>
List-Post: <mailto:test-report@dpdk.org>
List-Help: <mailto:test-report-request@dpdk.org?subject=help>
List-Subscribe: <https://mails.dpdk.org/listinfo/test-report>,
 <mailto:test-report-request@dpdk.org?subject=subscribe>
Errors-To: test-report-bounces@dpdk.org

Test-Label: iol-compile-amd64-testing
Test-Status: SUCCESS
http://dpdk.org/patch/139559

_Testing PASS_

Submitter: Andrew Boyer <Andrew.Boyer@amd.com>
Date: Friday, April 19 2024 20:25:56 
DPDK git baseline: Repo:dpdk
  Branch: master
  CommitID:7b668b7d65ba33783c280d08489fa31685bd0ee6

139559 --> testing pass

Test environment and result as below:

+---------------------+--------------------+----------------------+
|     Environment     | dpdk_meson_compile | dpdk_mingw64_compile |
+=====================+====================+======================+
| FreeBSD 13.2        | PASS               | SKIPPED              |
+---------------------+--------------------+----------------------+
| Debian 12           | PASS               | SKIPPED              |
+---------------------+--------------------+----------------------+
| CentOS Stream 8     | PASS               | SKIPPED              |
+---------------------+--------------------+----------------------+
| Debian Bullseye     | PASS               | SKIPPED              |
+---------------------+--------------------+----------------------+
| Fedora 37           | PASS               | SKIPPED              |
+---------------------+--------------------+----------------------+
| Ubuntu 20.04        | PASS               | SKIPPED              |
+---------------------+--------------------+----------------------+
| Fedora 38           | PASS               | SKIPPED              |
+---------------------+--------------------+----------------------+
| Windows Server 2022 | PASS               | PASS                 |
+---------------------+--------------------+----------------------+
| Ubuntu 22.04        | PASS               | SKIPPED              |
+---------------------+--------------------+----------------------+
| RHEL8               | PASS               | SKIPPED              |
+---------------------+--------------------+----------------------+
| CentOS Stream 9     | PASS               | SKIPPED              |
+---------------------+--------------------+----------------------+
| Windows Server 2019 | PASS               | PASS                 |
+---------------------+--------------------+----------------------+
| Alpine              | PASS               | SKIPPED              |
+---------------------+--------------------+----------------------+
| openSUSE Leap 15    | PASS               | SKIPPED              |
+---------------------+--------------------+----------------------+


FreeBSD 13.2
	Kernel: 13.2
	Compiler: clang 14.0.5

Debian 12
	Kernel: Container Host Kernel
	Compiler: gcc 10.2.1

CentOS Stream 8
	Kernel: 5.4.0-167-generic
	Compiler: gcc 8.5.0 20210514

Debian Bullseye
	Kernel: 5.4.0-167-generic
	Compiler: gcc 10.2.1-6

Fedora 37
	Kernel: Depends on container host system
	Compiler: gcc 12.3.1

Ubuntu 20.04
	Kernel: 5.4.0-167-generic
	Compiler: gcc 9.4.0-1ubuntu1~20.04.1

Fedora 38
	Kernel: Depends on container host
	Compiler: gcc 13.2.1

Windows Server 2022
	Kernel: 10.0.20348.2031
	Compiler: clang 15.0.7, gcc 8.1.0 (MinGW), and MSVC VS 17.9

Ubuntu 22.04
	Kernel: 5.4.0-167-generic
	Compiler: gcc 11.4.0

RHEL8
	Kernel: 5.4.0-167-generic
	Compiler: gcc 8.5.0 20210514 (Red Hat 8.5.0-20)

CentOS Stream 9
	Kernel: 5.4.0-167-generic
	Compiler: gcc 11.4.1 20230605

Windows Server 2019
	Kernel: 10.0.17763
	Compiler: clang 14.0 and gcc 8.1.0 (MinGW)

Alpine
	Kernel: 5.4.0-167-generic
	Compiler: gcc (Alpine 12.2.1_git20220924-r10) 12.2.1 20220924

openSUSE Leap 15
	Kernel: 5.4.0-167-generic
	Compiler: gcc 7.5.0

To view detailed results, visit:
https://lab.dpdk.org/results/dashboard/patchsets/29832/

UNH-IOL DPDK Community Lab

To manage your email subscriptions, visit: 
https://lab.dpdk.org/results/dashboard/preferences/subscriptions/