From mboxrd@z Thu Jan  1 00:00:00 1970
Return-Path: <test-report-bounces@dpdk.org>
Received: from mails.dpdk.org (mails.dpdk.org [217.70.189.124])
	by inbox.dpdk.org (Postfix) with ESMTP id 0AD3443EAE
	for <public@inbox.dpdk.org>; Sat, 20 Apr 2024 03:31:45 +0200 (CEST)
Received: from mails.dpdk.org (localhost [127.0.0.1])
	by mails.dpdk.org (Postfix) with ESMTP id 02EDB406B7;
	Sat, 20 Apr 2024 03:31:45 +0200 (CEST)
Received: from mail-qv1-f97.google.com (mail-qv1-f97.google.com
 [209.85.219.97]) by mails.dpdk.org (Postfix) with ESMTP id A5427402C3
 for <test-report@dpdk.org>; Sat, 20 Apr 2024 03:31:43 +0200 (CEST)
Received: by mail-qv1-f97.google.com with SMTP id
 6a1803df08f44-69943ef42b2so16824166d6.3
 for <test-report@dpdk.org>; Fri, 19 Apr 2024 18:31:43 -0700 (PDT)
DKIM-Signature: v=1; a=rsa-sha256; c=relaxed/relaxed;
 d=iol.unh.edu; s=unh-iol; t=1713576703; x=1714181503; darn=dpdk.org;
 h=references:in-reply-to:cc:to:from:subject:message-id:date:from:to
 :cc:subject:date:message-id:reply-to;
 bh=ZccIev1n6Z4DFD5MDJ0LYvi9GmKnKSyeF6kOGZTov4U=;
 b=CBb80oRuutRyI5IyE8ihGDiXHLC27rJBSVM91++03xhcSkMjGTkNSMYOgZIjdS7J/Z
 Of67u9cftrfjzfcyiEAcNeHz/rJWls/l5m15+fYLGtua8BNw0PiV6lJfO+dhGbmedQ21
 lQBmH+wYGrvd/bIe7AFnags/9n8NEF83AvJRc=
X-Google-DKIM-Signature: v=1; a=rsa-sha256; c=relaxed/relaxed;
 d=1e100.net; s=20230601; t=1713576703; x=1714181503;
 h=references:in-reply-to:cc:to:from:subject:message-id:date
 :x-gm-message-state:from:to:cc:subject:date:message-id:reply-to;
 bh=ZccIev1n6Z4DFD5MDJ0LYvi9GmKnKSyeF6kOGZTov4U=;
 b=v5aduq8nSql/SwOPzxFmBrAsvED2Pf9zmNInFbxEzdGHZYY/rKK/OOBBfnClgAcU8a
 NdJqySVmCPydZ7i3FQa0nc56qdVJrn4VoOZih7F2B2n/4LjFldHUv/8ngW4GNtucpY6g
 Dv7gP5woSi/1XJzd9sxjJO4dn6rF4uXVY/JvRGNiT9da/scC3ZUCnqWrkf1r8wV9xiFl
 JHjQ/Mmz9nyAjNEMNmpwXNv3L7/3XrU1DModJdOzXRUYM9pkWUJ6ijYGN86kA1JTRpQg
 jhI7jfp8ItuGmk0tvqwvcsYq4+fJqZ1CmWYM5cKRrsFJYcSniysuVJOs0BiJNbdmQyi/
 IZBA==
X-Gm-Message-State: AOJu0Yx0FBLqUPG3ohKN52OpgDGm9PJqFRmJFUwk8sE0eIesYamEbywg
 BsbSWtE9jXB00kpDXkYGW2goBCJ/WOG7u9njnq/XIp0CBcVFyIKtP/Yns+99ZkoxDgzdhuaCtxV
 6wgmzCZyBH3BpkOxwvHb47MGXuA25tAtig1sVrsYmydlH+EVhbfSpc2bj
X-Google-Smtp-Source: AGHT+IFkYgmamnDbg5XTtMZjy0hwpmcX5hPox6eiPuV1FSF7bKikFPX87QZM6CBTppxfUUJ+UzMACTq5z2zx
X-Received: by 2002:ad4:5fce:0:b0:69b:74b7:a80f with SMTP id
 jq14-20020ad45fce000000b0069b74b7a80fmr3851138qvb.48.1713576703017; 
 Fri, 19 Apr 2024 18:31:43 -0700 (PDT)
Received: from postal.iol.unh.edu (postal.iol.unh.edu.
 [2606:4100:3880:1234::84]) by smtp-relay.gmail.com with ESMTPS id
 qf1-20020a0562144b8100b006a05c4180e5sm216560qvb.30.2024.04.19.18.31.42
 (version=TLS1_2 cipher=ECDHE-ECDSA-AES128-GCM-SHA256 bits=128/128);
 Fri, 19 Apr 2024 18:31:43 -0700 (PDT)
X-Relaying-Domain: iol.unh.edu
Date: Fri, 19 Apr 2024 18:31:43 -0700 (PDT)
Message-ID: <66231aff.050a0220.89eec.d73eSMTPIN_ADDED_MISSING@mx.google.com>
Received: from [172.17.0.5] (unknown [172.18.0.217])
 by postal.iol.unh.edu (Postfix) with ESMTP id BD19C604D420;
 Fri, 19 Apr 2024 21:31:42 -0400 (EDT)
Subject: |SUCCESS| pw139559 [PATCH] net/ionic: clean up logging issues
From: dpdklab@iol.unh.edu
To: Test Report <test-report@dpdk.org>
Cc: dpdk-test-reports@iol.unh.edu
In-Reply-To: <20240419202556.46188-1-andrew.boyer@amd.com>
References: <20240419202556.46188-1-andrew.boyer@amd.com>
Content-Type: text/plain
X-BeenThere: test-report@dpdk.org
X-Mailman-Version: 2.1.29
Precedence: list
List-Id: automatic DPDK test reports <test-report.dpdk.org>
List-Unsubscribe: <https://mails.dpdk.org/options/test-report>,
 <mailto:test-report-request@dpdk.org?subject=unsubscribe>
List-Archive: <http://mails.dpdk.org/archives/test-report/>
List-Post: <mailto:test-report@dpdk.org>
List-Help: <mailto:test-report-request@dpdk.org?subject=help>
List-Subscribe: <https://mails.dpdk.org/listinfo/test-report>,
 <mailto:test-report-request@dpdk.org?subject=subscribe>
Errors-To: test-report-bounces@dpdk.org

Test-Label: iol-compile-arm64-testing
Test-Status: SUCCESS
http://dpdk.org/patch/139559

_Testing PASS_

Submitter: Andrew Boyer <Andrew.Boyer@amd.com>
Date: Friday, April 19 2024 20:25:56 
DPDK git baseline: Repo:dpdk
  Branch: master
  CommitID:7b668b7d65ba33783c280d08489fa31685bd0ee6

139559 --> testing pass

Test environment and result as below:

+----------------------------------------+--------------------+
|              Environment               | dpdk_meson_compile |
+========================================+====================+
| Ubuntu 20.04 ARM SVE                   | PASS               |
+----------------------------------------+--------------------+
| Debian 12 with MUSDK                   | PASS               |
+----------------------------------------+--------------------+
| Fedora 38 (ARM)                        | PASS               |
+----------------------------------------+--------------------+
| Fedora 39 (ARM)                        | PASS               |
+----------------------------------------+--------------------+
| Debian 12 (arm)                        | PASS               |
+----------------------------------------+--------------------+
| Ubuntu 20.04 aarch32 GCC Cross Compile | PASS               |
+----------------------------------------+--------------------+
| Debian 11 (Buster) (ARM)               | PASS               |
+----------------------------------------+--------------------+
| Ubuntu 20.04 (ARM)                     | PASS               |
+----------------------------------------+--------------------+
| Fedora 37 (ARM)                        | PASS               |
+----------------------------------------+--------------------+
| CentOS Stream 9 (ARM)                  | PASS               |
+----------------------------------------+--------------------+
| Ubuntu 20.04 ARM Clang Cross Compile   | PASS               |
+----------------------------------------+--------------------+
| Ubuntu 20.04 ARM GCC Cross Compile     | PASS               |
+----------------------------------------+--------------------+


Ubuntu 20.04 ARM SVE
	Kernel: 5.4.0-167-generic
	Compiler: gcc (Ubuntu 10.5.0-1ubuntu1~20.04) 10.5.0

Debian 12 with MUSDK
	Kernel: Container Host Kernel
	Compiler: gcc 12.2.0

Fedora 38 (ARM)
	Kernel: Depends on container host
	Compiler: gcc 13.2.1

Fedora 39 (ARM)
	Kernel: Depends on container host
	Compiler: gcc 13.2.1

Debian 12 (arm)
	Kernel: Container Host Kernel
	Compiler: gcc 12.2.0

Ubuntu 20.04 aarch32 GCC Cross Compile
	Kernel: 5.4.0-167-generic
	Compiler: gcc 9.4.0

Debian 11 (Buster) (ARM)
	Kernel: Container Host Kernel
	Compiler: gcc 10.2.1

Ubuntu 20.04 (ARM)
	Kernel: Container Host Kernel
	Compiler: gcc 9.4.0

Fedora 37 (ARM)
	Kernel: Depends on container host
	Compiler: gcc 12.3.1

CentOS Stream 9 (ARM)
	Kernel: Container Host Kernel
	Compiler: gcc 11.4.1

Ubuntu 20.04 ARM Clang Cross Compile
	Kernel: 5.4.0-72-generic
	Compiler: clang 10.0.0-4ubuntu1

Ubuntu 20.04 ARM GCC Cross Compile
	Kernel: 5.4.0-167-generic
	Compiler: aarch64-linux-gnu-gcc (Ubuntu 9.4.0-1ubuntu1~20.04.2) 9.4.0

To view detailed results, visit:
https://lab.dpdk.org/results/dashboard/patchsets/29832/

UNH-IOL DPDK Community Lab

To manage your email subscriptions, visit: 
https://lab.dpdk.org/results/dashboard/preferences/subscriptions/