From mboxrd@z Thu Jan  1 00:00:00 1970
Return-Path: <test-report-bounces@dpdk.org>
Received: from mails.dpdk.org (mails.dpdk.org [217.70.189.124])
	by inbox.dpdk.org (Postfix) with ESMTP id B9AD843EAE
	for <public@inbox.dpdk.org>; Sat, 20 Apr 2024 03:51:27 +0200 (CEST)
Received: from mails.dpdk.org (localhost [127.0.0.1])
	by mails.dpdk.org (Postfix) with ESMTP id B2D7B406B7;
	Sat, 20 Apr 2024 03:51:27 +0200 (CEST)
Received: from mail-io1-f98.google.com (mail-io1-f98.google.com
 [209.85.166.98]) by mails.dpdk.org (Postfix) with ESMTP id C12B6402C3
 for <test-report@dpdk.org>; Sat, 20 Apr 2024 03:51:25 +0200 (CEST)
Received: by mail-io1-f98.google.com with SMTP id
 ca18e2360f4ac-7da4373f850so80437439f.3
 for <test-report@dpdk.org>; Fri, 19 Apr 2024 18:51:25 -0700 (PDT)
DKIM-Signature: v=1; a=rsa-sha256; c=relaxed/relaxed;
 d=iol.unh.edu; s=unh-iol; t=1713577885; x=1714182685; darn=dpdk.org;
 h=references:in-reply-to:cc:to:from:subject:message-id:date:from:to
 :cc:subject:date:message-id:reply-to;
 bh=GH5z8EIKOIY+8vYE/RLbpfN32/aNUk8X6tO/ieUUqcc=;
 b=a75j5He0nIPf7sS8O6yv4lVy5H+1jj9nUwlhhm0kAXr5RVC/TWjbFbsZDn6Hnc0uAU
 p7uo9BcvNatqekMvHWVMKh1uKoWV32aX8L9iNJD5vr7er8KldvKuWa7Bu7h4SBec5YhR
 SPYT1YyERQm6jTZbGMrClaRa/v5D4xJxYemuE=
X-Google-DKIM-Signature: v=1; a=rsa-sha256; c=relaxed/relaxed;
 d=1e100.net; s=20230601; t=1713577885; x=1714182685;
 h=references:in-reply-to:cc:to:from:subject:message-id:date
 :x-gm-message-state:from:to:cc:subject:date:message-id:reply-to;
 bh=GH5z8EIKOIY+8vYE/RLbpfN32/aNUk8X6tO/ieUUqcc=;
 b=HyUtvYUiepOTMUDJ2ANipkWQXV+jA2Iujnhmkl4w+CsVTFPSsglJr5xCvXz+2yU6y8
 dyRhpARNl8xYy9b2N/9RQX4IvXotIzp7kQD8cPhDEfOZg0EJExVtpF87J6F6nmpTYrrZ
 CismHYy6T/7vDR8sX94550HbMbKcveVQnRocwnDipd80b7UsdvjD46RFFfY6pISnqlyK
 IZrJSlgAP1B8zQUC48F2E5I2360ClsN3FeenpduD0d2Dqg0MEq0oXN2U8rgkdFkIgsHr
 OnLC9BDF9v2erqDlI2ny8XyrA6slnFzg0i3WYl9fbv/tXGV5r7kqmGtWl9iKvOpt5drV
 8R0A==
X-Gm-Message-State: AOJu0Yx6HwmzVt1D06EO6o4q73+Wgnx1klXRTTxbg92VZ1UxI5a7ra5U
 1Zkl+rw4NA5jeHkeWGHBXmv30f8cFLreciMph+JfqQ567y3xxikGUUz8Tjf5LkkneHyl4oDRoC3
 85WdN98SyQxbQfwi0Bnm82CmTbarDfd/cuNiSHlz8uoLsDFdqQXI/+xS4
X-Google-Smtp-Source: AGHT+IFg6uTZmMB4TZgeths19nEhcrnYpp1eRAROO9CncK36IY2/iTU14FKhTm626fDs1jB359ca50FkjXpO
X-Received: by 2002:a05:6602:2776:b0:7da:65fa:f1ca with SMTP id
 l22-20020a056602277600b007da65faf1camr3113043ioe.4.1713577885222; 
 Fri, 19 Apr 2024 18:51:25 -0700 (PDT)
Received: from postal.iol.unh.edu (postal.iol.unh.edu.
 [2606:4100:3880:1234::84]) by smtp-relay.gmail.com with ESMTPS id
 a8-20020a056602148800b007d65a95d969sm210296iow.7.2024.04.19.18.51.25
 (version=TLS1_2 cipher=ECDHE-ECDSA-AES128-GCM-SHA256 bits=128/128);
 Fri, 19 Apr 2024 18:51:25 -0700 (PDT)
X-Relaying-Domain: iol.unh.edu
Date: Fri, 19 Apr 2024 18:51:25 -0700 (PDT)
Message-ID: <66231f9d.050a0220.93ea1.b83cSMTPIN_ADDED_MISSING@mx.google.com>
Received: from [172.17.0.2] (unknown [172.18.0.217])
 by postal.iol.unh.edu (Postfix) with ESMTP id BDDAC604D420;
 Fri, 19 Apr 2024 21:51:24 -0400 (EDT)
Subject: |SUCCESS| pw139559 [PATCH] net/ionic: clean up logging issues
From: dpdklab@iol.unh.edu
To: Test Report <test-report@dpdk.org>
Cc: dpdk-test-reports@iol.unh.edu
In-Reply-To: <20240419202556.46188-1-andrew.boyer@amd.com>
References: <20240419202556.46188-1-andrew.boyer@amd.com>
Content-Type: text/plain
X-BeenThere: test-report@dpdk.org
X-Mailman-Version: 2.1.29
Precedence: list
List-Id: automatic DPDK test reports <test-report.dpdk.org>
List-Unsubscribe: <https://mails.dpdk.org/options/test-report>,
 <mailto:test-report-request@dpdk.org?subject=unsubscribe>
List-Archive: <http://mails.dpdk.org/archives/test-report/>
List-Post: <mailto:test-report@dpdk.org>
List-Help: <mailto:test-report-request@dpdk.org?subject=help>
List-Subscribe: <https://mails.dpdk.org/listinfo/test-report>,
 <mailto:test-report-request@dpdk.org?subject=subscribe>
Errors-To: test-report-bounces@dpdk.org

Test-Label: iol-unit-arm64-testing
Test-Status: SUCCESS
http://dpdk.org/patch/139559

_Testing PASS_

Submitter: Andrew Boyer <Andrew.Boyer@amd.com>
Date: Friday, April 19 2024 20:25:56 
DPDK git baseline: Repo:dpdk
  Branch: master
  CommitID:7b668b7d65ba33783c280d08489fa31685bd0ee6

139559 --> testing pass

Test environment and result as below:

+-----------------------------+----------------+---------------------------+--------------+------------------------------+
|         Environment         | dpdk_unit_test | cryptodev_sw_zuc_autotest | lpm_autotest | cryptodev_sw_snow3g_autotest |
+=============================+================+===========================+==============+==============================+
| Debian 11 (Buster) (ARM)    | PASS           | SKIPPED                   | SKIPPED      | SKIPPED                      |
+-----------------------------+----------------+---------------------------+--------------+------------------------------+
| Debian 12 (arm)             | PASS           | PASS                      | SKIPPED      | PASS                         |
+-----------------------------+----------------+---------------------------+--------------+------------------------------+
| CentOS Stream 9 (ARM)       | PASS           | SKIPPED                   | SKIPPED      | SKIPPED                      |
+-----------------------------+----------------+---------------------------+--------------+------------------------------+
| Fedora 37 (ARM)             | PASS           | SKIPPED                   | SKIPPED      | SKIPPED                      |
+-----------------------------+----------------+---------------------------+--------------+------------------------------+
| Fedora 39 (ARM)             | PASS           | SKIPPED                   | SKIPPED      | SKIPPED                      |
+-----------------------------+----------------+---------------------------+--------------+------------------------------+
| Fedora 38 (ARM)             | PASS           | SKIPPED                   | SKIPPED      | SKIPPED                      |
+-----------------------------+----------------+---------------------------+--------------+------------------------------+
| Ubuntu 20.04 (ARM)          | PASS           | SKIPPED                   | SKIPPED      | SKIPPED                      |
+-----------------------------+----------------+---------------------------+--------------+------------------------------+
| 32-bit Ubuntu 20.04.4 (ARM) | PASS           | SKIPPED                   | SKIPPED      | SKIPPED                      |
+-----------------------------+----------------+---------------------------+--------------+------------------------------+
| Fedora 38 (ARM Clang)       | PASS           | SKIPPED                   | SKIPPED      | SKIPPED                      |
+-----------------------------+----------------+---------------------------+--------------+------------------------------+
| Fedora 39 (ARM Clang)       | PASS           | SKIPPED                   | SKIPPED      | SKIPPED                      |
+-----------------------------+----------------+---------------------------+--------------+------------------------------+
| Ubuntu 20.04 ARM SVE        | SKIPPED        | SKIPPED                   | PASS         | SKIPPED                      |
+-----------------------------+----------------+---------------------------+--------------+------------------------------+


Debian 11 (Buster) (ARM)
	Kernel: Container Host Kernel
	Compiler: gcc 10.2.1

Debian 12 (arm)
	Kernel: Container Host Kernel
	Compiler: gcc 12.2.0

CentOS Stream 9 (ARM)
	Kernel: Container Host Kernel
	Compiler: gcc 11.4.1

Fedora 37 (ARM)
	Kernel: Depends on container host
	Compiler: gcc 12.3.1

Fedora 39 (ARM)
	Kernel: Depends on container host
	Compiler: gcc 13.2.1

Fedora 38 (ARM)
	Kernel: Depends on container host
	Compiler: gcc 13.2.1

Ubuntu 20.04 (ARM)
	Kernel: Container Host Kernel
	Compiler: gcc 9.4.0

32-bit Ubuntu 20.04.4 (ARM)
	Kernel: 5.4.0-155-generic aarch64
	Compiler: gcc 9.4

Fedora 38 (ARM Clang)
	Kernel: Depends on container host
	Compiler: clang 16.0.6

Fedora 39 (ARM Clang)
	Kernel: Depends on container host
	Compiler: clang 17.0.6

Ubuntu 20.04 ARM SVE
	Kernel: 5.4.0-167-generic
	Compiler: gcc (Ubuntu 10.5.0-1ubuntu1~20.04) 10.5.0

To view detailed results, visit:
https://lab.dpdk.org/results/dashboard/patchsets/29832/

UNH-IOL DPDK Community Lab

To manage your email subscriptions, visit: 
https://lab.dpdk.org/results/dashboard/preferences/subscriptions/