From mboxrd@z Thu Jan  1 00:00:00 1970
Return-Path: <test-report-bounces@dpdk.org>
Received: from mails.dpdk.org (mails.dpdk.org [217.70.189.124])
	by inbox.dpdk.org (Postfix) with ESMTP id C075843EDB
	for <public@inbox.dpdk.org>; Mon, 22 Apr 2024 10:00:37 +0200 (CEST)
Received: from mails.dpdk.org (localhost [127.0.0.1])
	by mails.dpdk.org (Postfix) with ESMTP id 9EFA840265;
	Mon, 22 Apr 2024 10:00:37 +0200 (CEST)
Received: from mail-pl1-f226.google.com (mail-pl1-f226.google.com
 [209.85.214.226])
 by mails.dpdk.org (Postfix) with ESMTP id BF5854021F
 for <test-report@dpdk.org>; Mon, 22 Apr 2024 10:00:35 +0200 (CEST)
Received: by mail-pl1-f226.google.com with SMTP id
 d9443c01a7336-1e5715a9ebdso32849505ad.2
 for <test-report@dpdk.org>; Mon, 22 Apr 2024 01:00:35 -0700 (PDT)
DKIM-Signature: v=1; a=rsa-sha256; c=relaxed/relaxed;
 d=iol.unh.edu; s=unh-iol; t=1713772835; x=1714377635; darn=dpdk.org;
 h=references:in-reply-to:cc:to:from:subject:message-id:date:from:to
 :cc:subject:date:message-id:reply-to;
 bh=0w9mc6Z9BNRUmh3bE2U33i3rBwfh5fXPAVnQD1iryqk=;
 b=Jt9PYOZ1osRMcRZ6Ff2ogk44yfQ+1suZXJICx4DOEDorpoByaml7ebR7b2ccJMaZAF
 DvWZ37VcPcaPZSB4yeSRGeHav2ZDCa+kAp9Ikdl7NeGQu4tcx6oyc0j4ZMt2L5WwQclV
 8FRwz7scxU+efCOIeLYGOijejVahlPmsZYdYc=
X-Google-DKIM-Signature: v=1; a=rsa-sha256; c=relaxed/relaxed;
 d=1e100.net; s=20230601; t=1713772835; x=1714377635;
 h=references:in-reply-to:cc:to:from:subject:message-id:date
 :x-gm-message-state:from:to:cc:subject:date:message-id:reply-to;
 bh=0w9mc6Z9BNRUmh3bE2U33i3rBwfh5fXPAVnQD1iryqk=;
 b=bQURP+l0CTgL4nSljgrZj3pEaRRDf45YbukPaJ7jGUZKbIa+Ectxclt1L5R0+LS0hi
 qz/1iBFgvfT30Ynl+gkCHE4/qO+MU408zlY07qYu1Amje86ltDLNejGpTboa5mXhq7eu
 kXG8HN/W28Jjnn6cKNX3jc1Au4BWdajfi2p7UsX/w/4Uu0n/lDX8rFuo1eba0Wc+Yzz7
 1PioyyseK0p0/xN3zwxDGsGxPgq0o1UXbN09J78ZRCYwTjvts4OLNyTnP4PQ26B90R85
 ApAhy/5IcZCQ/FdNEyp85BVoPkHQsz+IMQycqCzGLMc9fTSjBtpAb5nB5NNR5n8lWJB2
 3n3A==
X-Gm-Message-State: AOJu0Yz5vZ42tkBMLJqZbM5DZKy9dzh15utg2wsK3PcMwh+toIWJWqbk
 FbSfUPObzN0wGvDj4gOnsVizcr4Pq+jeM0HVGVmRHFXS2k6Vf1hWfPHZtfFryIjGq2YAJ1BhHMq
 zbLVAWgWX/KQZIPYp6E5XvkVUeo5m247dTVTNfHObGVNGsoaYifQICfnA
X-Google-Smtp-Source: AGHT+IFSJkmwi//foMR5b7mlehConEyOkUxm8lg1noGXvtef6uDDqpqPFsTbafhoCrFt2XAGliIEHcXTrg8p
X-Received: by 2002:a17:903:40c7:b0:1e3:e4ff:7054 with SMTP id
 t7-20020a17090340c700b001e3e4ff7054mr10756958pld.38.1713772834843; 
 Mon, 22 Apr 2024 01:00:34 -0700 (PDT)
Received: from postal.iol.unh.edu (postal.iol.unh.edu.
 [2606:4100:3880:1234::84]) by smtp-relay.gmail.com with ESMTPS id
 s10-20020a170902a50a00b001e451ce5053sm213583plq.149.2024.04.22.01.00.34
 (version=TLS1_2 cipher=ECDHE-ECDSA-AES128-GCM-SHA256 bits=128/128);
 Mon, 22 Apr 2024 01:00:34 -0700 (PDT)
X-Relaying-Domain: iol.unh.edu
Date: Mon, 22 Apr 2024 01:00:34 -0700 (PDT)
Message-ID: <66261922.170a0220.df805.c589SMTPIN_ADDED_MISSING@mx.google.com>
Received: from [172.21.0.6] (unknown [172.18.0.240])
 by postal.iol.unh.edu (Postfix) with ESMTP id EABDF6052514;
 Mon, 22 Apr 2024 04:00:33 -0400 (EDT)
Subject: |SUCCESS| pw139606 [PATCH] [v8] ethdev: fix strict aliasing lead to 
From: dpdklab@iol.unh.edu
To: Test Report <test-report@dpdk.org>
Cc: dpdk-test-reports@iol.unh.edu
In-Reply-To: <20240422063813.23814-1-fengchengwen@huawei.com>
References: <20240422063813.23814-1-fengchengwen@huawei.com>
Content-Type: text/plain
X-BeenThere: test-report@dpdk.org
X-Mailman-Version: 2.1.29
Precedence: list
List-Id: automatic DPDK test reports <test-report.dpdk.org>
List-Unsubscribe: <https://mails.dpdk.org/options/test-report>,
 <mailto:test-report-request@dpdk.org?subject=unsubscribe>
List-Archive: <http://mails.dpdk.org/archives/test-report/>
List-Post: <mailto:test-report@dpdk.org>
List-Help: <mailto:test-report-request@dpdk.org?subject=help>
List-Subscribe: <https://mails.dpdk.org/listinfo/test-report>,
 <mailto:test-report-request@dpdk.org?subject=subscribe>
Errors-To: test-report-bounces@dpdk.org

Test-Label: iol-abi-testing
Test-Status: SUCCESS
http://dpdk.org/patch/139606

_Testing PASS_

Submitter: fengchengwen <fengchengwen@huawei.com>
Date: Monday, April 22 2024 06:38:13 
DPDK git baseline: Repo:dpdk
  Branch: master
  CommitID:7b668b7d65ba33783c280d08489fa31685bd0ee6

139606 --> testing pass

Test environment and result as below:

+------------------+----------+
|   Environment    | abi_test |
+==================+==========+
| Debian Bullseye  | PASS     |
+------------------+----------+
| Fedora 39        | PASS     |
+------------------+----------+
| Fedora 38        | PASS     |
+------------------+----------+
| CentOS Stream 8  | PASS     |
+------------------+----------+
| CentOS Stream 9  | PASS     |
+------------------+----------+
| Ubuntu 22.04     | PASS     |
+------------------+----------+
| Debian 12        | PASS     |
+------------------+----------+
| openSUSE Leap 15 | PASS     |
+------------------+----------+
| Fedora 37        | PASS     |
+------------------+----------+
| RHEL8            | PASS     |
+------------------+----------+


Debian Bullseye
	Kernel: 5.4.0-167-generic
	Compiler: gcc 10.2.1-6

Fedora 39
	Kernel: Depends on container host
	Compiler: clang 17.0.6

Fedora 38
	Kernel: Depends on container host
	Compiler: clang 16.0.6

CentOS Stream 8
	Kernel: 5.4.0-167-generic
	Compiler: gcc 8.5.0 20210514

CentOS Stream 9
	Kernel: 5.4.0-167-generic
	Compiler: gcc 11.4.1 20230605

Ubuntu 22.04
	Kernel: 5.4.0-167-generic
	Compiler: gcc 11.4.0

Debian 12
	Kernel: Container Host Kernel
	Compiler: gcc 10.2.1

openSUSE Leap 15
	Kernel: 5.4.0-167-generic
	Compiler: gcc 7.5.0

Fedora 37
	Kernel: Depends on container host system
	Compiler: gcc 12.3.1

RHEL8
	Kernel: 5.4.0-167-generic
	Compiler: gcc 8.5.0 20210514 (Red Hat 8.5.0-20)

To view detailed results, visit:
https://lab.dpdk.org/results/dashboard/patchsets/29835/

UNH-IOL DPDK Community Lab

To manage your email subscriptions, visit: 
https://lab.dpdk.org/results/dashboard/preferences/subscriptions/