From mboxrd@z Thu Jan  1 00:00:00 1970
Return-Path: <test-report-bounces@dpdk.org>
Received: from mails.dpdk.org (mails.dpdk.org [217.70.189.124])
	by inbox.dpdk.org (Postfix) with ESMTP id 30E8243ED4
	for <public@inbox.dpdk.org>; Mon, 22 Apr 2024 10:23:03 +0200 (CEST)
Received: from mails.dpdk.org (localhost [127.0.0.1])
	by mails.dpdk.org (Postfix) with ESMTP id 29D7B40265;
	Mon, 22 Apr 2024 10:23:03 +0200 (CEST)
Received: from mail-yw1-f227.google.com (mail-yw1-f227.google.com
 [209.85.128.227])
 by mails.dpdk.org (Postfix) with ESMTP id 06F6A4021F
 for <test-report@dpdk.org>; Mon, 22 Apr 2024 10:23:02 +0200 (CEST)
Received: by mail-yw1-f227.google.com with SMTP id
 00721157ae682-617cd7bd929so44035537b3.3
 for <test-report@dpdk.org>; Mon, 22 Apr 2024 01:23:01 -0700 (PDT)
DKIM-Signature: v=1; a=rsa-sha256; c=relaxed/relaxed;
 d=iol.unh.edu; s=unh-iol; t=1713774181; x=1714378981; darn=dpdk.org;
 h=references:in-reply-to:cc:to:from:subject:message-id:date:from:to
 :cc:subject:date:message-id:reply-to;
 bh=YM7pvc2SkzkJSUKSzPhYAq6dgsxIoFqwjHQakkt/AZ4=;
 b=jTwxkU8dlB8rvFR6HY0G/BW/WMAptYUc03EYzOecugdsSSt3DfYzef4mrnsfcTy3TE
 EMnU97BU5XC12Ps4z5p0QVK/r6VomQ56cRW1AIGuVYOjtyYaHTbOCWhrXanjhzjPyr3H
 hSfYWOrFzRqvyw5L5DVUg3fl5hB3wmb1zlfPc=
X-Google-DKIM-Signature: v=1; a=rsa-sha256; c=relaxed/relaxed;
 d=1e100.net; s=20230601; t=1713774181; x=1714378981;
 h=references:in-reply-to:cc:to:from:subject:message-id:date
 :x-gm-message-state:from:to:cc:subject:date:message-id:reply-to;
 bh=YM7pvc2SkzkJSUKSzPhYAq6dgsxIoFqwjHQakkt/AZ4=;
 b=jGBWwdSvjCIQbO4JVF2Sd3jD1KaF0pw8izU9fKQr8/LUIMNAUdJTQ/HMtKrBz96IJs
 0XKlBK4D6sUOayISetjNS5nJyAEz2OgV+qLJPZPyB/zG/VWCqjHRgd+tUt7xu8WjnzED
 TWldDH5zJxg6voVSfMqKtbvIi7oozyzqsVbUDZYGEhmg+hOjUJq68G9ahfSbFyYnuOkL
 ghqJGhDkAsmYkce5wCiMDwC0As8o49feS1ojwit46DBS71GQOPjGNL0uLUnKHiE1/YVt
 urD7PGWbAHrwnj+pQNY1FancOSkCpncYhkvO+BUljzcBDE0J/1RHZB3nzhB/0/NvYSVk
 zGOA==
X-Gm-Message-State: AOJu0Yzxp8jGDDjiNWz/SQch84X5BV1YeWgBozKiDUodkqFday11WrBG
 kADWiBgDJ2K3aVnjf17Faq/6J/2O2l8R+mBx7CHue5DyEfbCgDZ46YHlzQjHjrPLueI9vgIU/pP
 ll54jtq83JGt4b4y+wxl6tDDwciglyxX1iODGPlZ89WnqNiOcvc0+AvpS
X-Google-Smtp-Source: AGHT+IHG4OkxuL7snX4sZ1pdbnO+NTwL9URGWHCfPEL0KVOwn52HC4iVJaR9dTv9fEnt7gjGC+Hub3QsSHOH
X-Received: by 2002:a05:690c:670c:b0:61b:3304:ce04 with SMTP id
 ia12-20020a05690c670c00b0061b3304ce04mr13730000ywb.34.1713774181357; 
 Mon, 22 Apr 2024 01:23:01 -0700 (PDT)
Received: from postal.iol.unh.edu (postal.iol.unh.edu.
 [2606:4100:3880:1234::84]) by smtp-relay.gmail.com with ESMTPS id
 t129-20020a815f87000000b00618939674a5sm258166ywb.31.2024.04.22.01.23.01
 (version=TLS1_2 cipher=ECDHE-ECDSA-AES128-GCM-SHA256 bits=128/128);
 Mon, 22 Apr 2024 01:23:01 -0700 (PDT)
X-Relaying-Domain: iol.unh.edu
Date: Mon, 22 Apr 2024 01:23:01 -0700 (PDT)
Message-ID: <66261e65.810a0220.d5e14.13d6SMTPIN_ADDED_MISSING@mx.google.com>
Received: from [172.21.0.6] (unknown [172.18.0.240])
 by postal.iol.unh.edu (Postfix) with ESMTP id 14A7B6052514;
 Mon, 22 Apr 2024 04:23:01 -0400 (EDT)
Subject: |SUCCESS| pw139606 [PATCH] [v8] ethdev: fix strict aliasing lead to 
From: dpdklab@iol.unh.edu
To: Test Report <test-report@dpdk.org>
Cc: dpdk-test-reports@iol.unh.edu
In-Reply-To: <20240422063813.23814-1-fengchengwen@huawei.com>
References: <20240422063813.23814-1-fengchengwen@huawei.com>
Content-Type: text/plain
X-BeenThere: test-report@dpdk.org
X-Mailman-Version: 2.1.29
Precedence: list
List-Id: automatic DPDK test reports <test-report.dpdk.org>
List-Unsubscribe: <https://mails.dpdk.org/options/test-report>,
 <mailto:test-report-request@dpdk.org?subject=unsubscribe>
List-Archive: <http://mails.dpdk.org/archives/test-report/>
List-Post: <mailto:test-report@dpdk.org>
List-Help: <mailto:test-report-request@dpdk.org?subject=help>
List-Subscribe: <https://mails.dpdk.org/listinfo/test-report>,
 <mailto:test-report-request@dpdk.org?subject=subscribe>
Errors-To: test-report-bounces@dpdk.org

Test-Label: iol-unit-amd64-testing
Test-Status: SUCCESS
http://dpdk.org/patch/139606

_Testing PASS_

Submitter: fengchengwen <fengchengwen@huawei.com>
Date: Monday, April 22 2024 06:38:13 
DPDK git baseline: Repo:dpdk
  Branch: master
  CommitID:7b668b7d65ba33783c280d08489fa31685bd0ee6

139606 --> testing pass

Test environment and result as below:

+---------------------+----------------+
|     Environment     | dpdk_unit_test |
+=====================+================+
| Windows Server 2019 | PASS           |
+---------------------+----------------+
| CentOS Stream 8     | PASS           |
+---------------------+----------------+
| Debian Bullseye     | PASS           |
+---------------------+----------------+
| CentOS Stream 9     | PASS           |
+---------------------+----------------+
| Fedora 38           | PASS           |
+---------------------+----------------+
| Windows Server 2022 | PASS           |
+---------------------+----------------+
| Debian 12           | PASS           |
+---------------------+----------------+
| Fedora 37           | PASS           |
+---------------------+----------------+
| Fedora 39           | PASS           |
+---------------------+----------------+
| openSUSE Leap 15    | PASS           |
+---------------------+----------------+
| Ubuntu 20.04        | PASS           |
+---------------------+----------------+
| Ubuntu 22.04        | PASS           |
+---------------------+----------------+


Windows Server 2019
	Kernel: 10.0.17763
	Compiler: clang 14.0 and gcc 8.1.0 (MinGW)

CentOS Stream 8
	Kernel: 5.4.0-167-generic
	Compiler: gcc 8.5.0 20210514

Debian Bullseye
	Kernel: 5.4.0-167-generic
	Compiler: gcc 10.2.1-6

CentOS Stream 9
	Kernel: 5.4.0-167-generic
	Compiler: gcc 11.4.1 20230605

Fedora 38
	Kernel: Depends on container host
	Compiler: gcc 13.2.1

Windows Server 2022
	Kernel: 10.0.20348.2031
	Compiler: clang 15.0.7, gcc 8.1.0 (MinGW), and MSVC VS 17.9

Debian 12
	Kernel: Container Host Kernel
	Compiler: gcc 10.2.1

Fedora 37
	Kernel: Depends on container host system
	Compiler: gcc 12.3.1

Fedora 39
	Kernel: Depends on container host
	Compiler: gcc 13.2.1

openSUSE Leap 15
	Kernel: 5.4.0-167-generic
	Compiler: gcc 7.5.0

Ubuntu 20.04
	Kernel: 5.4.0-167-generic
	Compiler: gcc 9.4.0-1ubuntu1~20.04.1

Ubuntu 22.04
	Kernel: 5.4.0-167-generic
	Compiler: gcc 11.4.0

To view detailed results, visit:
https://lab.dpdk.org/results/dashboard/patchsets/29835/

UNH-IOL DPDK Community Lab

To manage your email subscriptions, visit: 
https://lab.dpdk.org/results/dashboard/preferences/subscriptions/