From mboxrd@z Thu Jan  1 00:00:00 1970
Return-Path: <test-report-bounces@dpdk.org>
Received: from mails.dpdk.org (mails.dpdk.org [217.70.189.124])
	by inbox.dpdk.org (Postfix) with ESMTP id BCC2843ED4
	for <public@inbox.dpdk.org>; Mon, 22 Apr 2024 10:29:24 +0200 (CEST)
Received: from mails.dpdk.org (localhost [127.0.0.1])
	by mails.dpdk.org (Postfix) with ESMTP id B58B840265;
	Mon, 22 Apr 2024 10:29:24 +0200 (CEST)
Received: from mail-oo1-f97.google.com (mail-oo1-f97.google.com
 [209.85.161.97]) by mails.dpdk.org (Postfix) with ESMTP id 86D474021F
 for <test-report@dpdk.org>; Mon, 22 Apr 2024 10:29:23 +0200 (CEST)
Received: by mail-oo1-f97.google.com with SMTP id
 006d021491bc7-5ad2a15374eso1334756eaf.3
 for <test-report@dpdk.org>; Mon, 22 Apr 2024 01:29:23 -0700 (PDT)
DKIM-Signature: v=1; a=rsa-sha256; c=relaxed/relaxed;
 d=iol.unh.edu; s=unh-iol; t=1713774562; x=1714379362; darn=dpdk.org;
 h=references:in-reply-to:cc:to:from:subject:message-id:date:from:to
 :cc:subject:date:message-id:reply-to;
 bh=EyZ99vXvVOmUamDxfFe6jdkA7Mp5Z6hD9WeNY/iHAS8=;
 b=eR+0YlDGkp8vSe68T7StudeW6+mG+tb0n7qzTtlLcUeQ+Hplvtkcs0OvNLREmvuv7t
 xJS2dJtxZNNZwoNzzK1jJ7sOqbR2S7NFtGl0qfuJ+VCVIE30IDCNuhGdjvfhrR7oCZ0S
 W02oWBS8mMEDsbdrtpefNjBZusYQm5+ZFbYWI=
X-Google-DKIM-Signature: v=1; a=rsa-sha256; c=relaxed/relaxed;
 d=1e100.net; s=20230601; t=1713774562; x=1714379362;
 h=references:in-reply-to:cc:to:from:subject:message-id:date
 :x-gm-message-state:from:to:cc:subject:date:message-id:reply-to;
 bh=EyZ99vXvVOmUamDxfFe6jdkA7Mp5Z6hD9WeNY/iHAS8=;
 b=XPyR8pu3eZsiBJXKDIEB6T9ncgcEYpgeFhpuyWivQaEnzg/y9WgBxEF3f7VnFZj9oH
 pF+WdThEVQp0rkkmw1XIR2o0+RdQK0u2DxXagSd4pMdFqmTGpCbWCRIfeCmBn4jIttGi
 5ynYSeiTrg0Y5R9vkxqpSJ/ntiHU3K6UraVZVeCkPNw/kLMTNmoxIW0EvsVbNVIeDMoG
 0PefgW7pApCDldELYjB0Jx7ANYJaScSF94IpYy6VeJKTATgTzcepFV3gbXuhKL4aoqot
 mxwuiH7YeQqtFW2qMMGpgLQFKbAOdDHDeI24NnlihkciIeYon9mIUAOD6++NWGJ/zMCI
 yiog==
X-Gm-Message-State: AOJu0YxnNsiW0vdmyrzdC7PDZSiVHirEtW7cXGXQW/hX6NM8n2Mo/BIL
 jw/N2sMIPGaTnpUP3YTkj0YqiQwX9qWX3FrvJMY3R86wPgEnNZS8SyFFQQyqz6GhAbikrKX0OfH
 oGm2Vm4SLq0VK4yDvr9GfZ1D5Mav7e12xISNwPIWxZfsraOvoPp8bySL2
X-Google-Smtp-Source: AGHT+IFg097fXPYNVqc/2vt2wGYo8vdpAkTWacULrwlqNt5JnY1j5xc2Pe1aRzRecTcLbJy62CNS5hJWncuG
X-Received: by 2002:a05:6870:24a4:b0:233:a2c:470e with SMTP id
 s36-20020a05687024a400b002330a2c470emr11569269oaq.57.1713774562613; 
 Mon, 22 Apr 2024 01:29:22 -0700 (PDT)
Received: from postal.iol.unh.edu (postal.iol.unh.edu.
 [2606:4100:3880:1234::84]) by smtp-relay.gmail.com with ESMTPS id
 c196-20020a6335cd000000b005dc95670a2dsm466582pga.25.2024.04.22.01.29.22
 (version=TLS1_2 cipher=ECDHE-ECDSA-AES128-GCM-SHA256 bits=128/128);
 Mon, 22 Apr 2024 01:29:22 -0700 (PDT)
X-Relaying-Domain: iol.unh.edu
Date: Mon, 22 Apr 2024 01:29:22 -0700 (PDT)
Message-ID: <66261fe2.630a0220.e2ea0.d75cSMTPIN_ADDED_MISSING@mx.google.com>
Received: from [172.17.0.2] (unknown [172.18.0.217])
 by postal.iol.unh.edu (Postfix) with ESMTP id D490B6052514;
 Mon, 22 Apr 2024 04:29:21 -0400 (EDT)
Subject: |SUCCESS| pw139606 [PATCH] [v8] ethdev: fix strict aliasing lead to 
From: dpdklab@iol.unh.edu
To: Test Report <test-report@dpdk.org>
Cc: dpdk-test-reports@iol.unh.edu
In-Reply-To: <20240422063813.23814-1-fengchengwen@huawei.com>
References: <20240422063813.23814-1-fengchengwen@huawei.com>
Content-Type: text/plain
X-BeenThere: test-report@dpdk.org
X-Mailman-Version: 2.1.29
Precedence: list
List-Id: automatic DPDK test reports <test-report.dpdk.org>
List-Unsubscribe: <https://mails.dpdk.org/options/test-report>,
 <mailto:test-report-request@dpdk.org?subject=unsubscribe>
List-Archive: <http://mails.dpdk.org/archives/test-report/>
List-Post: <mailto:test-report@dpdk.org>
List-Help: <mailto:test-report-request@dpdk.org?subject=help>
List-Subscribe: <https://mails.dpdk.org/listinfo/test-report>,
 <mailto:test-report-request@dpdk.org?subject=subscribe>
Errors-To: test-report-bounces@dpdk.org

Test-Label: iol-unit-arm64-testing
Test-Status: SUCCESS
http://dpdk.org/patch/139606

_Testing PASS_

Submitter: fengchengwen <fengchengwen@huawei.com>
Date: Monday, April 22 2024 06:38:13 
DPDK git baseline: Repo:dpdk
  Branch: master
  CommitID:7b668b7d65ba33783c280d08489fa31685bd0ee6

139606 --> testing pass

Test environment and result as below:

+-----------------------------+----------------+------------------------------+--------------+
|         Environment         | dpdk_unit_test | cryptodev_sw_snow3g_autotest | lpm_autotest |
+=============================+================+==============================+==============+
| CentOS Stream 9 (ARM)       | PASS           | SKIPPED                      | SKIPPED      |
+-----------------------------+----------------+------------------------------+--------------+
| Debian 11 (Buster) (ARM)    | PASS           | SKIPPED                      | SKIPPED      |
+-----------------------------+----------------+------------------------------+--------------+
| Debian 12 (arm)             | PASS           | PASS                         | SKIPPED      |
+-----------------------------+----------------+------------------------------+--------------+
| Fedora 37 (ARM)             | PASS           | SKIPPED                      | SKIPPED      |
+-----------------------------+----------------+------------------------------+--------------+
| 32-bit Ubuntu 20.04.4 (ARM) | PASS           | SKIPPED                      | SKIPPED      |
+-----------------------------+----------------+------------------------------+--------------+
| Fedora 39 (ARM)             | PASS           | SKIPPED                      | SKIPPED      |
+-----------------------------+----------------+------------------------------+--------------+
| Fedora 38 (ARM)             | PASS           | SKIPPED                      | SKIPPED      |
+-----------------------------+----------------+------------------------------+--------------+
| Fedora 38 (ARM Clang)       | PASS           | SKIPPED                      | SKIPPED      |
+-----------------------------+----------------+------------------------------+--------------+
| Ubuntu 20.04 (ARM)          | PASS           | SKIPPED                      | SKIPPED      |
+-----------------------------+----------------+------------------------------+--------------+
| Ubuntu 20.04 ARM SVE        | SKIPPED        | SKIPPED                      | PASS         |
+-----------------------------+----------------+------------------------------+--------------+


CentOS Stream 9 (ARM)
	Kernel: Container Host Kernel
	Compiler: gcc 11.4.1

Debian 11 (Buster) (ARM)
	Kernel: Container Host Kernel
	Compiler: gcc 10.2.1

Debian 12 (arm)
	Kernel: Container Host Kernel
	Compiler: gcc 12.2.0

Fedora 37 (ARM)
	Kernel: Depends on container host
	Compiler: gcc 12.3.1

32-bit Ubuntu 20.04.4 (ARM)
	Kernel: 5.4.0-155-generic aarch64
	Compiler: gcc 9.4

Fedora 39 (ARM)
	Kernel: Depends on container host
	Compiler: gcc 13.2.1

Fedora 38 (ARM)
	Kernel: Depends on container host
	Compiler: gcc 13.2.1

Fedora 38 (ARM Clang)
	Kernel: Depends on container host
	Compiler: clang 16.0.6

Ubuntu 20.04 (ARM)
	Kernel: Container Host Kernel
	Compiler: gcc 9.4.0

Ubuntu 20.04 ARM SVE
	Kernel: 5.4.0-167-generic
	Compiler: gcc (Ubuntu 10.5.0-1ubuntu1~20.04) 10.5.0

To view detailed results, visit:
https://lab.dpdk.org/results/dashboard/patchsets/29835/

UNH-IOL DPDK Community Lab

To manage your email subscriptions, visit: 
https://lab.dpdk.org/results/dashboard/preferences/subscriptions/