From mboxrd@z Thu Jan  1 00:00:00 1970
Return-Path: <test-report-bounces@dpdk.org>
Received: from mails.dpdk.org (mails.dpdk.org [217.70.189.124])
	by inbox.dpdk.org (Postfix) with ESMTP id 8AF8743EDB
	for <public@inbox.dpdk.org>; Mon, 22 Apr 2024 16:28:15 +0200 (CEST)
Received: from mails.dpdk.org (localhost [127.0.0.1])
	by mails.dpdk.org (Postfix) with ESMTP id 86F5040265;
	Mon, 22 Apr 2024 16:28:15 +0200 (CEST)
Received: from mail-pf1-f228.google.com (mail-pf1-f228.google.com
 [209.85.210.228])
 by mails.dpdk.org (Postfix) with ESMTP id A1C944021F
 for <test-report@dpdk.org>; Mon, 22 Apr 2024 16:28:13 +0200 (CEST)
Received: by mail-pf1-f228.google.com with SMTP id
 d2e1a72fcca58-6ed627829e6so5018997b3a.1
 for <test-report@dpdk.org>; Mon, 22 Apr 2024 07:28:13 -0700 (PDT)
DKIM-Signature: v=1; a=rsa-sha256; c=relaxed/relaxed;
 d=iol.unh.edu; s=unh-iol; t=1713796093; x=1714400893; darn=dpdk.org;
 h=references:in-reply-to:cc:to:from:subject:message-id:date:from:to
 :cc:subject:date:message-id:reply-to;
 bh=k8ttN+0nrUjdbjTEl5cPFPD9XrfVeNlorHSeMyJF+B4=;
 b=PyYFJNEsS/0b36Zk8ix4x3cMMzmK/6orSARNycXPqVzo4hH+kZuW6KemXLsK+iOY9x
 ZTSIXMkh1VEzXYrMtAjU51ZFFolVHPwexcAmsuGyItPrrVCeRwX7qLG7lQbqPZ79WVwc
 1duYbpMOLmuS79OKtjYkZkB2SsBq9zSjDBLCg=
X-Google-DKIM-Signature: v=1; a=rsa-sha256; c=relaxed/relaxed;
 d=1e100.net; s=20230601; t=1713796093; x=1714400893;
 h=references:in-reply-to:cc:to:from:subject:message-id:date
 :x-gm-message-state:from:to:cc:subject:date:message-id:reply-to;
 bh=k8ttN+0nrUjdbjTEl5cPFPD9XrfVeNlorHSeMyJF+B4=;
 b=XUsH4LmYmO6q57iRviEfSlbyz1P55HdOIVUtnvEomu6N3YyLPxtd2/UGD18ILYknQT
 gqE+j+ZYwxpT7nNopbga6KF8d9pCgE8ub5c1kSd8Jl9Tt5c8SAOtF7S8ZKn9iEv8Frle
 GjahYyykglzCmvDeFOWiqD6v704R42THkaSqag+/Mt9j9vz4mU25ft9WdU6yJenycsun
 M9MIjolC9nsnq8xNA4VCA568a3QfTV0j/PfGwNfTItmSzdqbJc57pJnWu2C/Mqsg/fUd
 tobwe4oQpUA70BcmOncw9jp+1mHtWEFwWAJyJkGjfz4ksBlMqxzTNXMzHNZiylDvbqA1
 N0Ug==
X-Gm-Message-State: AOJu0YxYYVWw97zqHspQkcsHn/h7Jgsghr33vGycYJ1MoyVUoD5nH6CG
 ixRjDmj0Z45S9YYe/GTuK3pi+zzQeFi16Iyl4QID0HWmAdInPH6W+YBfQbC8Jev92fuCuvHKTH7
 172HhPonJu2XbW/BENfBFRab6rDXo7RUpv7YpIbOC
X-Google-Smtp-Source: AGHT+IFgOGgIo5lnIvLUo3ktEEkhRybSDbwVOFuJUZFVOvnYuW/X6ZfdQiciCOo94QE8MCltJXjEV0NJWuMt
X-Received: by 2002:a17:90a:d386:b0:2a3:48a8:cf7b with SMTP id
 q6-20020a17090ad38600b002a348a8cf7bmr9026882pju.18.1713796092704; 
 Mon, 22 Apr 2024 07:28:12 -0700 (PDT)
Received: from postal.iol.unh.edu (postal.iol.unh.edu. [132.177.123.84])
 by smtp-relay.gmail.com with ESMTPS id
 r8-20020a17090aa08800b0029c6755144bsm728590pjp.17.2024.04.22.07.28.12
 (version=TLS1_2 cipher=ECDHE-ECDSA-AES128-GCM-SHA256 bits=128/128);
 Mon, 22 Apr 2024 07:28:12 -0700 (PDT)
X-Relaying-Domain: iol.unh.edu
Date: Mon, 22 Apr 2024 07:28:12 -0700 (PDT)
Message-ID: <662673fc.170a0220.a911b.84e5SMTPIN_ADDED_MISSING@mx.google.com>
Received: from [172.21.0.6] (unknown [172.18.0.240])
 by postal.iol.unh.edu (Postfix) with ESMTP id DDDB4605C200;
 Mon, 22 Apr 2024 10:28:11 -0400 (EDT)
Subject: |SUCCESS| pw139608 [PATCH] eal/linux: enhanced error handling for af
From: dpdklab@iol.unh.edu
To: Test Report <test-report@dpdk.org>
Cc: dpdk-test-reports@iol.unh.edu
In-Reply-To: <20240422134917.3740545-1-ferruh.yigit@amd.com>
References: <20240422134917.3740545-1-ferruh.yigit@amd.com>
Content-Type: text/plain
X-BeenThere: test-report@dpdk.org
X-Mailman-Version: 2.1.29
Precedence: list
List-Id: automatic DPDK test reports <test-report.dpdk.org>
List-Unsubscribe: <https://mails.dpdk.org/options/test-report>,
 <mailto:test-report-request@dpdk.org?subject=unsubscribe>
List-Archive: <http://mails.dpdk.org/archives/test-report/>
List-Post: <mailto:test-report@dpdk.org>
List-Help: <mailto:test-report-request@dpdk.org?subject=help>
List-Subscribe: <https://mails.dpdk.org/listinfo/test-report>,
 <mailto:test-report-request@dpdk.org?subject=subscribe>
Errors-To: test-report-bounces@dpdk.org

Test-Label: iol-compile-amd64-testing
Test-Status: SUCCESS
http://dpdk.org/patch/139608

_Testing PASS_

Submitter: Ferruh Yigit <ferruh.yigit@amd.com>
Date: Monday, April 22 2024 13:49:17 
DPDK git baseline: Repo:dpdk
  Branch: master
  CommitID:7e06c0de1952d3109a5b0c4779d7e7d8059c9d78

139608 --> testing pass

Test environment and result as below:

+---------------------+--------------------+----------------------+-------------------+
|     Environment     | dpdk_meson_compile | dpdk_mingw64_compile | dpdk_msvc_compile |
+=====================+====================+======================+===================+
| FreeBSD 13.2        | PASS               | SKIPPED              | SKIPPED           |
+---------------------+--------------------+----------------------+-------------------+
| Debian Bullseye     | PASS               | SKIPPED              | SKIPPED           |
+---------------------+--------------------+----------------------+-------------------+
| Windows Server 2022 | PASS               | PASS                 | PASS              |
+---------------------+--------------------+----------------------+-------------------+
| Debian 12           | PASS               | SKIPPED              | SKIPPED           |
+---------------------+--------------------+----------------------+-------------------+
| Windows Server 2019 | PASS               | PASS                 | SKIPPED           |
+---------------------+--------------------+----------------------+-------------------+
| CentOS Stream 8     | PASS               | SKIPPED              | SKIPPED           |
+---------------------+--------------------+----------------------+-------------------+


FreeBSD 13.2
	Kernel: 13.2
	Compiler: clang 14.0.5

Debian Bullseye
	Kernel: 5.4.0-167-generic
	Compiler: gcc 10.2.1-6

Windows Server 2022
	Kernel: 10.0.20348.2031
	Compiler: clang 15.0.7, gcc 8.1.0 (MinGW), and MSVC VS 17.9

Debian 12
	Kernel: Container Host Kernel
	Compiler: gcc 10.2.1

Windows Server 2019
	Kernel: 10.0.17763
	Compiler: clang 14.0 and gcc 8.1.0 (MinGW)

CentOS Stream 8
	Kernel: 5.4.0-167-generic
	Compiler: gcc 8.5.0 20210514

To view detailed results, visit:
https://lab.dpdk.org/results/dashboard/patchsets/29836/

UNH-IOL DPDK Community Lab

To manage your email subscriptions, visit: 
https://lab.dpdk.org/results/dashboard/preferences/subscriptions/