From mboxrd@z Thu Jan  1 00:00:00 1970
Return-Path: <test-report-bounces@dpdk.org>
Received: from mails.dpdk.org (mails.dpdk.org [217.70.189.124])
	by inbox.dpdk.org (Postfix) with ESMTP id C590B43EDB
	for <public@inbox.dpdk.org>; Mon, 22 Apr 2024 16:28:57 +0200 (CEST)
Received: from mails.dpdk.org (localhost [127.0.0.1])
	by mails.dpdk.org (Postfix) with ESMTP id BF4E840265;
	Mon, 22 Apr 2024 16:28:57 +0200 (CEST)
Received: from mail-yw1-f227.google.com (mail-yw1-f227.google.com
 [209.85.128.227])
 by mails.dpdk.org (Postfix) with ESMTP id BCEFC4021F
 for <test-report@dpdk.org>; Mon, 22 Apr 2024 16:28:56 +0200 (CEST)
Received: by mail-yw1-f227.google.com with SMTP id
 00721157ae682-6150670d372so39696987b3.1
 for <test-report@dpdk.org>; Mon, 22 Apr 2024 07:28:56 -0700 (PDT)
DKIM-Signature: v=1; a=rsa-sha256; c=relaxed/relaxed;
 d=iol.unh.edu; s=unh-iol; t=1713796136; x=1714400936; darn=dpdk.org;
 h=references:in-reply-to:cc:to:from:subject:message-id:date:from:to
 :cc:subject:date:message-id:reply-to;
 bh=k8ttN+0nrUjdbjTEl5cPFPD9XrfVeNlorHSeMyJF+B4=;
 b=YYBRyFgHHFJgysfPbIs/3lwHByFcR1qCs5CPVHtcQVGHcrZYLdJIkO86Nm3hlHt/jh
 FNNQPduaJRzwpag+KTlW6sCziBfGqw8iQ4P//gb8eEnMMe5B23Rc+VbxGXpMbvJT2TcL
 TAw1+TZWdlZeTf46uKmJHcVKhB01PAlLWBYOk=
X-Google-DKIM-Signature: v=1; a=rsa-sha256; c=relaxed/relaxed;
 d=1e100.net; s=20230601; t=1713796136; x=1714400936;
 h=references:in-reply-to:cc:to:from:subject:message-id:date
 :x-gm-message-state:from:to:cc:subject:date:message-id:reply-to;
 bh=k8ttN+0nrUjdbjTEl5cPFPD9XrfVeNlorHSeMyJF+B4=;
 b=aNEPhVmi8mB5k+foBmcTbG+W4SRLqn7MnDc4H4tp7pP2NY91/E1UZTd4e5IpDSfZNV
 5VnNBxnXUNmNzFqG5raJteipHh15oqoAfYr9yOCXkOS16ebAPiRgEJAnGWM4Yx9UWe2Z
 KLUNoEa/iw7kzrHNw4pVdZJFVDCCR7o6cWG99EqvlMDZ+rOLvh5RZT8rpELrY2YVfjh7
 txyZQLwOGlWPaKRCRC3HwPOgLKisWkW1Zrnu12WqYR26HmZQPqvCkR+oBqMKclGqjLw3
 KTBOxtk5mk68qoi/i+K47ZCjiC27gXVJgnQ/Piyg60qA8eeAe1kNB2y550jKEN1tds3v
 etVA==
X-Gm-Message-State: AOJu0YzFJj6V8fpAjRVM1n7PFnR6syg+gFbwfnZ48M5zcKNuwlc8P/lV
 T+iCX8B3L5CXIl319olQn5LJIjzbkDjZkKSPIhyrM0MxdEOTFOAJsHNuBuDb+geiI7yZJQlrEgb
 c0KVWrM43EdLC94CFa+fTz8KrgMbZUQOBLQmKiK7b
X-Google-Smtp-Source: AGHT+IHRbong5VMnk2J9nOaqGnvf01kEPS0baJE4JGjMTfWPhj1SjPQvwYMv8HVBCoNuU05cwx+5/FDyaM4A
X-Received: by 2002:a05:690c:92:b0:61b:df5:7871 with SMTP id
 be18-20020a05690c009200b0061b0df57871mr10390612ywb.16.1713796135162; 
 Mon, 22 Apr 2024 07:28:55 -0700 (PDT)
Received: from postal.iol.unh.edu (postal.iol.unh.edu. [132.177.123.84])
 by smtp-relay.gmail.com with ESMTPS id
 s65-20020a0dd044000000b00614efaaad6esm681279ywd.70.2024.04.22.07.28.55
 (version=TLS1_2 cipher=ECDHE-ECDSA-AES128-GCM-SHA256 bits=128/128);
 Mon, 22 Apr 2024 07:28:55 -0700 (PDT)
X-Relaying-Domain: iol.unh.edu
Date: Mon, 22 Apr 2024 07:28:55 -0700 (PDT)
Message-ID: <66267427.0d0a0220.bfdaf.98e9SMTPIN_ADDED_MISSING@mx.google.com>
Received: from [172.21.0.6] (unknown [172.18.0.240])
 by postal.iol.unh.edu (Postfix) with ESMTP id C328F605C200;
 Mon, 22 Apr 2024 10:28:54 -0400 (EDT)
Subject: |SUCCESS| pw139608 [PATCH] eal/linux: enhanced error handling for af
From: dpdklab@iol.unh.edu
To: Test Report <test-report@dpdk.org>
Cc: dpdk-test-reports@iol.unh.edu
In-Reply-To: <20240422134917.3740545-1-ferruh.yigit@amd.com>
References: <20240422134917.3740545-1-ferruh.yigit@amd.com>
Content-Type: text/plain
X-BeenThere: test-report@dpdk.org
X-Mailman-Version: 2.1.29
Precedence: list
List-Id: automatic DPDK test reports <test-report.dpdk.org>
List-Unsubscribe: <https://mails.dpdk.org/options/test-report>,
 <mailto:test-report-request@dpdk.org?subject=unsubscribe>
List-Archive: <http://mails.dpdk.org/archives/test-report/>
List-Post: <mailto:test-report@dpdk.org>
List-Help: <mailto:test-report-request@dpdk.org?subject=help>
List-Subscribe: <https://mails.dpdk.org/listinfo/test-report>,
 <mailto:test-report-request@dpdk.org?subject=subscribe>
Errors-To: test-report-bounces@dpdk.org

Test-Label: iol-compile-amd64-testing
Test-Status: SUCCESS
http://dpdk.org/patch/139608

_Testing PASS_

Submitter: Ferruh Yigit <ferruh.yigit@amd.com>
Date: Monday, April 22 2024 13:49:17 
DPDK git baseline: Repo:dpdk
  Branch: master
  CommitID:7e06c0de1952d3109a5b0c4779d7e7d8059c9d78

139608 --> testing pass

Test environment and result as below:

+---------------------+--------------------+----------------------+-------------------+
|     Environment     | dpdk_meson_compile | dpdk_mingw64_compile | dpdk_msvc_compile |
+=====================+====================+======================+===================+
| FreeBSD 13.2        | PASS               | SKIPPED              | SKIPPED           |
+---------------------+--------------------+----------------------+-------------------+
| Debian Bullseye     | PASS               | SKIPPED              | SKIPPED           |
+---------------------+--------------------+----------------------+-------------------+
| Windows Server 2022 | PASS               | PASS                 | PASS              |
+---------------------+--------------------+----------------------+-------------------+
| Debian 12           | PASS               | SKIPPED              | SKIPPED           |
+---------------------+--------------------+----------------------+-------------------+
| Windows Server 2019 | PASS               | PASS                 | SKIPPED           |
+---------------------+--------------------+----------------------+-------------------+
| CentOS Stream 8     | PASS               | SKIPPED              | SKIPPED           |
+---------------------+--------------------+----------------------+-------------------+


FreeBSD 13.2
	Kernel: 13.2
	Compiler: clang 14.0.5

Debian Bullseye
	Kernel: 5.4.0-167-generic
	Compiler: gcc 10.2.1-6

Windows Server 2022
	Kernel: 10.0.20348.2031
	Compiler: clang 15.0.7, gcc 8.1.0 (MinGW), and MSVC VS 17.9

Debian 12
	Kernel: Container Host Kernel
	Compiler: gcc 10.2.1

Windows Server 2019
	Kernel: 10.0.17763
	Compiler: clang 14.0 and gcc 8.1.0 (MinGW)

CentOS Stream 8
	Kernel: 5.4.0-167-generic
	Compiler: gcc 8.5.0 20210514

To view detailed results, visit:
https://lab.dpdk.org/results/dashboard/patchsets/29836/

UNH-IOL DPDK Community Lab

To manage your email subscriptions, visit: 
https://lab.dpdk.org/results/dashboard/preferences/subscriptions/