From mboxrd@z Thu Jan  1 00:00:00 1970
Return-Path: <test-report-bounces@dpdk.org>
Received: from mails.dpdk.org (mails.dpdk.org [217.70.189.124])
	by inbox.dpdk.org (Postfix) with ESMTP id 7FFBA43EDB
	for <public@inbox.dpdk.org>; Mon, 22 Apr 2024 16:40:26 +0200 (CEST)
Received: from mails.dpdk.org (localhost [127.0.0.1])
	by mails.dpdk.org (Postfix) with ESMTP id 7B45E40265;
	Mon, 22 Apr 2024 16:40:26 +0200 (CEST)
Received: from mail-qt1-f225.google.com (mail-qt1-f225.google.com
 [209.85.160.225])
 by mails.dpdk.org (Postfix) with ESMTP id 6B94940265
 for <test-report@dpdk.org>; Mon, 22 Apr 2024 16:40:18 +0200 (CEST)
Received: by mail-qt1-f225.google.com with SMTP id
 d75a77b69052e-434d0a63151so29876361cf.3
 for <test-report@dpdk.org>; Mon, 22 Apr 2024 07:40:18 -0700 (PDT)
DKIM-Signature: v=1; a=rsa-sha256; c=relaxed/relaxed;
 d=iol.unh.edu; s=unh-iol; t=1713796818; x=1714401618; darn=dpdk.org;
 h=references:in-reply-to:cc:to:from:subject:message-id:date:from:to
 :cc:subject:date:message-id:reply-to;
 bh=NJUcH7gfJuTKi8d08sz+8zJtEfdseZL7CmE+pXxvIZQ=;
 b=G5GVEvMi/3JBbrZbya032Cu+h2/+mrHZZhOmzz8dZT9LjUGK/bI+mr/P2bYjespv4m
 bJ0PkHXqwIQMzD6j8ijAxVX/Y420P1hNNICMEKm5vcf0ojPmmubriuLfPUe7OlcWViOa
 ENy3I7SurFMfeRS9G+To3DgY7W1FXAFssTi8Y=
X-Google-DKIM-Signature: v=1; a=rsa-sha256; c=relaxed/relaxed;
 d=1e100.net; s=20230601; t=1713796818; x=1714401618;
 h=references:in-reply-to:cc:to:from:subject:message-id:date
 :x-gm-message-state:from:to:cc:subject:date:message-id:reply-to;
 bh=NJUcH7gfJuTKi8d08sz+8zJtEfdseZL7CmE+pXxvIZQ=;
 b=agUUvBEgJtYZnTiAX6VdinFxtVu+I7ri2vg5HA8eXuF1BNgKltH95lFTwJoRqbbAWZ
 EEbKtp4jXgVRIIsNLoF1pVx9quUsSPOfEZbIqP2GCNH1AoZXUaJ0zUlXxaAOGbY2ttOb
 3/LyVe+4pkK6gEk3+AgxQxBC69n873agAQhAWXm058Nra8PO8vYfAs7Ihv6pe+gz8RRB
 E6X/EOuKFcrJ39yqogblFMnhMfHiVwVuI+FIZL48iDqdfPuto3dvFyPzYY96Su7sgjND
 SYLFWH3UMoTNluAc5koTegrdczmnZOr5l6HFpMLMV2GuIhkxU8sXiYVWFNRlo2aaFi0B
 WHyw==
X-Gm-Message-State: AOJu0YyYqjWdIgWsb0aQMIVWxASDnO7PuaLsQ0MvwyQSVblgMW4tI+m4
 9a4Rwc+QjBXEx/JnZv/yZYpgiupqIivMnTisiHaoam4cclB2tf5cUj5VQ67L7cfLBwMpAB+cyOf
 oFOmpfNr4b2An8LDW8Z1tN2Hnj+MmfrU9e8KKn1Sf
X-Google-Smtp-Source: AGHT+IHXvG3opXzfGdZJ1vhePiuQmyezMeZmbblyi+OYHNyhTi88yvm2n6jy4F29+0rax5inVnZmAk99utY5
X-Received: by 2002:a05:622a:5499:b0:437:93f2:729c with SMTP id
 ep25-20020a05622a549900b0043793f2729cmr12661738qtb.5.1713796817772; 
 Mon, 22 Apr 2024 07:40:17 -0700 (PDT)
Received: from postal.iol.unh.edu (postal.iol.unh.edu. [132.177.123.84])
 by smtp-relay.gmail.com with ESMTPS id
 z3-20020ac87f83000000b00436f9b86390sm492396qtj.21.2024.04.22.07.40.17
 (version=TLS1_2 cipher=ECDHE-ECDSA-AES128-GCM-SHA256 bits=128/128);
 Mon, 22 Apr 2024 07:40:17 -0700 (PDT)
X-Relaying-Domain: iol.unh.edu
Date: Mon, 22 Apr 2024 07:40:17 -0700 (PDT)
Message-ID: <662676d1.c80a0220.e8a0d.9db5SMTPIN_ADDED_MISSING@mx.google.com>
Received: from [172.21.0.7] (unknown [172.18.0.240])
 by postal.iol.unh.edu (Postfix) with ESMTP id 54643605C200;
 Mon, 22 Apr 2024 10:40:17 -0400 (EDT)
Subject: |SUCCESS| pw139608 [PATCH] eal/linux: enhanced error handling for af
From: dpdklab@iol.unh.edu
To: Test Report <test-report@dpdk.org>
Cc: dpdk-test-reports@iol.unh.edu
In-Reply-To: <20240422134917.3740545-1-ferruh.yigit@amd.com>
References: <20240422134917.3740545-1-ferruh.yigit@amd.com>
Content-Type: text/plain
X-BeenThere: test-report@dpdk.org
X-Mailman-Version: 2.1.29
Precedence: list
List-Id: automatic DPDK test reports <test-report.dpdk.org>
List-Unsubscribe: <https://mails.dpdk.org/options/test-report>,
 <mailto:test-report-request@dpdk.org?subject=unsubscribe>
List-Archive: <http://mails.dpdk.org/archives/test-report/>
List-Post: <mailto:test-report@dpdk.org>
List-Help: <mailto:test-report-request@dpdk.org?subject=help>
List-Subscribe: <https://mails.dpdk.org/listinfo/test-report>,
 <mailto:test-report-request@dpdk.org?subject=subscribe>
Errors-To: test-report-bounces@dpdk.org

Test-Label: iol-compile-amd64-testing
Test-Status: SUCCESS
http://dpdk.org/patch/139608

_Testing PASS_

Submitter: Ferruh Yigit <ferruh.yigit@amd.com>
Date: Monday, April 22 2024 13:49:17 
DPDK git baseline: Repo:dpdk
  Branch: master
  CommitID:7e06c0de1952d3109a5b0c4779d7e7d8059c9d78

139608 --> testing pass

Test environment and result as below:

+---------------------+--------------------+----------------------+-------------------+
|     Environment     | dpdk_meson_compile | dpdk_mingw64_compile | dpdk_msvc_compile |
+=====================+====================+======================+===================+
| FreeBSD 13.2        | PASS               | SKIPPED              | SKIPPED           |
+---------------------+--------------------+----------------------+-------------------+
| Debian Bullseye     | PASS               | SKIPPED              | SKIPPED           |
+---------------------+--------------------+----------------------+-------------------+
| Windows Server 2022 | PASS               | PASS                 | PASS              |
+---------------------+--------------------+----------------------+-------------------+
| Debian 12           | PASS               | SKIPPED              | SKIPPED           |
+---------------------+--------------------+----------------------+-------------------+
| Windows Server 2019 | PASS               | PASS                 | SKIPPED           |
+---------------------+--------------------+----------------------+-------------------+
| CentOS Stream 8     | PASS               | SKIPPED              | SKIPPED           |
+---------------------+--------------------+----------------------+-------------------+
| CentOS Stream 9     | PASS               | SKIPPED              | SKIPPED           |
+---------------------+--------------------+----------------------+-------------------+
| Fedora 38           | PASS               | SKIPPED              | SKIPPED           |
+---------------------+--------------------+----------------------+-------------------+
| Fedora 39           | PASS               | SKIPPED              | SKIPPED           |
+---------------------+--------------------+----------------------+-------------------+
| RHEL8               | PASS               | SKIPPED              | SKIPPED           |
+---------------------+--------------------+----------------------+-------------------+
| Ubuntu 20.04        | PASS               | SKIPPED              | SKIPPED           |
+---------------------+--------------------+----------------------+-------------------+
| Ubuntu 22.04        | PASS               | SKIPPED              | SKIPPED           |
+---------------------+--------------------+----------------------+-------------------+
| Fedora 37           | PASS               | SKIPPED              | SKIPPED           |
+---------------------+--------------------+----------------------+-------------------+


FreeBSD 13.2
	Kernel: 13.2
	Compiler: clang 14.0.5

Debian Bullseye
	Kernel: 5.4.0-167-generic
	Compiler: gcc 10.2.1-6

Windows Server 2022
	Kernel: 10.0.20348.2031
	Compiler: clang 15.0.7, gcc 8.1.0 (MinGW), and MSVC VS 17.9

Debian 12
	Kernel: Container Host Kernel
	Compiler: gcc 10.2.1

Windows Server 2019
	Kernel: 10.0.17763
	Compiler: clang 14.0 and gcc 8.1.0 (MinGW)

CentOS Stream 8
	Kernel: 5.4.0-167-generic
	Compiler: gcc 8.5.0 20210514

CentOS Stream 9
	Kernel: 5.4.0-167-generic
	Compiler: gcc 11.4.1 20230605

Fedora 38
	Kernel: Depends on container host
	Compiler: gcc 13.2.1

Fedora 39
	Kernel: Depends on container host
	Compiler: gcc 13.2.1

RHEL8
	Kernel: 5.4.0-167-generic
	Compiler: gcc 8.5.0 20210514 (Red Hat 8.5.0-20)

Ubuntu 20.04
	Kernel: 5.4.0-167-generic
	Compiler: gcc 9.4.0-1ubuntu1~20.04.1

Ubuntu 22.04
	Kernel: 5.4.0-167-generic
	Compiler: gcc 11.4.0

Fedora 37
	Kernel: Depends on container host system
	Compiler: gcc 12.3.1

To view detailed results, visit:
https://lab.dpdk.org/results/dashboard/patchsets/29836/

UNH-IOL DPDK Community Lab

To manage your email subscriptions, visit: 
https://lab.dpdk.org/results/dashboard/preferences/subscriptions/