From mboxrd@z Thu Jan  1 00:00:00 1970
Return-Path: <test-report-bounces@dpdk.org>
Received: from mails.dpdk.org (mails.dpdk.org [217.70.189.124])
	by inbox.dpdk.org (Postfix) with ESMTP id BB3A643EDB
	for <public@inbox.dpdk.org>; Mon, 22 Apr 2024 16:46:13 +0200 (CEST)
Received: from mails.dpdk.org (localhost [127.0.0.1])
	by mails.dpdk.org (Postfix) with ESMTP id B65B440268;
	Mon, 22 Apr 2024 16:46:13 +0200 (CEST)
Received: from mail-pl1-f227.google.com (mail-pl1-f227.google.com
 [209.85.214.227])
 by mails.dpdk.org (Postfix) with ESMTP id 0897940265
 for <test-report@dpdk.org>; Mon, 22 Apr 2024 16:46:12 +0200 (CEST)
Received: by mail-pl1-f227.google.com with SMTP id
 d9443c01a7336-1e86d56b3bcso26134875ad.1
 for <test-report@dpdk.org>; Mon, 22 Apr 2024 07:46:11 -0700 (PDT)
DKIM-Signature: v=1; a=rsa-sha256; c=relaxed/relaxed;
 d=iol.unh.edu; s=unh-iol; t=1713797171; x=1714401971; darn=dpdk.org;
 h=references:in-reply-to:cc:to:from:subject:message-id:date:from:to
 :cc:subject:date:message-id:reply-to;
 bh=CNM1PRFdYrweOVGil/XeL5Eg8DaVTI7CvsMcvcmrpmw=;
 b=EXO57UADMWu5VPPvmsRSS5YnjX7RUXussap+uoudsFIMAweSMw16iJ6zgiTedFc61R
 2lecQBkBs1EcvdiIZT8gtsjgwXNPepXCy3StoICYyrzpGxk0LPYANXBDM5hXDplf80bS
 5VO5IfpVHrCm1VZn7RBMXISMCr5NE2KBfOb3g=
X-Google-DKIM-Signature: v=1; a=rsa-sha256; c=relaxed/relaxed;
 d=1e100.net; s=20230601; t=1713797171; x=1714401971;
 h=references:in-reply-to:cc:to:from:subject:message-id:date
 :x-gm-message-state:from:to:cc:subject:date:message-id:reply-to;
 bh=CNM1PRFdYrweOVGil/XeL5Eg8DaVTI7CvsMcvcmrpmw=;
 b=HtzyNvbJdwsPVyz7dT5w2x6m6O+Z8eOatfrPYAaKTnJTxiilvqnyzXy8mY6/Sq7oJO
 +1qpHP7TRrfT/e8fBMN6EpknH1Ev6b7fBVHMjLdP65+Bpk9Vzty4+h8qjAGBd0+k+zsw
 Vi/fgcqGPUTzuwHAqleiy9ZzXVy1/ROojP218waKjrZHwF20gbHWZRzBew9KwxwyloaB
 HjLLsSctsx4zs4MIPPOE1rXr25ScJkEvCjQjuvl1YAXOed1v/IIIuw7aJpq6RZsHLHFx
 4yEKLgyoqoOUiHbrHwGZmForfubccqiseJeCB/zXc7CN7AEvvJSjm8Qr8lMvlDpJ0rtY
 2Amg==
X-Gm-Message-State: AOJu0YwH5zyZP80ZUCzJyfIeh0hkBOHyQt7av5giHytcxw3XWVqBw+rC
 YJ+lQJ1Qt6NKL1Uck/7MDvUE8uGcy5RoT7YK07p36xkLKX+J7NtdlwCrUMIEtOh9AAPsOJE2wVT
 7n+sBfviJtPYfjM2pbNesT4jny97/ifzqkGeCL2Hz
X-Google-Smtp-Source: AGHT+IF7Mva/TISuG7w30onMl6boJV0AUzye9zQnK9BVB7hPZ0MtJrckqIhh40fcFvnRT0WfxgKCOJlwFMup
X-Received: by 2002:a17:902:ee45:b0:1e5:10e5:b673 with SMTP id
 5-20020a170902ee4500b001e510e5b673mr10760971plo.37.1713797171268; 
 Mon, 22 Apr 2024 07:46:11 -0700 (PDT)
Received: from postal.iol.unh.edu (postal.iol.unh.edu. [132.177.123.84])
 by smtp-relay.gmail.com with ESMTPS id
 mj14-20020a1709032b8e00b001e3cf9d96e0sm262851plb.16.2024.04.22.07.46.11
 (version=TLS1_2 cipher=ECDHE-ECDSA-AES128-GCM-SHA256 bits=128/128);
 Mon, 22 Apr 2024 07:46:11 -0700 (PDT)
X-Relaying-Domain: iol.unh.edu
Date: Mon, 22 Apr 2024 07:46:11 -0700 (PDT)
Message-ID: <66267833.170a0220.5e25f.f1a2SMTPIN_ADDED_MISSING@mx.google.com>
Received: from [172.17.0.3] (unknown [172.18.0.217])
 by postal.iol.unh.edu (Postfix) with ESMTP id 5CEB0605C200;
 Mon, 22 Apr 2024 10:46:10 -0400 (EDT)
Subject: |SUCCESS| pw139608 [PATCH] eal/linux: enhanced error handling for af
From: dpdklab@iol.unh.edu
To: Test Report <test-report@dpdk.org>
Cc: dpdk-test-reports@iol.unh.edu
In-Reply-To: <20240422134917.3740545-1-ferruh.yigit@amd.com>
References: <20240422134917.3740545-1-ferruh.yigit@amd.com>
Content-Type: text/plain
X-BeenThere: test-report@dpdk.org
X-Mailman-Version: 2.1.29
Precedence: list
List-Id: automatic DPDK test reports <test-report.dpdk.org>
List-Unsubscribe: <https://mails.dpdk.org/options/test-report>,
 <mailto:test-report-request@dpdk.org?subject=unsubscribe>
List-Archive: <http://mails.dpdk.org/archives/test-report/>
List-Post: <mailto:test-report@dpdk.org>
List-Help: <mailto:test-report-request@dpdk.org?subject=help>
List-Subscribe: <https://mails.dpdk.org/listinfo/test-report>,
 <mailto:test-report-request@dpdk.org?subject=subscribe>
Errors-To: test-report-bounces@dpdk.org

Test-Label: iol-unit-amd64-testing
Test-Status: SUCCESS
http://dpdk.org/patch/139608

_Testing PASS_

Submitter: Ferruh Yigit <ferruh.yigit@amd.com>
Date: Monday, April 22 2024 13:49:17 
DPDK git baseline: Repo:dpdk
  Branch: master
  CommitID:7e06c0de1952d3109a5b0c4779d7e7d8059c9d78

139608 --> testing pass

Test environment and result as below:

+---------------------+----------------+
|     Environment     | dpdk_unit_test |
+=====================+================+
| Windows Server 2019 | PASS           |
+---------------------+----------------+
| Debian Bullseye     | PASS           |
+---------------------+----------------+
| CentOS Stream 8     | PASS           |
+---------------------+----------------+
| CentOS Stream 9     | PASS           |
+---------------------+----------------+
| Fedora 38           | PASS           |
+---------------------+----------------+
| Debian 12           | PASS           |
+---------------------+----------------+
| Fedora 37           | PASS           |
+---------------------+----------------+


Windows Server 2019
	Kernel: 10.0.17763
	Compiler: clang 14.0 and gcc 8.1.0 (MinGW)

Debian Bullseye
	Kernel: 5.4.0-167-generic
	Compiler: gcc 10.2.1-6

CentOS Stream 8
	Kernel: 5.4.0-167-generic
	Compiler: gcc 8.5.0 20210514

CentOS Stream 9
	Kernel: 5.4.0-167-generic
	Compiler: gcc 11.4.1 20230605

Fedora 38
	Kernel: Depends on container host
	Compiler: gcc 13.2.1

Debian 12
	Kernel: Container Host Kernel
	Compiler: gcc 10.2.1

Fedora 37
	Kernel: Depends on container host system
	Compiler: gcc 12.3.1

To view detailed results, visit:
https://lab.dpdk.org/results/dashboard/patchsets/29836/

UNH-IOL DPDK Community Lab

To manage your email subscriptions, visit: 
https://lab.dpdk.org/results/dashboard/preferences/subscriptions/