From mboxrd@z Thu Jan  1 00:00:00 1970
Return-Path: <test-report-bounces@dpdk.org>
Received: from mails.dpdk.org (mails.dpdk.org [217.70.189.124])
	by inbox.dpdk.org (Postfix) with ESMTP id 8B89743EDF
	for <public@inbox.dpdk.org>; Mon, 22 Apr 2024 21:54:18 +0200 (CEST)
Received: from mails.dpdk.org (localhost [127.0.0.1])
	by mails.dpdk.org (Postfix) with ESMTP id 87CBD40268;
	Mon, 22 Apr 2024 21:54:18 +0200 (CEST)
Received: from mail-pf1-f225.google.com (mail-pf1-f225.google.com
 [209.85.210.225])
 by mails.dpdk.org (Postfix) with ESMTP id BFC5E40265
 for <test-report@dpdk.org>; Mon, 22 Apr 2024 21:54:16 +0200 (CEST)
Received: by mail-pf1-f225.google.com with SMTP id
 d2e1a72fcca58-6eff9dc1821so4759009b3a.3
 for <test-report@dpdk.org>; Mon, 22 Apr 2024 12:54:16 -0700 (PDT)
DKIM-Signature: v=1; a=rsa-sha256; c=relaxed/relaxed;
 d=iol.unh.edu; s=unh-iol; t=1713815656; x=1714420456; darn=dpdk.org;
 h=references:in-reply-to:cc:to:from:subject:message-id:date:from:to
 :cc:subject:date:message-id:reply-to;
 bh=mzvQZQRwgV7rDhpex/rMllZWoroYyDizrMiie4T/0WI=;
 b=Z4SU3xDvbCL54O6FzIJO3Vbt3xLcqCae8x/dIgnDmmV0nSWbRhzKkI2W/shw7PibpB
 YXCD4b77mcKFOHqUU2as7RmwC8AoUnKfD9F9CMg3X4+CJSVf3HOjLPStz7OFJafNztwY
 vc0vqtYpAYCvmdMf2I0F14FcCrEL5S35PkKBw=
X-Google-DKIM-Signature: v=1; a=rsa-sha256; c=relaxed/relaxed;
 d=1e100.net; s=20230601; t=1713815656; x=1714420456;
 h=references:in-reply-to:cc:to:from:subject:message-id:date
 :x-gm-message-state:from:to:cc:subject:date:message-id:reply-to;
 bh=mzvQZQRwgV7rDhpex/rMllZWoroYyDizrMiie4T/0WI=;
 b=qDYF9nibvfbcGlvVEecWm62zk4AeMZTCh4qfAOyVxq2qGbK39RxVgIS7Eeuxb1lPFn
 GIIvkr6jpvf0C+GP+CsjMfBGFgic0n2yiaC5ICfbhrFCeXu58uk35nu8dkQAxId5wsuk
 tOEithFZUqIsYtZ4ZLVLnwmELLRX+SBkiAjtbR45fqSZvqkQOIkLxmAmhVcRfTjUKpQe
 NdmxPTThEwDKc6GpZM7IXLOqZYlJRbAnDJidIkht2vzdbUTggnM8HwIvdJMXZeJEEqQl
 MiRJMvEslA3Cvc3PWovM5zUx4PyeVaFxFSMyZXqFWE4SelYWra+6rLjlmipOVTRj50gC
 0P0A==
X-Gm-Message-State: AOJu0Yy90Wnf+j2B7CiLPncTJzTAJNyfkBKbXTryh3cdeF3AYViowqkF
 Gsusx7iM1jdzmPUAKy/tn6NpnUdrfT7tjLhFmDtGPRryR8wmzc0t9WVgNGaX4+aNfi1wPILxxsR
 mxRtlot5P+1+2mE2ecj0NVbsUD9biWrn6QSGf25iI
X-Google-Smtp-Source: AGHT+IGglWEeQd56XVqKbnktvmdUoZidWtKxifeJ6ccU40oVYZiqx3ahu2xf+RkJSrtM3FidkwHffK6WsorN
X-Received: by 2002:a05:6a20:438c:b0:1a9:c2a1:3ae2 with SMTP id
 i12-20020a056a20438c00b001a9c2a13ae2mr13898347pzl.4.1713815655936; 
 Mon, 22 Apr 2024 12:54:15 -0700 (PDT)
Received: from postal.iol.unh.edu (postal.iol.unh.edu. [132.177.123.84])
 by smtp-relay.gmail.com with ESMTPS id
 q9-20020a63bc09000000b005dbd0e92e23sm531674pge.20.2024.04.22.12.54.15
 (version=TLS1_2 cipher=ECDHE-ECDSA-AES128-GCM-SHA256 bits=128/128);
 Mon, 22 Apr 2024 12:54:15 -0700 (PDT)
X-Relaying-Domain: iol.unh.edu
Date: Mon, 22 Apr 2024 12:54:15 -0700 (PDT)
Message-ID: <6626c067.630a0220.a024.e1f7SMTPIN_ADDED_MISSING@mx.google.com>
Received: from [172.21.0.6] (unknown [172.18.0.240])
 by postal.iol.unh.edu (Postfix) with ESMTP id 0DFAB605C200;
 Mon, 22 Apr 2024 15:54:15 -0400 (EDT)
Subject: |SUCCESS| pw139621-139624 [PATCH] [v1,5/5] baseband/acc: cosmetic lo
From: dpdklab@iol.unh.edu
To: Test Report <test-report@dpdk.org>
Cc: dpdk-test-reports@iol.unh.edu
In-Reply-To: <20240422154008.119800-6-hernan.vargas@intel.com>
References: <20240422154008.119800-6-hernan.vargas@intel.com>
Content-Type: text/plain
X-BeenThere: test-report@dpdk.org
X-Mailman-Version: 2.1.29
Precedence: list
List-Id: automatic DPDK test reports <test-report.dpdk.org>
List-Unsubscribe: <https://mails.dpdk.org/options/test-report>,
 <mailto:test-report-request@dpdk.org?subject=unsubscribe>
List-Archive: <http://mails.dpdk.org/archives/test-report/>
List-Post: <mailto:test-report@dpdk.org>
List-Help: <mailto:test-report-request@dpdk.org?subject=help>
List-Subscribe: <https://mails.dpdk.org/listinfo/test-report>,
 <mailto:test-report-request@dpdk.org?subject=subscribe>
Errors-To: test-report-bounces@dpdk.org

Test-Label: iol-compile-amd64-testing
Test-Status: SUCCESS
http://dpdk.org/patch/139624

_Testing PASS_

Submitter: Hernan Vargas <hernan.vargas@intel.com>
Date: Monday, April 22 2024 15:40:08 
DPDK git baseline: Repo:dpdk
  Branch: master
  CommitID:98b4ecb4e4d73e93fdfa53f552b48d71104b445f

139621-139624 --> testing pass

Test environment and result as below:

+---------------------+--------------------+----------------------+-------------------+
|     Environment     | dpdk_meson_compile | dpdk_mingw64_compile | dpdk_msvc_compile |
+=====================+====================+======================+===================+
| FreeBSD 13.2        | PASS               | SKIPPED              | SKIPPED           |
+---------------------+--------------------+----------------------+-------------------+
| Windows Server 2019 | PASS               | PASS                 | SKIPPED           |
+---------------------+--------------------+----------------------+-------------------+
| Windows Server 2022 | PASS               | PASS                 | PASS              |
+---------------------+--------------------+----------------------+-------------------+


FreeBSD 13.2
	Kernel: 13.2
	Compiler: clang 14.0.5

Windows Server 2019
	Kernel: 10.0.17763
	Compiler: clang 14.0 and gcc 8.1.0 (MinGW)

Windows Server 2022
	Kernel: 10.0.20348.2031
	Compiler: clang 15.0.7, gcc 8.1.0 (MinGW), and MSVC VS 17.9

To view detailed results, visit:
https://lab.dpdk.org/results/dashboard/patchsets/29839/

UNH-IOL DPDK Community Lab

To manage your email subscriptions, visit: 
https://lab.dpdk.org/results/dashboard/preferences/subscriptions/