From mboxrd@z Thu Jan  1 00:00:00 1970
Return-Path: <test-report-bounces@dpdk.org>
Received: from mails.dpdk.org (mails.dpdk.org [217.70.189.124])
	by inbox.dpdk.org (Postfix) with ESMTP id 676B443EE0
	for <public@inbox.dpdk.org>; Mon, 22 Apr 2024 22:46:33 +0200 (CEST)
Received: from mails.dpdk.org (localhost [127.0.0.1])
	by mails.dpdk.org (Postfix) with ESMTP id 628914028B;
	Mon, 22 Apr 2024 22:46:33 +0200 (CEST)
Received: from mail-yw1-f226.google.com (mail-yw1-f226.google.com
 [209.85.128.226])
 by mails.dpdk.org (Postfix) with ESMTP id 2068940268
 for <test-report@dpdk.org>; Mon, 22 Apr 2024 22:46:32 +0200 (CEST)
Received: by mail-yw1-f226.google.com with SMTP id
 00721157ae682-6153d85053aso38355847b3.0
 for <test-report@dpdk.org>; Mon, 22 Apr 2024 13:46:32 -0700 (PDT)
DKIM-Signature: v=1; a=rsa-sha256; c=relaxed/relaxed;
 d=iol.unh.edu; s=unh-iol; t=1713818791; x=1714423591; darn=dpdk.org;
 h=references:in-reply-to:cc:to:from:subject:message-id:date:from:to
 :cc:subject:date:message-id:reply-to;
 bh=nlW4pHZF5ogv33ARoq9jKQQfjgCF6MmjabdENJb0BmY=;
 b=G0Cdt8ZWdnxrSiuu7raIh4640tbMbZ11bIwQgsH+RqliPszuFX4eRFafz6YCN1aeJe
 +Hk/2UZ2LTteWkdeYxHYCTWMkQSpJNcy0ArprTeiGle0ENRovsaLMFOZT0aBvNV5ZBba
 ZKUl41Nn+S/98qyz9sW1gTNyzxH6F+CEpI2YU=
X-Google-DKIM-Signature: v=1; a=rsa-sha256; c=relaxed/relaxed;
 d=1e100.net; s=20230601; t=1713818791; x=1714423591;
 h=references:in-reply-to:cc:to:from:subject:message-id:date
 :x-gm-message-state:from:to:cc:subject:date:message-id:reply-to;
 bh=nlW4pHZF5ogv33ARoq9jKQQfjgCF6MmjabdENJb0BmY=;
 b=KXz6+JR0Rx38NfMbGdzhgyKLRc2kvFLFW+ajOuq/8k2YfeA1s8D499ksrVn/jxjNsc
 JRO6OFh2YWST9s3i8Urrej8eRlEaYTQVg+xmbR/3d7mQskstnjb+q7Yn8mTs+R9CRwD4
 8Qn58HtzPpZlpu/Ifh7g3iHLfV+g868QXo7akUYHJfX1tD10e0/CyLu+MAuEePAcZAfY
 ekNvf/zMVNiO5DiC5xH6SgzrTugIK9ZxNh0M89oZw1vl9hE8tjpqc4++gzFfrhoDeUaj
 BJaO2v+x98rHFyAL592eA4sT2ttBaZxVGapgK93DoPTqN9TDeRtS8uvrDAxECGVxH8cy
 EUhw==
X-Gm-Message-State: AOJu0Yw+u5y7HxDCNlhMdlaMnmtmfjuBeU7m/LH858p/5uHdhb5rmNhd
 EQV503chfdQAHdhK29kbd+ZWCG2/S5sid4tfv5YnYZahzKdYqaRtkUpZbb8ts/osjlg7j78POTu
 bmTMG6bBiuQzFlf/0hy5PanuduSGqa6gHYZ8oXdFy
X-Google-Smtp-Source: AGHT+IFkIxUkRfWBxAAmuGfDoMkpMPxtYqigZIQ9NDhpdmtuP973pvAc0WMItcZq/qlLjjX10mtFlofodmrB
X-Received: by 2002:a05:690c:6c0c:b0:615:c92:d24f with SMTP id
 ir12-20020a05690c6c0c00b006150c92d24fmr12270313ywb.15.1713818791490; 
 Mon, 22 Apr 2024 13:46:31 -0700 (PDT)
Received: from postal.iol.unh.edu (postal.iol.unh.edu. [132.177.123.84])
 by smtp-relay.gmail.com with ESMTPS id
 s34-20020a05622a1aa200b004346fe72394sm572622qtc.23.2024.04.22.13.46.31
 (version=TLS1_2 cipher=ECDHE-ECDSA-AES128-GCM-SHA256 bits=128/128);
 Mon, 22 Apr 2024 13:46:31 -0700 (PDT)
X-Relaying-Domain: iol.unh.edu
Date: Mon, 22 Apr 2024 13:46:31 -0700 (PDT)
Message-ID: <6626cca7.050a0220.e9819.010aSMTPIN_ADDED_MISSING@mx.google.com>
Received: from [172.21.0.7] (unknown [172.18.0.240])
 by postal.iol.unh.edu (Postfix) with ESMTP id 15109605C200;
 Mon, 22 Apr 2024 16:46:31 -0400 (EDT)
Subject: |SUCCESS| pw139621-139624 [PATCH] [v1,5/5] baseband/acc: cosmetic lo
From: dpdklab@iol.unh.edu
To: Test Report <test-report@dpdk.org>
Cc: dpdk-test-reports@iol.unh.edu
In-Reply-To: <20240422154008.119800-6-hernan.vargas@intel.com>
References: <20240422154008.119800-6-hernan.vargas@intel.com>
Content-Type: text/plain
X-BeenThere: test-report@dpdk.org
X-Mailman-Version: 2.1.29
Precedence: list
List-Id: automatic DPDK test reports <test-report.dpdk.org>
List-Unsubscribe: <https://mails.dpdk.org/options/test-report>,
 <mailto:test-report-request@dpdk.org?subject=unsubscribe>
List-Archive: <http://mails.dpdk.org/archives/test-report/>
List-Post: <mailto:test-report@dpdk.org>
List-Help: <mailto:test-report-request@dpdk.org?subject=help>
List-Subscribe: <https://mails.dpdk.org/listinfo/test-report>,
 <mailto:test-report-request@dpdk.org?subject=subscribe>
Errors-To: test-report-bounces@dpdk.org

Test-Label: iol-compile-amd64-testing
Test-Status: SUCCESS
http://dpdk.org/patch/139624

_Testing PASS_

Submitter: Hernan Vargas <hernan.vargas@intel.com>
Date: Monday, April 22 2024 15:40:08 
DPDK git baseline: Repo:dpdk
  Branch: master
  CommitID:98b4ecb4e4d73e93fdfa53f552b48d71104b445f

139621-139624 --> testing pass

Test environment and result as below:

+---------------------+--------------------+----------------------+-------------------+
|     Environment     | dpdk_meson_compile | dpdk_mingw64_compile | dpdk_msvc_compile |
+=====================+====================+======================+===================+
| FreeBSD 13.2        | PASS               | SKIPPED              | SKIPPED           |
+---------------------+--------------------+----------------------+-------------------+
| Windows Server 2019 | PASS               | PASS                 | SKIPPED           |
+---------------------+--------------------+----------------------+-------------------+
| Windows Server 2022 | PASS               | PASS                 | PASS              |
+---------------------+--------------------+----------------------+-------------------+
| CentOS Stream 8     | PASS               | SKIPPED              | SKIPPED           |
+---------------------+--------------------+----------------------+-------------------+
| Debian Bullseye     | PASS               | SKIPPED              | SKIPPED           |
+---------------------+--------------------+----------------------+-------------------+
| Fedora 38           | PASS               | SKIPPED              | SKIPPED           |
+---------------------+--------------------+----------------------+-------------------+
| RHEL8               | PASS               | SKIPPED              | SKIPPED           |
+---------------------+--------------------+----------------------+-------------------+
| Debian 12           | PASS               | SKIPPED              | SKIPPED           |
+---------------------+--------------------+----------------------+-------------------+
| Fedora 37           | PASS               | SKIPPED              | SKIPPED           |
+---------------------+--------------------+----------------------+-------------------+
| CentOS Stream 9     | PASS               | SKIPPED              | SKIPPED           |
+---------------------+--------------------+----------------------+-------------------+
| Ubuntu 20.04        | PASS               | SKIPPED              | SKIPPED           |
+---------------------+--------------------+----------------------+-------------------+


FreeBSD 13.2
	Kernel: 13.2
	Compiler: clang 14.0.5

Windows Server 2019
	Kernel: 10.0.17763
	Compiler: clang 14.0 and gcc 8.1.0 (MinGW)

Windows Server 2022
	Kernel: 10.0.20348.2031
	Compiler: clang 15.0.7, gcc 8.1.0 (MinGW), and MSVC VS 17.9

CentOS Stream 8
	Kernel: 5.4.0-167-generic
	Compiler: gcc 8.5.0 20210514

Debian Bullseye
	Kernel: 5.4.0-167-generic
	Compiler: gcc 10.2.1-6

Fedora 38
	Kernel: Depends on container host
	Compiler: clang 16.0.6

RHEL8
	Kernel: 5.4.0-167-generic
	Compiler: gcc 8.5.0 20210514 (Red Hat 8.5.0-20)

Debian 12
	Kernel: Container Host Kernel
	Compiler: gcc 10.2.1

Fedora 37
	Kernel: Depends on container host system
	Compiler: gcc 12.3.1

CentOS Stream 9
	Kernel: 5.4.0-167-generic
	Compiler: gcc 11.4.1 20230605

Ubuntu 20.04
	Kernel: 5.4.0-167-generic
	Compiler: gcc 9.4.0-1ubuntu1~20.04.1

To view detailed results, visit:
https://lab.dpdk.org/results/dashboard/patchsets/29839/

UNH-IOL DPDK Community Lab

To manage your email subscriptions, visit: 
https://lab.dpdk.org/results/dashboard/preferences/subscriptions/