From mboxrd@z Thu Jan  1 00:00:00 1970
Return-Path: <test-report-bounces@dpdk.org>
Received: from mails.dpdk.org (mails.dpdk.org [217.70.189.124])
	by inbox.dpdk.org (Postfix) with ESMTP id 73C2C43EE0
	for <public@inbox.dpdk.org>; Mon, 22 Apr 2024 22:49:31 +0200 (CEST)
Received: from mails.dpdk.org (localhost [127.0.0.1])
	by mails.dpdk.org (Postfix) with ESMTP id 6EE394028B;
	Mon, 22 Apr 2024 22:49:31 +0200 (CEST)
Received: from mail-qk1-f228.google.com (mail-qk1-f228.google.com
 [209.85.222.228])
 by mails.dpdk.org (Postfix) with ESMTP id 7F32940268
 for <test-report@dpdk.org>; Mon, 22 Apr 2024 22:49:29 +0200 (CEST)
Received: by mail-qk1-f228.google.com with SMTP id
 af79cd13be357-79068f4da67so196505485a.0
 for <test-report@dpdk.org>; Mon, 22 Apr 2024 13:49:29 -0700 (PDT)
DKIM-Signature: v=1; a=rsa-sha256; c=relaxed/relaxed;
 d=iol.unh.edu; s=unh-iol; t=1713818969; x=1714423769; darn=dpdk.org;
 h=references:in-reply-to:cc:to:from:subject:message-id:date:from:to
 :cc:subject:date:message-id:reply-to;
 bh=09MZwG0NtVn/XbnePaM251Li0/KV7sFn9wSj47pDsvI=;
 b=WdJPywz/9p+nygGKwWosY4//FSGUgCWImuzxtujOUVXUwpuRaTw9da2CGq1hj2o/Nu
 LJ4cNNCQygFnldSRUFfdJC84O2eK4ahstoFmkoqoyfZIuHWdpUYjeE71fM4br6BLH7Op
 PZYhBJ+dj6ZvF0uQ+bYCmLZHeZIYuh5rj/GyA=
X-Google-DKIM-Signature: v=1; a=rsa-sha256; c=relaxed/relaxed;
 d=1e100.net; s=20230601; t=1713818969; x=1714423769;
 h=references:in-reply-to:cc:to:from:subject:message-id:date
 :x-gm-message-state:from:to:cc:subject:date:message-id:reply-to;
 bh=09MZwG0NtVn/XbnePaM251Li0/KV7sFn9wSj47pDsvI=;
 b=Wx1/OpPxpcNoCI4ZhS9Am9gXt68p8snlDKkHtUBwucw8LrgtJq2kE4QG1rg/tC1Kns
 UImfUk2epSJBa5gVJVgam8V9VTKUyVUYXcPR5sALklw3PcU9gpHAVOsCofXfYUj5Fx4t
 vNdnONiosWpFOjaNftYT6+ofMR1leJwsF65DEYGB9bsC6VKYieVN9boDKSl9MePRip2C
 goxpDa1P/goSUcYt70u7QsBgcm6okzoc9hr10fVKQsbgqLMsQMyn9MRMuXq4ChhvaeLF
 LGVB0KcvQG6oDX9SQs7dmjXSaN7G4VmHTUgXceZfTLIP+Lc6G2rVV+Jv+AWra+QXBc+C
 +xKA==
X-Gm-Message-State: AOJu0Yx5pDgvXpfdZV+IToARv6IQZbR0BjYM1MjjFIvMfoy9BxbXrAQG
 cnfgJNgl60TCraQ9k7McbNTgovKaQ9InZfAUwjlHOPl3eDB00w7uSKOEXFlL9QBg2Fd4cM0KlbN
 fW90SrwRdsfreOs7nM+5YcDda3IhnX4qNpOyxPHrZ
X-Google-Smtp-Source: AGHT+IEeCaGnn7TPTrG8sADTA9Yo+gOvks/vG/PUD9x4zNQOPNufStbxjTWxhKLSmjcjrJmThj2B5iBDoTp9
X-Received: by 2002:a05:620a:8219:b0:78d:56ed:1b63 with SMTP id
 ow25-20020a05620a821900b0078d56ed1b63mr11893557qkn.52.1713818968852; 
 Mon, 22 Apr 2024 13:49:28 -0700 (PDT)
Received: from postal.iol.unh.edu (postal.iol.unh.edu. [132.177.123.84])
 by smtp-relay.gmail.com with ESMTPS id
 bq38-20020a05620a46a600b007907961f706sm147598qkb.0.2024.04.22.13.49.28
 (version=TLS1_2 cipher=ECDHE-ECDSA-AES128-GCM-SHA256 bits=128/128);
 Mon, 22 Apr 2024 13:49:28 -0700 (PDT)
X-Relaying-Domain: iol.unh.edu
Date: Mon, 22 Apr 2024 13:49:28 -0700 (PDT)
Message-ID: <6626cd58.050a0220.caee9.62afSMTPIN_ADDED_MISSING@mx.google.com>
Received: from [172.21.0.6] (unknown [172.18.0.240])
 by postal.iol.unh.edu (Postfix) with ESMTP id 6C8BE605C200;
 Mon, 22 Apr 2024 16:49:28 -0400 (EDT)
Subject: |SUCCESS| pw139621-139624 [PATCH] [v1,5/5] baseband/acc: cosmetic lo
From: dpdklab@iol.unh.edu
To: Test Report <test-report@dpdk.org>
Cc: dpdk-test-reports@iol.unh.edu
In-Reply-To: <20240422154008.119800-6-hernan.vargas@intel.com>
References: <20240422154008.119800-6-hernan.vargas@intel.com>
Content-Type: text/plain
X-BeenThere: test-report@dpdk.org
X-Mailman-Version: 2.1.29
Precedence: list
List-Id: automatic DPDK test reports <test-report.dpdk.org>
List-Unsubscribe: <https://mails.dpdk.org/options/test-report>,
 <mailto:test-report-request@dpdk.org?subject=unsubscribe>
List-Archive: <http://mails.dpdk.org/archives/test-report/>
List-Post: <mailto:test-report@dpdk.org>
List-Help: <mailto:test-report-request@dpdk.org?subject=help>
List-Subscribe: <https://mails.dpdk.org/listinfo/test-report>,
 <mailto:test-report-request@dpdk.org?subject=subscribe>
Errors-To: test-report-bounces@dpdk.org

Test-Label: iol-abi-testing
Test-Status: SUCCESS
http://dpdk.org/patch/139624

_Testing PASS_

Submitter: Hernan Vargas <hernan.vargas@intel.com>
Date: Monday, April 22 2024 15:40:08 
DPDK git baseline: Repo:dpdk
  Branch: master
  CommitID:98b4ecb4e4d73e93fdfa53f552b48d71104b445f

139621-139624 --> testing pass

Test environment and result as below:

+------------------+----------+
|   Environment    | abi_test |
+==================+==========+
| Debian Bullseye  | PASS     |
+------------------+----------+
| Fedora 37        | PASS     |
+------------------+----------+
| Fedora 38        | PASS     |
+------------------+----------+
| CentOS Stream 9  | PASS     |
+------------------+----------+
| Debian 12        | PASS     |
+------------------+----------+
| Fedora 39        | PASS     |
+------------------+----------+
| Ubuntu 22.04     | PASS     |
+------------------+----------+
| CentOS Stream 8  | PASS     |
+------------------+----------+
| openSUSE Leap 15 | PASS     |
+------------------+----------+
| RHEL8            | PASS     |
+------------------+----------+


Debian Bullseye
	Kernel: 5.4.0-167-generic
	Compiler: gcc 10.2.1-6

Fedora 37
	Kernel: Depends on container host system
	Compiler: gcc 12.3.1

Fedora 38
	Kernel: Depends on container host
	Compiler: gcc 13.2.1

CentOS Stream 9
	Kernel: 5.4.0-167-generic
	Compiler: gcc 11.4.1 20230605

Debian 12
	Kernel: Container Host Kernel
	Compiler: gcc 10.2.1

Fedora 39
	Kernel: Depends on container host
	Compiler: clang 17.0.6

Ubuntu 22.04
	Kernel: 5.4.0-167-generic
	Compiler: gcc 11.4.0

CentOS Stream 8
	Kernel: 5.4.0-167-generic
	Compiler: gcc 8.5.0 20210514

openSUSE Leap 15
	Kernel: 5.4.0-167-generic
	Compiler: gcc 7.5.0

RHEL8
	Kernel: 5.4.0-167-generic
	Compiler: gcc 8.5.0 20210514 (Red Hat 8.5.0-20)

To view detailed results, visit:
https://lab.dpdk.org/results/dashboard/patchsets/29839/

UNH-IOL DPDK Community Lab

To manage your email subscriptions, visit: 
https://lab.dpdk.org/results/dashboard/preferences/subscriptions/