From mboxrd@z Thu Jan  1 00:00:00 1970
Return-Path: <test-report-bounces@dpdk.org>
Received: from mails.dpdk.org (mails.dpdk.org [217.70.189.124])
	by inbox.dpdk.org (Postfix) with ESMTP id B78A043EE2
	for <public@inbox.dpdk.org>; Mon, 22 Apr 2024 23:04:56 +0200 (CEST)
Received: from mails.dpdk.org (localhost [127.0.0.1])
	by mails.dpdk.org (Postfix) with ESMTP id B362B4028B;
	Mon, 22 Apr 2024 23:04:56 +0200 (CEST)
Received: from mail-io1-f100.google.com (mail-io1-f100.google.com
 [209.85.166.100])
 by mails.dpdk.org (Postfix) with ESMTP id 2EA8740295
 for <test-report@dpdk.org>; Mon, 22 Apr 2024 23:04:53 +0200 (CEST)
Received: by mail-io1-f100.google.com with SMTP id
 ca18e2360f4ac-7da68b469ffso218807539f.0
 for <test-report@dpdk.org>; Mon, 22 Apr 2024 14:04:53 -0700 (PDT)
DKIM-Signature: v=1; a=rsa-sha256; c=relaxed/relaxed;
 d=iol.unh.edu; s=unh-iol; t=1713819892; x=1714424692; darn=dpdk.org;
 h=references:in-reply-to:cc:to:from:subject:message-id:date:from:to
 :cc:subject:date:message-id:reply-to;
 bh=w/QMYQukSYVwA2cylb+NfqnK23wf0haSjfa/+soSIno=;
 b=QBzBL95AeVS4/z7For0WANQN8fVKrebC6sNPHIGBcYyp+EW4aa0lBYZZGEet2/tdX4
 Xp+e6V6X8EyF38W81JLzqZHcgITDAvS9siYzB0dkzIch3WseNnVYurmYr88dwn8MXx3p
 h9cYKCBjVOa/3DyM6GJuUTT+V62qKIkZwY05c=
X-Google-DKIM-Signature: v=1; a=rsa-sha256; c=relaxed/relaxed;
 d=1e100.net; s=20230601; t=1713819892; x=1714424692;
 h=references:in-reply-to:cc:to:from:subject:message-id:date
 :x-gm-message-state:from:to:cc:subject:date:message-id:reply-to;
 bh=w/QMYQukSYVwA2cylb+NfqnK23wf0haSjfa/+soSIno=;
 b=gYu70ljLPxdzvYHUb6QISp72ml2SHEiP4E9ezb7qhnHawZsbcPNjSs1AeurbKA3Sgu
 Y4fSVVD58evN9wnQLFUMciDq+rt5VyiAOJ+m1rEPyDTKMQqv93AnsSRuKlCjqvh/gkuQ
 n+DXdnRrIrbmVU8LpeGeaWMDvNR6/1MZ0Dkebq5rJuS8yJp6Cqjb0EVtQqjtoKfV0sFt
 tIgYInzXFwfUmHe7Pi5ExcyqvMgPamLI6+uTZ2bIfJpKQC6JJOXoK1LTvVnD1iYzLf65
 54268lxX44Rz/u0b9NQQp0TVQgrMUd7PDz3rA/UzBN1eo6zxDdx8yq6He4ykqWZqmoys
 AdYQ==
X-Gm-Message-State: AOJu0Yykkd+1pJoEt2RebT1I8I1cOP+W2OnONvITr2UXP6y5HS7r11s4
 wnehBq66rLq9Np+Un+OqueIu8UmX2b/XAa4DGmHzLh2vY0GUbRXgSjLZcvEvUFkcpdyghVO+Gfd
 sVmo52pdEI2qIVWy9CS4vsetMK54xVtvG+rRzh7dqoHMUDJUCu7ePq4pI
X-Google-Smtp-Source: AGHT+IGu1OZyfNaZUCB59B62ciiv4kQ9BBAPqXWN5ej2pIZo+92TrKuC7t55iBUJp0u40p3gzVolYDKVAPec
X-Received: by 2002:a5e:9813:0:b0:7d9:4309:8ac5 with SMTP id
 s19-20020a5e9813000000b007d943098ac5mr12754126ioj.3.1713819892608; 
 Mon, 22 Apr 2024 14:04:52 -0700 (PDT)
Received: from postal.iol.unh.edu (postal.iol.unh.edu.
 [2606:4100:3880:1234::84]) by smtp-relay.gmail.com with ESMTPS id
 b5-20020a02c985000000b00482b0dbb0d7sm722334jap.31.2024.04.22.14.04.52
 (version=TLS1_2 cipher=ECDHE-ECDSA-AES128-GCM-SHA256 bits=128/128);
 Mon, 22 Apr 2024 14:04:52 -0700 (PDT)
X-Relaying-Domain: iol.unh.edu
Date: Mon, 22 Apr 2024 14:04:52 -0700 (PDT)
Message-ID: <6626d0f4.020a0220.6f9a8.cbedSMTPIN_ADDED_MISSING@mx.google.com>
Received: from [172.21.0.6] (unknown [172.18.0.240])
 by postal.iol.unh.edu (Postfix) with ESMTP id 19FA6605C200;
 Mon, 22 Apr 2024 17:04:52 -0400 (EDT)
Subject: |SUCCESS| pw139621-139624 [PATCH] [v1,5/5] baseband/acc: cosmetic lo
From: dpdklab@iol.unh.edu
To: Test Report <test-report@dpdk.org>
Cc: dpdk-test-reports@iol.unh.edu
In-Reply-To: <20240422154008.119800-6-hernan.vargas@intel.com>
References: <20240422154008.119800-6-hernan.vargas@intel.com>
Content-Type: text/plain
X-BeenThere: test-report@dpdk.org
X-Mailman-Version: 2.1.29
Precedence: list
List-Id: automatic DPDK test reports <test-report.dpdk.org>
List-Unsubscribe: <https://mails.dpdk.org/options/test-report>,
 <mailto:test-report-request@dpdk.org?subject=unsubscribe>
List-Archive: <http://mails.dpdk.org/archives/test-report/>
List-Post: <mailto:test-report@dpdk.org>
List-Help: <mailto:test-report-request@dpdk.org?subject=help>
List-Subscribe: <https://mails.dpdk.org/listinfo/test-report>,
 <mailto:test-report-request@dpdk.org?subject=subscribe>
Errors-To: test-report-bounces@dpdk.org

Test-Label: iol-unit-amd64-testing
Test-Status: SUCCESS
http://dpdk.org/patch/139624

_Testing PASS_

Submitter: Hernan Vargas <hernan.vargas@intel.com>
Date: Monday, April 22 2024 15:40:08 
DPDK git baseline: Repo:dpdk
  Branch: master
  CommitID:98b4ecb4e4d73e93fdfa53f552b48d71104b445f

139621-139624 --> testing pass

Test environment and result as below:

+---------------------+----------------+
|     Environment     | dpdk_unit_test |
+=====================+================+
| Windows Server 2019 | PASS           |
+---------------------+----------------+
| CentOS Stream 8     | PASS           |
+---------------------+----------------+
| Windows Server 2022 | PASS           |
+---------------------+----------------+
| Debian Bullseye     | PASS           |
+---------------------+----------------+
| CentOS Stream 9     | PASS           |
+---------------------+----------------+
| Fedora 37           | PASS           |
+---------------------+----------------+
| Debian 12           | PASS           |
+---------------------+----------------+
| Fedora 38           | PASS           |
+---------------------+----------------+
| Fedora 39           | PASS           |
+---------------------+----------------+
| openSUSE Leap 15    | PASS           |
+---------------------+----------------+
| Ubuntu 20.04        | PASS           |
+---------------------+----------------+
| RHEL8               | PASS           |
+---------------------+----------------+


Windows Server 2019
	Kernel: 10.0.17763
	Compiler: clang 14.0 and gcc 8.1.0 (MinGW)

CentOS Stream 8
	Kernel: 5.4.0-167-generic
	Compiler: gcc 8.5.0 20210514

Windows Server 2022
	Kernel: 10.0.20348.2031
	Compiler: clang 15.0.7, gcc 8.1.0 (MinGW), and MSVC VS 17.9

Debian Bullseye
	Kernel: 5.4.0-167-generic
	Compiler: gcc 10.2.1-6

CentOS Stream 9
	Kernel: 5.4.0-167-generic
	Compiler: gcc 11.4.1 20230605

Fedora 37
	Kernel: Depends on container host system
	Compiler: gcc 12.3.1

Debian 12
	Kernel: Container Host Kernel
	Compiler: gcc 10.2.1

Fedora 38
	Kernel: Depends on container host
	Compiler: clang 16.0.6

Fedora 39
	Kernel: Depends on container host
	Compiler: gcc 13.2.1

openSUSE Leap 15
	Kernel: 5.4.0-167-generic
	Compiler: gcc 7.5.0

Ubuntu 20.04
	Kernel: 5.4.0-167-generic
	Compiler: gcc 9.4.0-1ubuntu1~20.04.1

RHEL8
	Kernel: 5.4.0-167-generic
	Compiler: gcc 8.5.0 20210514 (Red Hat 8.5.0-20)

To view detailed results, visit:
https://lab.dpdk.org/results/dashboard/patchsets/29839/

UNH-IOL DPDK Community Lab

To manage your email subscriptions, visit: 
https://lab.dpdk.org/results/dashboard/preferences/subscriptions/