From mboxrd@z Thu Jan  1 00:00:00 1970
Return-Path: <test-report-bounces@dpdk.org>
Received: from mails.dpdk.org (mails.dpdk.org [217.70.189.124])
	by inbox.dpdk.org (Postfix) with ESMTP id 7060343EE0
	for <public@inbox.dpdk.org>; Mon, 22 Apr 2024 23:43:20 +0200 (CEST)
Received: from mails.dpdk.org (localhost [127.0.0.1])
	by mails.dpdk.org (Postfix) with ESMTP id 6B1594028B;
	Mon, 22 Apr 2024 23:43:20 +0200 (CEST)
Received: from mail-yw1-f226.google.com (mail-yw1-f226.google.com
 [209.85.128.226])
 by mails.dpdk.org (Postfix) with ESMTP id 2A3C940268
 for <test-report@dpdk.org>; Mon, 22 Apr 2024 23:43:19 +0200 (CEST)
Received: by mail-yw1-f226.google.com with SMTP id
 00721157ae682-618769020bcso52926587b3.3
 for <test-report@dpdk.org>; Mon, 22 Apr 2024 14:43:19 -0700 (PDT)
DKIM-Signature: v=1; a=rsa-sha256; c=relaxed/relaxed;
 d=iol.unh.edu; s=unh-iol; t=1713822198; x=1714426998; darn=dpdk.org;
 h=references:in-reply-to:cc:to:from:subject:message-id:date:from:to
 :cc:subject:date:message-id:reply-to;
 bh=04JfDX1YPUU4S6qE2ae/0QOpu8iCDnYSArev6LH7EcI=;
 b=VCzXqcOBRCL8jdeX4vSD54+v9f4dg2LxOzVGzw2oHK4/aKsVb0luIm3mgxV2whYYZ2
 SLFq1q/QthZ2SZsDQ9mfVQXn/ESFwUhuWbsUQm1CO9z0mVuw6jQaIMbJjRuwKZ+L1kpM
 UG2aRvPuVDlu7PLEDw6ZdnnN/zQZi/raw5nv8=
X-Google-DKIM-Signature: v=1; a=rsa-sha256; c=relaxed/relaxed;
 d=1e100.net; s=20230601; t=1713822198; x=1714426998;
 h=references:in-reply-to:cc:to:from:subject:message-id:date
 :x-gm-message-state:from:to:cc:subject:date:message-id:reply-to;
 bh=04JfDX1YPUU4S6qE2ae/0QOpu8iCDnYSArev6LH7EcI=;
 b=XVzfkrXWkCDKNCThznFpC6dssuzddViKSaSEDCOqm3FIhaldvWdX3o4pyROSnp8hq1
 p2wd9HFXrgHB4M4t5LI6edqJSVfAxHrhodV4JnXAykFuyIHVIVGfg7IivoEREqmsfVi8
 OaIiDPcGGD71SrZTn7Kn/zkzwWutkE4GXNDubVOCD+8CA5J95stklBUUiQmFZ4JhKted
 OK2jjcYgiGsPwkJhZ+ky3V65bIFCNAJasl7xvEKOuxCmd4GMqO0T5RuybTECBr6FmHtI
 8JN0gtZqiMp3O9ymrYm7VtTTCuGE7/wdvszuq2jlh1nI/fRKSOT84d7dsnvRoaYLQZ//
 FAsQ==
X-Gm-Message-State: AOJu0Yw3xzXjOdICZDS/Ubd4sASmKI9aVsaArYnhevazuZO8Ilroy1Ly
 aWrHy+ustB8xsg2DuaNVghOhru1eLiD5q7zeigaesE8iU4PJZ+/ZSsqBG/4uU48+pIC63oEUtBc
 mOOPO4QOCku67erU6gLqu5FcPOhuqxT0ALupGKGUbyie8a38pznixAKPW
X-Google-Smtp-Source: AGHT+IHcF0GsRApkKgRKnuZT9dPi5d6OTfmEaywnEliilj+sZFy5Bfd8PsG6SauQNGlhMNvgv1M5soPJZCoM
X-Received: by 2002:a05:690c:7246:b0:61b:33f7:225a with SMTP id
 jm6-20020a05690c724600b0061b33f7225amr11940209ywb.42.1713822198661; 
 Mon, 22 Apr 2024 14:43:18 -0700 (PDT)
Received: from postal.iol.unh.edu (postal.iol.unh.edu.
 [2606:4100:3880:1234::84]) by smtp-relay.gmail.com with ESMTPS id
 a194-20020a0dd8cb000000b0061aae25890csm732173ywe.2.2024.04.22.14.43.18
 (version=TLS1_2 cipher=ECDHE-ECDSA-AES128-GCM-SHA256 bits=128/128);
 Mon, 22 Apr 2024 14:43:18 -0700 (PDT)
X-Relaying-Domain: iol.unh.edu
Date: Mon, 22 Apr 2024 14:43:18 -0700 (PDT)
Message-ID: <6626d9f6.0d0a0220.1c75a.a921SMTPIN_ADDED_MISSING@mx.google.com>
Received: from [172.21.0.6] (unknown [172.18.0.240])
 by postal.iol.unh.edu (Postfix) with ESMTP id 4FC41605C200;
 Mon, 22 Apr 2024 17:43:18 -0400 (EDT)
Subject: |SUCCESS| pw139621-139624 [PATCH] [v1,5/5] baseband/acc: cosmetic lo
From: dpdklab@iol.unh.edu
To: Test Report <test-report@dpdk.org>
Cc: dpdk-test-reports@iol.unh.edu
In-Reply-To: <20240422154008.119800-6-hernan.vargas@intel.com>
References: <20240422154008.119800-6-hernan.vargas@intel.com>
Content-Type: text/plain
X-BeenThere: test-report@dpdk.org
X-Mailman-Version: 2.1.29
Precedence: list
List-Id: automatic DPDK test reports <test-report.dpdk.org>
List-Unsubscribe: <https://mails.dpdk.org/options/test-report>,
 <mailto:test-report-request@dpdk.org?subject=unsubscribe>
List-Archive: <http://mails.dpdk.org/archives/test-report/>
List-Post: <mailto:test-report@dpdk.org>
List-Help: <mailto:test-report-request@dpdk.org?subject=help>
List-Subscribe: <https://mails.dpdk.org/listinfo/test-report>,
 <mailto:test-report-request@dpdk.org?subject=subscribe>
Errors-To: test-report-bounces@dpdk.org

Test-Label: iol-unit-amd64-testing
Test-Status: SUCCESS
http://dpdk.org/patch/139624

_Testing PASS_

Submitter: Hernan Vargas <hernan.vargas@intel.com>
Date: Monday, April 22 2024 15:40:08 
DPDK git baseline: Repo:dpdk
  Branch: master
  CommitID:98b4ecb4e4d73e93fdfa53f552b48d71104b445f

139621-139624 --> testing pass

Test environment and result as below:

+---------------------+----------------+
|     Environment     | dpdk_unit_test |
+=====================+================+
| Windows Server 2019 | PASS           |
+---------------------+----------------+
| CentOS Stream 8     | PASS           |
+---------------------+----------------+
| Windows Server 2022 | PASS           |
+---------------------+----------------+
| Debian Bullseye     | PASS           |
+---------------------+----------------+
| CentOS Stream 9     | PASS           |
+---------------------+----------------+
| Fedora 37           | PASS           |
+---------------------+----------------+
| Debian 12           | PASS           |
+---------------------+----------------+
| Fedora 38           | PASS           |
+---------------------+----------------+
| Fedora 39           | PASS           |
+---------------------+----------------+
| openSUSE Leap 15    | PASS           |
+---------------------+----------------+
| Ubuntu 20.04        | PASS           |
+---------------------+----------------+
| RHEL8               | PASS           |
+---------------------+----------------+
| Ubuntu 22.04        | PASS           |
+---------------------+----------------+


Windows Server 2019
	Kernel: 10.0.17763
	Compiler: clang 14.0 and gcc 8.1.0 (MinGW)

CentOS Stream 8
	Kernel: 5.4.0-167-generic
	Compiler: gcc 8.5.0 20210514

Windows Server 2022
	Kernel: 10.0.20348.2031
	Compiler: clang 15.0.7, gcc 8.1.0 (MinGW), and MSVC VS 17.9

Debian Bullseye
	Kernel: 5.4.0-167-generic
	Compiler: gcc 10.2.1-6

CentOS Stream 9
	Kernel: 5.4.0-167-generic
	Compiler: gcc 11.4.1 20230605

Fedora 37
	Kernel: Depends on container host system
	Compiler: gcc 12.3.1

Debian 12
	Kernel: Container Host Kernel
	Compiler: gcc 10.2.1

Fedora 38
	Kernel: Depends on container host
	Compiler: clang 16.0.6

Fedora 39
	Kernel: Depends on container host
	Compiler: gcc 13.2.1

openSUSE Leap 15
	Kernel: 5.4.0-167-generic
	Compiler: gcc 7.5.0

Ubuntu 20.04
	Kernel: 5.4.0-167-generic
	Compiler: gcc 9.4.0-1ubuntu1~20.04.1

RHEL8
	Kernel: 5.4.0-167-generic
	Compiler: gcc 8.5.0 20210514 (Red Hat 8.5.0-20)

Ubuntu 22.04
	Kernel: 5.4.0-167-generic
	Compiler: gcc 11.4.0

To view detailed results, visit:
https://lab.dpdk.org/results/dashboard/patchsets/29839/

UNH-IOL DPDK Community Lab

To manage your email subscriptions, visit: 
https://lab.dpdk.org/results/dashboard/preferences/subscriptions/