From mboxrd@z Thu Jan  1 00:00:00 1970
Return-Path: <test-report-bounces@dpdk.org>
Received: from mails.dpdk.org (mails.dpdk.org [217.70.189.124])
	by inbox.dpdk.org (Postfix) with ESMTP id 906EE43EE0
	for <public@inbox.dpdk.org>; Mon, 22 Apr 2024 23:55:47 +0200 (CEST)
Received: from mails.dpdk.org (localhost [127.0.0.1])
	by mails.dpdk.org (Postfix) with ESMTP id 8BC084028B;
	Mon, 22 Apr 2024 23:55:47 +0200 (CEST)
Received: from mail-io1-f99.google.com (mail-io1-f99.google.com
 [209.85.166.99]) by mails.dpdk.org (Postfix) with ESMTP id CF3CB40268
 for <test-report@dpdk.org>; Mon, 22 Apr 2024 23:55:45 +0200 (CEST)
Received: by mail-io1-f99.google.com with SMTP id
 ca18e2360f4ac-7dbc33bdf08so42382139f.1
 for <test-report@dpdk.org>; Mon, 22 Apr 2024 14:55:45 -0700 (PDT)
DKIM-Signature: v=1; a=rsa-sha256; c=relaxed/relaxed;
 d=iol.unh.edu; s=unh-iol; t=1713822945; x=1714427745; darn=dpdk.org;
 h=references:in-reply-to:cc:to:from:subject:message-id:date:from:to
 :cc:subject:date:message-id:reply-to;
 bh=eg/vH+U9YHORDlgQ9dE0tV4vPjOXCaeEYHQ/S3qhg/M=;
 b=bfUH/bgJU17x+io1/VQz02yWVH45+tg7YczbrrFrGShMv93OWV5Q1acjAZtp2Fw+Yt
 xp4EMeH5J1ss3oHSazeraXh/yfdH9ocSxnLljTSfKQy1Fx9cDhgsC8RRykyXDKSu+QSO
 vCWfF5FdQ9+YZ3dlHm68SoPGS8Yb/JiBmVb5Y=
X-Google-DKIM-Signature: v=1; a=rsa-sha256; c=relaxed/relaxed;
 d=1e100.net; s=20230601; t=1713822945; x=1714427745;
 h=references:in-reply-to:cc:to:from:subject:message-id:date
 :x-gm-message-state:from:to:cc:subject:date:message-id:reply-to;
 bh=eg/vH+U9YHORDlgQ9dE0tV4vPjOXCaeEYHQ/S3qhg/M=;
 b=j+n6PtqW0Fzmj9AhBfe5eY43fbTOnOJJZ3ktySE+MjyOHE4IKac9bvo2UKuqwHc804
 9EN2c0I6Hc21s4NmMCyE3mmxHCTFpgFUk5whG7RL2ncF3X5SqpfvIQXa1xTW1WD0MZFJ
 OECpHUbXYJANbLNxF/qA6JZQuRXndZPC7c2zWcZki5StrobDbWgD4KDkZirntWVLdM0I
 vKtW/5xgp1lMLxuOV1VakH2b0IUtiEBRbrLZrSyR2slNN36uaD3bl1aKr4PYT8NUrSKl
 i5VFeEoJeMCoibDe0ztHxweW9OW2o8GGBIKeFnigzup7FT92x98lmNCuLsmnNY1OEcXY
 BFjA==
X-Gm-Message-State: AOJu0Yy/3sT3/FgMmYE2zUX60O3p2/bHFiKy25MTuFcIWRdmUHwHX5c4
 KfHPAEphzwoU/rdIB+HRYv29/rEhcnuDmhZ5z6G6tA9m9ExDyJilRUlgilvfxpqvSItRU8TDlfN
 J+exEwqJQ26NgyF6eK36cdCkqzc3CHe6od+kZ4B5EO2kJk6YqoMNm4EWl
X-Google-Smtp-Source: AGHT+IF7RtWA/Y9nisQEoOjBLa4ehUIq2w+oZfxUBJwt1JK443ohxcXRGWTn04s3qxT9bsctCYjq72JxKlos
X-Received: by 2002:a6b:dc18:0:b0:7d6:6405:fe16 with SMTP id
 s24-20020a6bdc18000000b007d66405fe16mr13525107ioc.8.1713822945242; 
 Mon, 22 Apr 2024 14:55:45 -0700 (PDT)
Received: from postal.iol.unh.edu (postal.iol.unh.edu.
 [2606:4100:3880:1234::84]) by smtp-relay.gmail.com with ESMTPS id
 r5-20020a056638300500b00482aff108f6sm672001jak.55.2024.04.22.14.55.45
 (version=TLS1_2 cipher=ECDHE-ECDSA-AES128-GCM-SHA256 bits=128/128);
 Mon, 22 Apr 2024 14:55:45 -0700 (PDT)
X-Relaying-Domain: iol.unh.edu
Date: Mon, 22 Apr 2024 14:55:45 -0700 (PDT)
Message-ID: <6626dce1.050a0220.4c5d7.723cSMTPIN_ADDED_MISSING@mx.google.com>
Received: from [172.21.0.6] (unknown [172.18.0.240])
 by postal.iol.unh.edu (Postfix) with ESMTP id C2FF4605C200;
 Mon, 22 Apr 2024 17:55:44 -0400 (EDT)
Subject: |SUCCESS| pw139609-139611 [PATCH] [3/3] compress/uadk: support burst
From: dpdklab@iol.unh.edu
To: Test Report <test-report@dpdk.org>
Cc: dpdk-test-reports@iol.unh.edu
In-Reply-To: <20240422143102.251-4-zhangfei.gao@linaro.org>
References: <20240422143102.251-4-zhangfei.gao@linaro.org>
Content-Type: text/plain
X-BeenThere: test-report@dpdk.org
X-Mailman-Version: 2.1.29
Precedence: list
List-Id: automatic DPDK test reports <test-report.dpdk.org>
List-Unsubscribe: <https://mails.dpdk.org/options/test-report>,
 <mailto:test-report-request@dpdk.org?subject=unsubscribe>
List-Archive: <http://mails.dpdk.org/archives/test-report/>
List-Post: <mailto:test-report@dpdk.org>
List-Help: <mailto:test-report-request@dpdk.org?subject=help>
List-Subscribe: <https://mails.dpdk.org/listinfo/test-report>,
 <mailto:test-report-request@dpdk.org?subject=subscribe>
Errors-To: test-report-bounces@dpdk.org

Test-Label: iol-compile-amd64-testing
Test-Status: SUCCESS
http://dpdk.org/patch/139611

_Testing PASS_

Submitter: Zhangfei Gao <zhangfei.gao@linaro.org>
Date: Monday, April 22 2024 14:31:02 
DPDK git baseline: Repo:dpdk
  Branch: master
  CommitID:7e06c0de1952d3109a5b0c4779d7e7d8059c9d78

139609-139611 --> testing pass

Test environment and result as below:

+---------------------+--------------------+----------------------+-------------------+
|     Environment     | dpdk_meson_compile | dpdk_mingw64_compile | dpdk_msvc_compile |
+=====================+====================+======================+===================+
| FreeBSD 13.2        | PASS               | SKIPPED              | SKIPPED           |
+---------------------+--------------------+----------------------+-------------------+
| Windows Server 2019 | PASS               | PASS                 | SKIPPED           |
+---------------------+--------------------+----------------------+-------------------+
| Windows Server 2022 | PASS               | PASS                 | PASS              |
+---------------------+--------------------+----------------------+-------------------+


FreeBSD 13.2
	Kernel: 13.2
	Compiler: clang 14.0.5

Windows Server 2019
	Kernel: 10.0.17763
	Compiler: clang 14.0 and gcc 8.1.0 (MinGW)

Windows Server 2022
	Kernel: 10.0.20348.2031
	Compiler: clang 15.0.7, gcc 8.1.0 (MinGW), and MSVC VS 17.9

To view detailed results, visit:
https://lab.dpdk.org/results/dashboard/patchsets/29837/

UNH-IOL DPDK Community Lab

To manage your email subscriptions, visit: 
https://lab.dpdk.org/results/dashboard/preferences/subscriptions/