From mboxrd@z Thu Jan  1 00:00:00 1970
Return-Path: <test-report-bounces@dpdk.org>
Received: from mails.dpdk.org (mails.dpdk.org [217.70.189.124])
	by inbox.dpdk.org (Postfix) with ESMTP id 2507E43EE0
	for <public@inbox.dpdk.org>; Mon, 22 Apr 2024 23:59:01 +0200 (CEST)
Received: from mails.dpdk.org (localhost [127.0.0.1])
	by mails.dpdk.org (Postfix) with ESMTP id 1CE1C4028B;
	Mon, 22 Apr 2024 23:59:01 +0200 (CEST)
Received: from mail-il1-f226.google.com (mail-il1-f226.google.com
 [209.85.166.226])
 by mails.dpdk.org (Postfix) with ESMTP id 1BBFB40268
 for <test-report@dpdk.org>; Mon, 22 Apr 2024 23:59:00 +0200 (CEST)
Received: by mail-il1-f226.google.com with SMTP id
 e9e14a558f8ab-36b04b101b0so19438105ab.1
 for <test-report@dpdk.org>; Mon, 22 Apr 2024 14:59:00 -0700 (PDT)
DKIM-Signature: v=1; a=rsa-sha256; c=relaxed/relaxed;
 d=iol.unh.edu; s=unh-iol; t=1713823139; x=1714427939; darn=dpdk.org;
 h=references:in-reply-to:cc:to:from:subject:message-id:date:from:to
 :cc:subject:date:message-id:reply-to;
 bh=dOW9d8P6nfDKl+R3rTrzfScSbi8JJFNKFfSUA7DhswU=;
 b=Y4v6PkFcD3DRyB/gnbsRgXQ4iIia6rvTIQFzOMPlzMVx5K3OreyHYN7/iwNTrZ9K1G
 zDYw/pgIxIHSucRNaEu3f1hqPcwndbCr1jTs8F5oQlwYI9jqj3xU1hVYJZyW/wdYzThU
 IcrJHx07XnoS0+Ev5G2IEPj0TSfGVEg7fM2lI=
X-Google-DKIM-Signature: v=1; a=rsa-sha256; c=relaxed/relaxed;
 d=1e100.net; s=20230601; t=1713823139; x=1714427939;
 h=references:in-reply-to:cc:to:from:subject:message-id:date
 :x-gm-message-state:from:to:cc:subject:date:message-id:reply-to;
 bh=dOW9d8P6nfDKl+R3rTrzfScSbi8JJFNKFfSUA7DhswU=;
 b=Ej20AnUd5GtmJ08Bw5P6mE0IuOrj9p7NseyQEHESYxt6pJUJm4sAHsYtEliWMBNZWU
 k8icmjd7NhoXpgXtx4ifbqkwCJAdjIdzc5Gx0GdADa5jqEvoiRzarogX6FU42brXO/6c
 A7pL3oSs9/u4OhUZEhCrs4yah0TGPvOFwd7Md9WY+FBYFsDtvSfwaHZKUexMl7UrudzD
 v1CyWNycf4St0HdXHM8r7fGRR1tRWb+qecvrPgFAQY9quxzeGZSYNa0cabnL8qrLcPWt
 WisLX9ItoWHL7chfi24wrdFY4YjeNloJgXrakDtA+Zv53XIJMQvDSKVMTE86KMp/x8dV
 +VfA==
X-Gm-Message-State: AOJu0YwqfliRENtyj79J0IqQwoxfkO9fVAzoRnkiEIp5vvyxCeEfuusq
 o1KVtaztvq6vqGsOttD8pbDksNRc8g8kjFfppyZLIo9tvYgSZ6BUCaTVvZ4E5MYoCmBBChyhbWw
 bd78aN/4IJCKJ4rBgL98M0SCW8bQ5PzsWdNzcWIq1
X-Google-Smtp-Source: AGHT+IGRXPWqTxS3wCUZ6Tvlt2zedVAfhbZBiU5hJP/iVaaePK9Jnqpv69U74+aIoPCEsLwtoiLscDsu7Lpl
X-Received: by 2002:a05:6e02:12cc:b0:36a:356d:50e2 with SMTP id
 i12-20020a056e0212cc00b0036a356d50e2mr16364971ilm.13.1713823139606; 
 Mon, 22 Apr 2024 14:58:59 -0700 (PDT)
Received: from postal.iol.unh.edu (postal.iol.unh.edu. [132.177.123.84])
 by smtp-relay.gmail.com with ESMTPS id
 le12-20020a056638960c00b004856b45765bsm90410jab.27.2024.04.22.14.58.59
 (version=TLS1_2 cipher=ECDHE-ECDSA-AES128-GCM-SHA256 bits=128/128);
 Mon, 22 Apr 2024 14:58:59 -0700 (PDT)
X-Relaying-Domain: iol.unh.edu
Date: Mon, 22 Apr 2024 14:58:59 -0700 (PDT)
Message-ID: <6626dda3.050a0220.64fae.4493SMTPIN_ADDED_MISSING@mx.google.com>
Received: from [172.21.0.6] (unknown [172.18.0.240])
 by postal.iol.unh.edu (Postfix) with ESMTP id 25978605C200;
 Mon, 22 Apr 2024 17:58:59 -0400 (EDT)
Subject: |SUCCESS| pw139609-139611 [PATCH] [3/3] compress/uadk: support burst
From: dpdklab@iol.unh.edu
To: Test Report <test-report@dpdk.org>
Cc: dpdk-test-reports@iol.unh.edu
In-Reply-To: <20240422143102.251-4-zhangfei.gao@linaro.org>
References: <20240422143102.251-4-zhangfei.gao@linaro.org>
Content-Type: text/plain
X-BeenThere: test-report@dpdk.org
X-Mailman-Version: 2.1.29
Precedence: list
List-Id: automatic DPDK test reports <test-report.dpdk.org>
List-Unsubscribe: <https://mails.dpdk.org/options/test-report>,
 <mailto:test-report-request@dpdk.org?subject=unsubscribe>
List-Archive: <http://mails.dpdk.org/archives/test-report/>
List-Post: <mailto:test-report@dpdk.org>
List-Help: <mailto:test-report-request@dpdk.org?subject=help>
List-Subscribe: <https://mails.dpdk.org/listinfo/test-report>,
 <mailto:test-report-request@dpdk.org?subject=subscribe>
Errors-To: test-report-bounces@dpdk.org

Test-Label: iol-compile-arm64-testing
Test-Status: SUCCESS
http://dpdk.org/patch/139611

_Testing PASS_

Submitter: Zhangfei Gao <zhangfei.gao@linaro.org>
Date: Monday, April 22 2024 14:31:02 
DPDK git baseline: Repo:dpdk
  Branch: master
  CommitID:7e06c0de1952d3109a5b0c4779d7e7d8059c9d78

139609-139611 --> testing pass

Test environment and result as below:

+--------------------------+--------------------+
|       Environment        | dpdk_meson_compile |
+==========================+====================+
| Ubuntu 20.04 ARM SVE     | PASS               |
+--------------------------+--------------------+
| Fedora 37 (ARM)          | PASS               |
+--------------------------+--------------------+
| Fedora 38 (ARM)          | PASS               |
+--------------------------+--------------------+
| Fedora 39 (ARM)          | PASS               |
+--------------------------+--------------------+
| Debian 12 with MUSDK     | PASS               |
+--------------------------+--------------------+
| CentOS Stream 9 (ARM)    | PASS               |
+--------------------------+--------------------+
| Debian 11 (Buster) (ARM) | PASS               |
+--------------------------+--------------------+
| Ubuntu 20.04 (ARM)       | PASS               |
+--------------------------+--------------------+
| Debian 12 (arm)          | PASS               |
+--------------------------+--------------------+


Ubuntu 20.04 ARM SVE
	Kernel: 5.4.0-167-generic
	Compiler: gcc (Ubuntu 10.5.0-1ubuntu1~20.04) 10.5.0

Fedora 37 (ARM)
	Kernel: Depends on container host
	Compiler: gcc 12.3.1

Fedora 38 (ARM)
	Kernel: Depends on container host
	Compiler: gcc 13.2.1

Fedora 39 (ARM)
	Kernel: Depends on container host
	Compiler: gcc 13.2.1

Debian 12 with MUSDK
	Kernel: Container Host Kernel
	Compiler: gcc 12.2.0

CentOS Stream 9 (ARM)
	Kernel: Container Host Kernel
	Compiler: gcc 11.4.1

Debian 11 (Buster) (ARM)
	Kernel: Container Host Kernel
	Compiler: gcc 10.2.1

Ubuntu 20.04 (ARM)
	Kernel: Container Host Kernel
	Compiler: gcc 9.4.0

Debian 12 (arm)
	Kernel: Container Host Kernel
	Compiler: gcc 12.2.0

To view detailed results, visit:
https://lab.dpdk.org/results/dashboard/patchsets/29837/

UNH-IOL DPDK Community Lab

To manage your email subscriptions, visit: 
https://lab.dpdk.org/results/dashboard/preferences/subscriptions/