From mboxrd@z Thu Jan  1 00:00:00 1970
Return-Path: <test-report-bounces@dpdk.org>
Received: from mails.dpdk.org (mails.dpdk.org [217.70.189.124])
	by inbox.dpdk.org (Postfix) with ESMTP id DD48843EE1
	for <public@inbox.dpdk.org>; Tue, 23 Apr 2024 00:02:16 +0200 (CEST)
Received: from mails.dpdk.org (localhost [127.0.0.1])
	by mails.dpdk.org (Postfix) with ESMTP id D1B6D402AB;
	Tue, 23 Apr 2024 00:02:16 +0200 (CEST)
Received: from mail-io1-f100.google.com (mail-io1-f100.google.com
 [209.85.166.100])
 by mails.dpdk.org (Postfix) with ESMTP id C78DB40269
 for <test-report@dpdk.org>; Tue, 23 Apr 2024 00:02:14 +0200 (CEST)
Received: by mail-io1-f100.google.com with SMTP id
 ca18e2360f4ac-7dad81110cfso39970239f.1
 for <test-report@dpdk.org>; Mon, 22 Apr 2024 15:02:14 -0700 (PDT)
DKIM-Signature: v=1; a=rsa-sha256; c=relaxed/relaxed;
 d=iol.unh.edu; s=unh-iol; t=1713823334; x=1714428134; darn=dpdk.org;
 h=references:in-reply-to:cc:to:from:subject:message-id:date:from:to
 :cc:subject:date:message-id:reply-to;
 bh=YK7Dro8vIVNCf7n1H861+9KGQSkVEXdz2xqiAEQnYtI=;
 b=h+shwP0/3QyurYZWgMVzVbC+8UyYePSgnnburFVqm0mESzexSeE68d7WnYc3EnuRvy
 oTLHzRNf1evRnZ9KXyu4Ig9Y/n/whMYcYzer3MY7smZRcfgdktSqYrWX+Vbc4OQXbo+c
 58YqTwJ6+4qyyaJ+zA8UakBRAZNqbB1l2W/zk=
X-Google-DKIM-Signature: v=1; a=rsa-sha256; c=relaxed/relaxed;
 d=1e100.net; s=20230601; t=1713823334; x=1714428134;
 h=references:in-reply-to:cc:to:from:subject:message-id:date
 :x-gm-message-state:from:to:cc:subject:date:message-id:reply-to;
 bh=YK7Dro8vIVNCf7n1H861+9KGQSkVEXdz2xqiAEQnYtI=;
 b=gkNLnZxoIrAWvJrW+zZX0T6sSPD58TCbTl0Z4eTItt0GUXy5XCUgpKP7Pu7WN34Lx7
 7/EQFhMG6CVTusAZhhB6DUkEnkprG4Etl075wxB5ixdC19zqAWXeOyPF5jHlB6M9Ei/M
 34sIIbz3Q7uUuVBad6S+xBUroCtgZ7+6bSGMakhrbtVfGpNmkR2epbkGU+Lmdrkukxno
 nFr8LOmGppbSx8DKoTG7pFBWTEFQ6D0M56UXTCg1dom8wJVJjxpvBWOg5rvstGc6OX3l
 ZAH5y4mcFftihFYWiDYyYN0sX03fwZdg5YLVNV6QATp1/FLdoT1EitdPrWenfkvAOBBo
 inkg==
X-Gm-Message-State: AOJu0YxYHAJbuQNf12OzKpbYF2MFPiR25ESV7fMeo2VHmsS+3ni20OY9
 fG7TMRX0RBYaeT8u6FVBENKhtM2Q2F0x29jq46K0QIaz1Cvh8Xqd4fDrMwotsjp38PxdaguFzgw
 Vb2WCeQoqZfwEsMpIGTnnYK5es1NHcmDS+VuJLl9M
X-Google-Smtp-Source: AGHT+IEM796zepbrHt/ILSu42rtYeXliLCIOD3I/MwkT+39IsSVGgyXKT7pkYUKFbSCT0+LbVA4E78U1OXxK
X-Received: by 2002:a6b:4402:0:b0:7d5:f121:dee7 with SMTP id
 r2-20020a6b4402000000b007d5f121dee7mr13828233ioa.19.1713823334255; 
 Mon, 22 Apr 2024 15:02:14 -0700 (PDT)
Received: from postal.iol.unh.edu (postal.iol.unh.edu. [132.177.123.84])
 by smtp-relay.gmail.com with ESMTPS id
 hr15-20020a056638700f00b00482f5e175aesm723523jab.46.2024.04.22.15.02.14
 (version=TLS1_2 cipher=ECDHE-ECDSA-AES128-GCM-SHA256 bits=128/128);
 Mon, 22 Apr 2024 15:02:14 -0700 (PDT)
X-Relaying-Domain: iol.unh.edu
Date: Mon, 22 Apr 2024 15:02:14 -0700 (PDT)
Message-ID: <6626de66.050a0220.26913.d825SMTPIN_ADDED_MISSING@mx.google.com>
Received: from [172.21.0.6] (unknown [172.18.0.240])
 by postal.iol.unh.edu (Postfix) with ESMTP id B9137605C200;
 Mon, 22 Apr 2024 18:02:13 -0400 (EDT)
Subject: |SUCCESS| pw139621-139624 [PATCH] [v1,5/5] baseband/acc: cosmetic lo
From: dpdklab@iol.unh.edu
To: Test Report <test-report@dpdk.org>
Cc: dpdk-test-reports@iol.unh.edu
In-Reply-To: <20240422154008.119800-6-hernan.vargas@intel.com>
References: <20240422154008.119800-6-hernan.vargas@intel.com>
Content-Type: text/plain
X-BeenThere: test-report@dpdk.org
X-Mailman-Version: 2.1.29
Precedence: list
List-Id: automatic DPDK test reports <test-report.dpdk.org>
List-Unsubscribe: <https://mails.dpdk.org/options/test-report>,
 <mailto:test-report-request@dpdk.org?subject=unsubscribe>
List-Archive: <http://mails.dpdk.org/archives/test-report/>
List-Post: <mailto:test-report@dpdk.org>
List-Help: <mailto:test-report-request@dpdk.org?subject=help>
List-Subscribe: <https://mails.dpdk.org/listinfo/test-report>,
 <mailto:test-report-request@dpdk.org?subject=subscribe>
Errors-To: test-report-bounces@dpdk.org

Test-Label: iol-unit-arm64-testing
Test-Status: SUCCESS
http://dpdk.org/patch/139624

_Testing PASS_

Submitter: Hernan Vargas <hernan.vargas@intel.com>
Date: Monday, April 22 2024 15:40:08 
DPDK git baseline: Repo:dpdk
  Branch: master
  CommitID:98b4ecb4e4d73e93fdfa53f552b48d71104b445f

139621-139624 --> testing pass

Test environment and result as below:

+-----------------------------+----------------+--------------+---------------------------+------------------------------+
|         Environment         | dpdk_unit_test | lpm_autotest | cryptodev_sw_zuc_autotest | cryptodev_sw_snow3g_autotest |
+=============================+================+==============+===========================+==============================+
| 32-bit Ubuntu 20.04.4 (ARM) | PASS           | SKIPPED      | SKIPPED                   | SKIPPED                      |
+-----------------------------+----------------+--------------+---------------------------+------------------------------+
| CentOS Stream 9 (ARM)       | PASS           | SKIPPED      | SKIPPED                   | SKIPPED                      |
+-----------------------------+----------------+--------------+---------------------------+------------------------------+
| Debian 11 (Buster) (ARM)    | PASS           | SKIPPED      | SKIPPED                   | SKIPPED                      |
+-----------------------------+----------------+--------------+---------------------------+------------------------------+
| Fedora 39 (ARM)             | PASS           | SKIPPED      | SKIPPED                   | SKIPPED                      |
+-----------------------------+----------------+--------------+---------------------------+------------------------------+
| Debian 12 (arm)             | PASS           | SKIPPED      | PASS                      | PASS                         |
+-----------------------------+----------------+--------------+---------------------------+------------------------------+
| Fedora 38 (ARM Clang)       | PASS           | SKIPPED      | SKIPPED                   | SKIPPED                      |
+-----------------------------+----------------+--------------+---------------------------+------------------------------+
| Fedora 39 (ARM Clang)       | PASS           | SKIPPED      | SKIPPED                   | SKIPPED                      |
+-----------------------------+----------------+--------------+---------------------------+------------------------------+
| Fedora 38 (ARM)             | PASS           | SKIPPED      | SKIPPED                   | SKIPPED                      |
+-----------------------------+----------------+--------------+---------------------------+------------------------------+
| Ubuntu 20.04 (ARM)          | PASS           | SKIPPED      | SKIPPED                   | SKIPPED                      |
+-----------------------------+----------------+--------------+---------------------------+------------------------------+
| Fedora 37 (ARM)             | PASS           | SKIPPED      | SKIPPED                   | SKIPPED                      |
+-----------------------------+----------------+--------------+---------------------------+------------------------------+
| Ubuntu 20.04 ARM SVE        | SKIPPED        | PASS         | SKIPPED                   | SKIPPED                      |
+-----------------------------+----------------+--------------+---------------------------+------------------------------+


32-bit Ubuntu 20.04.4 (ARM)
	Kernel: 5.4.0-155-generic aarch64
	Compiler: gcc 9.4

CentOS Stream 9 (ARM)
	Kernel: Container Host Kernel
	Compiler: gcc 11.4.1

Debian 11 (Buster) (ARM)
	Kernel: Container Host Kernel
	Compiler: gcc 10.2.1

Fedora 39 (ARM)
	Kernel: Depends on container host
	Compiler: gcc 13.2.1

Debian 12 (arm)
	Kernel: Container Host Kernel
	Compiler: gcc 12.2.0

Fedora 38 (ARM Clang)
	Kernel: Depends on container host
	Compiler: clang 16.0.6

Fedora 39 (ARM Clang)
	Kernel: Depends on container host
	Compiler: clang 17.0.6

Fedora 38 (ARM)
	Kernel: Depends on container host
	Compiler: gcc 13.2.1

Ubuntu 20.04 (ARM)
	Kernel: Container Host Kernel
	Compiler: gcc 9.4.0

Fedora 37 (ARM)
	Kernel: Depends on container host
	Compiler: gcc 12.3.1

Ubuntu 20.04 ARM SVE
	Kernel: 5.4.0-167-generic
	Compiler: gcc (Ubuntu 10.5.0-1ubuntu1~20.04) 10.5.0

To view detailed results, visit:
https://lab.dpdk.org/results/dashboard/patchsets/29839/

UNH-IOL DPDK Community Lab

To manage your email subscriptions, visit: 
https://lab.dpdk.org/results/dashboard/preferences/subscriptions/