From mboxrd@z Thu Jan  1 00:00:00 1970
Return-Path: <test-report-bounces@dpdk.org>
Received: from mails.dpdk.org (mails.dpdk.org [217.70.189.124])
	by inbox.dpdk.org (Postfix) with ESMTP id 257AC43EE1
	for <public@inbox.dpdk.org>; Tue, 23 Apr 2024 00:05:29 +0200 (CEST)
Received: from mails.dpdk.org (localhost [127.0.0.1])
	by mails.dpdk.org (Postfix) with ESMTP id 204D7402AB;
	Tue, 23 Apr 2024 00:05:29 +0200 (CEST)
Received: from mail-oo1-f98.google.com (mail-oo1-f98.google.com
 [209.85.161.98]) by mails.dpdk.org (Postfix) with ESMTP id E830F40269
 for <test-report@dpdk.org>; Tue, 23 Apr 2024 00:05:27 +0200 (CEST)
Received: by mail-oo1-f98.google.com with SMTP id
 006d021491bc7-5aa362cc2ccso3578101eaf.3
 for <test-report@dpdk.org>; Mon, 22 Apr 2024 15:05:27 -0700 (PDT)
DKIM-Signature: v=1; a=rsa-sha256; c=relaxed/relaxed;
 d=iol.unh.edu; s=unh-iol; t=1713823527; x=1714428327; darn=dpdk.org;
 h=references:in-reply-to:cc:to:from:subject:message-id:date:from:to
 :cc:subject:date:message-id:reply-to;
 bh=6hpedmAnqrzz4J1G+cT+rRPzUU2ICKtqrMiQEYl8cyY=;
 b=N5CP0eb+ga1SrWb4hB2ChGPzUr83183FiqmysoOvgtYFrgsYL1ABV2VNSYbYBYiXuN
 x3mvC7uoWpnxZ8a1bOXVqqOf0Pg1piWnF6a6y28vsun4+8lr4wWuOcI9UUN4eJryUyta
 IFBlVkdHrUSRhpwUBH16zAUh9Y5mbd4uZljz8=
X-Google-DKIM-Signature: v=1; a=rsa-sha256; c=relaxed/relaxed;
 d=1e100.net; s=20230601; t=1713823527; x=1714428327;
 h=references:in-reply-to:cc:to:from:subject:message-id:date
 :x-gm-message-state:from:to:cc:subject:date:message-id:reply-to;
 bh=6hpedmAnqrzz4J1G+cT+rRPzUU2ICKtqrMiQEYl8cyY=;
 b=rWs+ao/65wU1IgL3ePLuz0uyaAerWX/ZYZ4Q3osAeFqW1a9g9lLx/+Trx6rIKdtpbr
 Z8jDrrwEM2tN+fqwEp0XHEzb1GbSui45IA6GQ469EOlj4p8iRl/Ilx+MmJLKtWpUq9Xa
 nMTJ8WT9rKZ0YjR82rVDElGdeDqYV9yrRkT7knKIJbsQLupL50os2UE4tsuepOPEyfd5
 APFZIatH0nZR4eQ9zt4pJwHnZ4yM19IOZ1WEyzlckap5dPqcOVcXNN/nBIY7khLn+Jk+
 n8rbDDIZbv65C+rNA7iJp3l8ggA4amNKH81aDo16J8pfd0lEigQaBCIHQNpdTEdCIZjA
 uYGw==
X-Gm-Message-State: AOJu0YypqxcWX6TyFMvfwuy5s2/yMJ7qey+90roQJSNGiTwVx2i/9ZnP
 +Rr9Iu3stntWKBrKaNC7LIPnGja2SiGzzmgltHYe9O1hwr4TwSnNqzboB3SpAPs7YW4GCs8gZvv
 SHbQ8gmCWGLOGHdAtHLeusf71gDsNJdgLtYWGHMqX
X-Google-Smtp-Source: AGHT+IGB+L7DswP8pZHCUMBVaYQoRmuZgcY+19V6vwAEhdL8jRJIxRvSsxfTNdxrdb2qC0nJFBYwvNSt5EaV
X-Received: by 2002:a4a:aa85:0:b0:5aa:4d23:9114 with SMTP id
 d5-20020a4aaa85000000b005aa4d239114mr13179221oon.3.1713823527351; 
 Mon, 22 Apr 2024 15:05:27 -0700 (PDT)
Received: from postal.iol.unh.edu (postal.iol.unh.edu. [132.177.123.84])
 by smtp-relay.gmail.com with ESMTPS id
 x5-20020a4aaf45000000b005aca0ca115dsm477386oon.8.2024.04.22.15.05.27
 (version=TLS1_2 cipher=ECDHE-ECDSA-AES128-GCM-SHA256 bits=128/128);
 Mon, 22 Apr 2024 15:05:27 -0700 (PDT)
X-Relaying-Domain: iol.unh.edu
Date: Mon, 22 Apr 2024 15:05:27 -0700 (PDT)
Message-ID: <6626df27.4a0a0220.4fd3a.76fdSMTPIN_ADDED_MISSING@mx.google.com>
Received: from [172.21.0.6] (unknown [172.18.0.240])
 by postal.iol.unh.edu (Postfix) with ESMTP id CC1DF605C200;
 Mon, 22 Apr 2024 18:05:26 -0400 (EDT)
Subject: |SUCCESS| pw139609-139611 [PATCH] [3/3] compress/uadk: support burst
From: dpdklab@iol.unh.edu
To: Test Report <test-report@dpdk.org>
Cc: dpdk-test-reports@iol.unh.edu
In-Reply-To: <20240422143102.251-4-zhangfei.gao@linaro.org>
References: <20240422143102.251-4-zhangfei.gao@linaro.org>
Content-Type: text/plain
X-BeenThere: test-report@dpdk.org
X-Mailman-Version: 2.1.29
Precedence: list
List-Id: automatic DPDK test reports <test-report.dpdk.org>
List-Unsubscribe: <https://mails.dpdk.org/options/test-report>,
 <mailto:test-report-request@dpdk.org?subject=unsubscribe>
List-Archive: <http://mails.dpdk.org/archives/test-report/>
List-Post: <mailto:test-report@dpdk.org>
List-Help: <mailto:test-report-request@dpdk.org?subject=help>
List-Subscribe: <https://mails.dpdk.org/listinfo/test-report>,
 <mailto:test-report-request@dpdk.org?subject=subscribe>
Errors-To: test-report-bounces@dpdk.org

Test-Label: iol-abi-testing
Test-Status: SUCCESS
http://dpdk.org/patch/139611

_Testing PASS_

Submitter: Zhangfei Gao <zhangfei.gao@linaro.org>
Date: Monday, April 22 2024 14:31:02 
DPDK git baseline: Repo:dpdk
  Branch: master
  CommitID:7e06c0de1952d3109a5b0c4779d7e7d8059c9d78

139609-139611 --> testing pass

Test environment and result as below:

+------------------+----------+
|   Environment    | abi_test |
+==================+==========+
| Debian 12        | PASS     |
+------------------+----------+
| Fedora 39        | PASS     |
+------------------+----------+
| Ubuntu 22.04     | PASS     |
+------------------+----------+
| openSUSE Leap 15 | PASS     |
+------------------+----------+
| Fedora 38        | PASS     |
+------------------+----------+
| CentOS Stream 9  | PASS     |
+------------------+----------+


Debian 12
	Kernel: Container Host Kernel
	Compiler: gcc 10.2.1

Fedora 39
	Kernel: Depends on container host
	Compiler: clang 17.0.6

Ubuntu 22.04
	Kernel: 5.4.0-167-generic
	Compiler: gcc 11.4.0

openSUSE Leap 15
	Kernel: 5.4.0-167-generic
	Compiler: gcc 7.5.0

Fedora 38
	Kernel: Depends on container host
	Compiler: clang 16.0.6

CentOS Stream 9
	Kernel: 5.4.0-167-generic
	Compiler: gcc 11.4.1 20230605

To view detailed results, visit:
https://lab.dpdk.org/results/dashboard/patchsets/29837/

UNH-IOL DPDK Community Lab

To manage your email subscriptions, visit: 
https://lab.dpdk.org/results/dashboard/preferences/subscriptions/