From mboxrd@z Thu Jan  1 00:00:00 1970
Return-Path: <test-report-bounces@dpdk.org>
Received: from mails.dpdk.org (mails.dpdk.org [217.70.189.124])
	by inbox.dpdk.org (Postfix) with ESMTP id B54E443EE3
	for <public@inbox.dpdk.org>; Tue, 23 Apr 2024 00:10:14 +0200 (CEST)
Received: from mails.dpdk.org (localhost [127.0.0.1])
	by mails.dpdk.org (Postfix) with ESMTP id B1522402AB;
	Tue, 23 Apr 2024 00:10:14 +0200 (CEST)
Received: from mail-io1-f98.google.com (mail-io1-f98.google.com
 [209.85.166.98]) by mails.dpdk.org (Postfix) with ESMTP id 70E7A40269
 for <test-report@dpdk.org>; Tue, 23 Apr 2024 00:10:13 +0200 (CEST)
Received: by mail-io1-f98.google.com with SMTP id
 ca18e2360f4ac-7da04b08b82so166186139f.0
 for <test-report@dpdk.org>; Mon, 22 Apr 2024 15:10:13 -0700 (PDT)
DKIM-Signature: v=1; a=rsa-sha256; c=relaxed/relaxed;
 d=iol.unh.edu; s=unh-iol; t=1713823813; x=1714428613; darn=dpdk.org;
 h=references:in-reply-to:cc:to:from:subject:message-id:date:from:to
 :cc:subject:date:message-id:reply-to;
 bh=5TIQ52ayT3ZRQPKWnWkjQdi4loeT5lyqUMXa5tOhcIk=;
 b=bUjb1BqaavZHt8LihU05gN4V67+kjqA9FXzbedCcs3TZPOq1wEGOZhJvWfmFPGnMij
 3mrg/LL15thn234WvxAM2aAQDHoBiL4vfDzpjti/TN1WETj6wFuQWV+PdYI1Z6OtK244
 /7IfkmKy5kcIB5vfnkJrTJZ6CZDzoA67RZf6E=
X-Google-DKIM-Signature: v=1; a=rsa-sha256; c=relaxed/relaxed;
 d=1e100.net; s=20230601; t=1713823813; x=1714428613;
 h=references:in-reply-to:cc:to:from:subject:message-id:date
 :x-gm-message-state:from:to:cc:subject:date:message-id:reply-to;
 bh=5TIQ52ayT3ZRQPKWnWkjQdi4loeT5lyqUMXa5tOhcIk=;
 b=Rhg+OO5srChP9Qf/ixBvsGC5oEXkOcgmxDclnyeMGvgP7QC6N7R4xC/JFWbyKleg4Y
 3Lnhj6TwdLM4V94GPFGFUJn0706fLmfWKQVDIFh/1judHV0Dviv+JCVOJaQwqpzVBlvd
 MJfdv014FsiwH28bPt1unVFNp0vXsWS0tn8QlYe92tNlmDOp0i0U8SW64CHmysysutvC
 tYHecFFjyaPxP8kuf5tgmERx7AilI2BY25jAeY6QAsftsCcYND2sZ/llSZkJWyokJDwH
 iSTmHuEBZrmZ6ybI/Y6/63FSSECzh4/KDhFytqI1PQQl22bTcsW9yd1rGNXPJcrtE4Dr
 AhHA==
X-Gm-Message-State: AOJu0Yw74Wzifd0RBDA0bUiPDUFv/+prUQ31Ol42t2uLXP1+hivVb4BR
 2e0KTIggU1zzAmmxJy4uASqbhLo8wWSJ3X32s/2mN5LZUwZY5drMxnlWD49IeTZPmLAH2G4DV2a
 +GgZmnV70QaDVE/i9Qnysx4voa3itxMfZ4345RuCJbXEutrG/GjSaorAB
X-Google-Smtp-Source: AGHT+IEseslOQQidQ2ss0vS5gllBS0Vyi6iqK7Emrczju62ojrnkUHmqsCKsF+SoY8/CelL8q3XS2eI+fCIk
X-Received: by 2002:a05:6602:f0a:b0:7da:2845:e9b6 with SMTP id
 hl10-20020a0566020f0a00b007da2845e9b6mr13365049iob.2.1713823812384; 
 Mon, 22 Apr 2024 15:10:12 -0700 (PDT)
Received: from postal.iol.unh.edu (postal.iol.unh.edu.
 [2606:4100:3880:1234::84]) by smtp-relay.gmail.com with ESMTPS id
 ez11-20020a056638614b00b00482f006825csm698900jab.18.2024.04.22.15.10.12
 (version=TLS1_2 cipher=ECDHE-ECDSA-AES128-GCM-SHA256 bits=128/128);
 Mon, 22 Apr 2024 15:10:12 -0700 (PDT)
X-Relaying-Domain: iol.unh.edu
Date: Mon, 22 Apr 2024 15:10:12 -0700 (PDT)
Message-ID: <6626e044.050a0220.75335.9dd1SMTPIN_ADDED_MISSING@mx.google.com>
Received: from [172.21.0.6] (unknown [172.18.0.240])
 by postal.iol.unh.edu (Postfix) with ESMTP id 0E419605C200;
 Mon, 22 Apr 2024 18:10:11 -0400 (EDT)
Subject: |SUCCESS| pw139609-139611 [PATCH] [3/3] compress/uadk: support burst
From: dpdklab@iol.unh.edu
To: Test Report <test-report@dpdk.org>
Cc: Zhangfei Gao <zhangfei.gao@linaro.org>
In-Reply-To: <20240422143102.251-4-zhangfei.gao@linaro.org>
References: <20240422143102.251-4-zhangfei.gao@linaro.org>
Content-Type: text/plain
X-BeenThere: test-report@dpdk.org
X-Mailman-Version: 2.1.29
Precedence: list
List-Id: automatic DPDK test reports <test-report.dpdk.org>
List-Unsubscribe: <https://mails.dpdk.org/options/test-report>,
 <mailto:test-report-request@dpdk.org?subject=unsubscribe>
List-Archive: <http://mails.dpdk.org/archives/test-report/>
List-Post: <mailto:test-report@dpdk.org>
List-Help: <mailto:test-report-request@dpdk.org?subject=help>
List-Subscribe: <https://mails.dpdk.org/listinfo/test-report>,
 <mailto:test-report-request@dpdk.org?subject=subscribe>
Errors-To: test-report-bounces@dpdk.org

Test-Label: iol-abi-testing
Test-Status: SUCCESS
http://dpdk.org/patch/139611

_Testing PASS_

Submitter: Zhangfei Gao <zhangfei.gao@linaro.org>
Date: Monday, April 22 2024 14:31:02 
DPDK git baseline: Repo:dpdk
  Branch: master
  CommitID:7e06c0de1952d3109a5b0c4779d7e7d8059c9d78

139609-139611 --> testing pass

Test environment and result as below:

+------------------+----------+
|   Environment    | abi_test |
+==================+==========+
| Debian 12        | PASS     |
+------------------+----------+
| Fedora 39        | PASS     |
+------------------+----------+
| Ubuntu 22.04     | PASS     |
+------------------+----------+
| openSUSE Leap 15 | PASS     |
+------------------+----------+
| Fedora 38        | PASS     |
+------------------+----------+
| CentOS Stream 9  | PASS     |
+------------------+----------+
| CentOS Stream 8  | PASS     |
+------------------+----------+
| Debian Bullseye  | PASS     |
+------------------+----------+


Debian 12
	Kernel: Container Host Kernel
	Compiler: gcc 10.2.1

Fedora 39
	Kernel: Depends on container host
	Compiler: clang 17.0.6

Ubuntu 22.04
	Kernel: 5.4.0-167-generic
	Compiler: gcc 11.4.0

openSUSE Leap 15
	Kernel: 5.4.0-167-generic
	Compiler: gcc 7.5.0

Fedora 38
	Kernel: Depends on container host
	Compiler: clang 16.0.6

CentOS Stream 9
	Kernel: 5.4.0-167-generic
	Compiler: gcc 11.4.1 20230605

CentOS Stream 8
	Kernel: 5.4.0-167-generic
	Compiler: gcc 8.5.0 20210514

Debian Bullseye
	Kernel: 5.4.0-167-generic
	Compiler: gcc 10.2.1-6

To view detailed results, visit:
https://lab.dpdk.org/results/dashboard/patchsets/29837/

UNH-IOL DPDK Community Lab

To manage your email subscriptions, visit: 
https://lab.dpdk.org/results/dashboard/preferences/subscriptions/