From mboxrd@z Thu Jan  1 00:00:00 1970
Return-Path: <test-report-bounces@dpdk.org>
Received: from mails.dpdk.org (mails.dpdk.org [217.70.189.124])
	by inbox.dpdk.org (Postfix) with ESMTP id CF52243EE3
	for <public@inbox.dpdk.org>; Tue, 23 Apr 2024 00:10:36 +0200 (CEST)
Received: from mails.dpdk.org (localhost [127.0.0.1])
	by mails.dpdk.org (Postfix) with ESMTP id C90A5402AB;
	Tue, 23 Apr 2024 00:10:36 +0200 (CEST)
Received: from mail-qv1-f97.google.com (mail-qv1-f97.google.com
 [209.85.219.97]) by mails.dpdk.org (Postfix) with ESMTP id B913140269
 for <test-report@dpdk.org>; Tue, 23 Apr 2024 00:10:35 +0200 (CEST)
Received: by mail-qv1-f97.google.com with SMTP id
 6a1803df08f44-69b50b8239fso46164916d6.0
 for <test-report@dpdk.org>; Mon, 22 Apr 2024 15:10:35 -0700 (PDT)
DKIM-Signature: v=1; a=rsa-sha256; c=relaxed/relaxed;
 d=iol.unh.edu; s=unh-iol; t=1713823835; x=1714428635; darn=dpdk.org;
 h=references:in-reply-to:cc:to:from:subject:message-id:date:from:to
 :cc:subject:date:message-id:reply-to;
 bh=6lErpvVU+gp+nNbpTB5bNHKFhXVUTJSYuhbW4DCdgf4=;
 b=DKLiGxfDE62tPjvtEXLZHS+mqWYsbLCjD9gOB0yYqjWXi5tZVU4wDIYEXZIPXf/LHb
 U8AJB7GgpuHgiMakLa+Euty31KMKFqAvep0dP3JcrJYeJPOsSZrUlndrNUYfgDqBmPPM
 AR4DuF+FLNV0CRKiLQrzMWEDbcMcRikXCE2XI=
X-Google-DKIM-Signature: v=1; a=rsa-sha256; c=relaxed/relaxed;
 d=1e100.net; s=20230601; t=1713823835; x=1714428635;
 h=references:in-reply-to:cc:to:from:subject:message-id:date
 :x-gm-message-state:from:to:cc:subject:date:message-id:reply-to;
 bh=6lErpvVU+gp+nNbpTB5bNHKFhXVUTJSYuhbW4DCdgf4=;
 b=umk8Ic4ygdKBR2D5Gp6gdGJNXgGD30L7qBOHiP1gy+etB43zJwPkbb3csgdsUyca+3
 wJj6oO0zEDZnh7Exn2DM0QwxfHqrGo35ifZ0Xlc7WRwettKrqEL0eRjUMUDKS8QX5R3r
 P+aizvQ7d+j10HypYs9XtfHJCpdR/iYSz2j7TvuGhofMV55p2D0HeYtDlfYg42PNFC+N
 cv8CWGLTKvt0snL+SjlzhoYzSMRxu2cLZ8K4LywMrt6l+/s16jjYVkZgT6ta7OruCBW5
 haVh10KRcbsy6bICbqreg8p3nwA0Zo6AK6uUGYJnYt/rtKepLoLTNDug013bJQ0tKPJ+
 2jVA==
X-Gm-Message-State: AOJu0YxZwL1IMs2wE/eumJFzxr1/xU7WRQWmYtieLrKS1XVnONQN8WuX
 0BQQ2dJeHKA4VXFuvGh8az0S2raKZPytD0ypcqlpvaaMX77+0nWdwhs8E3F0pAY/DQbFTEZVdrU
 hnX2xWdE3HwjfEjkerrZ0hUsHfgXLWPoeQP3eh2Aj
X-Google-Smtp-Source: AGHT+IGRExqLWekVE9jY0quRQuT1cFJV75kX+GMHye+DDM6sbaNIC7fl2VvVFUOmxumdW820bmZWMk4R5t7F
X-Received: by 2002:ad4:5aa3:0:b0:69c:b559:547d with SMTP id
 u3-20020ad45aa3000000b0069cb559547dmr1969388qvg.25.1713823835202; 
 Mon, 22 Apr 2024 15:10:35 -0700 (PDT)
Received: from postal.iol.unh.edu (postal.iol.unh.edu. [132.177.123.84])
 by smtp-relay.gmail.com with ESMTPS id
 y16-20020a0cec10000000b006a064e9d8b6sm583660qvo.33.2024.04.22.15.10.35
 (version=TLS1_2 cipher=ECDHE-ECDSA-AES128-GCM-SHA256 bits=128/128);
 Mon, 22 Apr 2024 15:10:35 -0700 (PDT)
X-Relaying-Domain: iol.unh.edu
Date: Mon, 22 Apr 2024 15:10:35 -0700 (PDT)
Message-ID: <6626e05b.0c0a0220.4283b.1777SMTPIN_ADDED_MISSING@mx.google.com>
Received: from [172.21.0.6] (unknown [172.18.0.240])
 by postal.iol.unh.edu (Postfix) with ESMTP id DE181605C200;
 Mon, 22 Apr 2024 18:10:34 -0400 (EDT)
Subject: |SUCCESS| pw139612-139620 [PATCH] [v5,9/9] test: add more latencysta
From: dpdklab@iol.unh.edu
To: Test Report <test-report@dpdk.org>
Cc: dpdk-test-reports@iol.unh.edu
In-Reply-To: <20240422152336.147553-10-stephen@networkplumber.org>
References: <20240422152336.147553-10-stephen@networkplumber.org>
Content-Type: text/plain
X-BeenThere: test-report@dpdk.org
X-Mailman-Version: 2.1.29
Precedence: list
List-Id: automatic DPDK test reports <test-report.dpdk.org>
List-Unsubscribe: <https://mails.dpdk.org/options/test-report>,
 <mailto:test-report-request@dpdk.org?subject=unsubscribe>
List-Archive: <http://mails.dpdk.org/archives/test-report/>
List-Post: <mailto:test-report@dpdk.org>
List-Help: <mailto:test-report-request@dpdk.org?subject=help>
List-Subscribe: <https://mails.dpdk.org/listinfo/test-report>,
 <mailto:test-report-request@dpdk.org?subject=subscribe>
Errors-To: test-report-bounces@dpdk.org

Test-Label: iol-compile-amd64-testing
Test-Status: SUCCESS
http://dpdk.org/patch/139620

_Testing PASS_

Submitter: Stephen Hemminger <stephen@networkplumber.org>
Date: Monday, April 22 2024 15:21:39 
DPDK git baseline: Repo:dpdk
  Branch: master
  CommitID:7e06c0de1952d3109a5b0c4779d7e7d8059c9d78

139612-139620 --> testing pass

Test environment and result as below:

+---------------------+--------------------+----------------------+-------------------+
|     Environment     | dpdk_meson_compile | dpdk_mingw64_compile | dpdk_msvc_compile |
+=====================+====================+======================+===================+
| FreeBSD 13.2        | PASS               | SKIPPED              | SKIPPED           |
+---------------------+--------------------+----------------------+-------------------+
| Windows Server 2019 | PASS               | PASS                 | SKIPPED           |
+---------------------+--------------------+----------------------+-------------------+
| Windows Server 2022 | PASS               | PASS                 | PASS              |
+---------------------+--------------------+----------------------+-------------------+
| CentOS Stream 8     | PASS               | SKIPPED              | SKIPPED           |
+---------------------+--------------------+----------------------+-------------------+
| CentOS Stream 9     | PASS               | SKIPPED              | SKIPPED           |
+---------------------+--------------------+----------------------+-------------------+
| Debian Bullseye     | PASS               | SKIPPED              | SKIPPED           |
+---------------------+--------------------+----------------------+-------------------+
| Fedora 37           | PASS               | SKIPPED              | SKIPPED           |
+---------------------+--------------------+----------------------+-------------------+
| Debian 12           | PASS               | SKIPPED              | SKIPPED           |
+---------------------+--------------------+----------------------+-------------------+
| Fedora 39           | PASS               | SKIPPED              | SKIPPED           |
+---------------------+--------------------+----------------------+-------------------+
| Fedora 38           | PASS               | SKIPPED              | SKIPPED           |
+---------------------+--------------------+----------------------+-------------------+
| RHEL8               | PASS               | SKIPPED              | SKIPPED           |
+---------------------+--------------------+----------------------+-------------------+
| Ubuntu 22.04        | PASS               | SKIPPED              | SKIPPED           |
+---------------------+--------------------+----------------------+-------------------+
| Ubuntu 20.04        | PASS               | SKIPPED              | SKIPPED           |
+---------------------+--------------------+----------------------+-------------------+
| openSUSE Leap 15    | PASS               | SKIPPED              | SKIPPED           |
+---------------------+--------------------+----------------------+-------------------+


FreeBSD 13.2
	Kernel: 13.2
	Compiler: clang 14.0.5

Windows Server 2019
	Kernel: 10.0.17763
	Compiler: clang 14.0 and gcc 8.1.0 (MinGW)

Windows Server 2022
	Kernel: 10.0.20348.2031
	Compiler: clang 15.0.7, gcc 8.1.0 (MinGW), and MSVC VS 17.9

CentOS Stream 8
	Kernel: 5.4.0-167-generic
	Compiler: gcc 8.5.0 20210514

CentOS Stream 9
	Kernel: 5.4.0-167-generic
	Compiler: gcc 11.4.1 20230605

Debian Bullseye
	Kernel: 5.4.0-167-generic
	Compiler: gcc 10.2.1-6

Fedora 37
	Kernel: Depends on container host system
	Compiler: gcc 12.3.1

Debian 12
	Kernel: Container Host Kernel
	Compiler: gcc 10.2.1

Fedora 39
	Kernel: Depends on container host
	Compiler: gcc 13.2.1

Fedora 38
	Kernel: Depends on container host
	Compiler: gcc 13.2.1

RHEL8
	Kernel: 5.4.0-167-generic
	Compiler: gcc 8.5.0 20210514 (Red Hat 8.5.0-20)

Ubuntu 22.04
	Kernel: 5.4.0-167-generic
	Compiler: gcc 11.4.0

Ubuntu 20.04
	Kernel: 5.4.0-167-generic
	Compiler: gcc 9.4.0-1ubuntu1~20.04.1

openSUSE Leap 15
	Kernel: 5.4.0-167-generic
	Compiler: gcc 7.5.0

To view detailed results, visit:
https://lab.dpdk.org/results/dashboard/patchsets/29838/

UNH-IOL DPDK Community Lab

To manage your email subscriptions, visit: 
https://lab.dpdk.org/results/dashboard/preferences/subscriptions/