From mboxrd@z Thu Jan  1 00:00:00 1970
Return-Path: <test-report-bounces@dpdk.org>
Received: from mails.dpdk.org (mails.dpdk.org [217.70.189.124])
	by inbox.dpdk.org (Postfix) with ESMTP id 29CCA43EE3
	for <public@inbox.dpdk.org>; Tue, 23 Apr 2024 00:11:47 +0200 (CEST)
Received: from mails.dpdk.org (localhost [127.0.0.1])
	by mails.dpdk.org (Postfix) with ESMTP id 24A60402AB;
	Tue, 23 Apr 2024 00:11:47 +0200 (CEST)
Received: from mail-io1-f97.google.com (mail-io1-f97.google.com
 [209.85.166.97]) by mails.dpdk.org (Postfix) with ESMTP id 6D97040269
 for <test-report@dpdk.org>; Tue, 23 Apr 2024 00:11:25 +0200 (CEST)
Received: by mail-io1-f97.google.com with SMTP id
 ca18e2360f4ac-7c8ad87b2acso123195739f.3
 for <test-report@dpdk.org>; Mon, 22 Apr 2024 15:11:25 -0700 (PDT)
DKIM-Signature: v=1; a=rsa-sha256; c=relaxed/relaxed;
 d=iol.unh.edu; s=unh-iol; t=1713823885; x=1714428685; darn=dpdk.org;
 h=references:in-reply-to:cc:to:from:subject:message-id:date:from:to
 :cc:subject:date:message-id:reply-to;
 bh=g8J1lUEfSriW/KCQJSqHWdYyjz7CGBuhIksx8Lpea18=;
 b=d0o/Wgza/BlxaUHrFj69noQ+sY0xYo0sgb89Yd31Tim+BsofkLqM7CkYJT/sSczZVb
 Qa6kHMT7spVYXwt/2SKr0Elfp12pg28RH79PAdFszp167tlMyUPsrSmqlGRBidNJY6Ed
 iz2P7AxqUeAkJa9c/VO4oOW8B4/rE0HgI5X10=
X-Google-DKIM-Signature: v=1; a=rsa-sha256; c=relaxed/relaxed;
 d=1e100.net; s=20230601; t=1713823885; x=1714428685;
 h=references:in-reply-to:cc:to:from:subject:message-id:date
 :x-gm-message-state:from:to:cc:subject:date:message-id:reply-to;
 bh=g8J1lUEfSriW/KCQJSqHWdYyjz7CGBuhIksx8Lpea18=;
 b=d5m5C4S3sbjjye1mWunU426iS7Ni0Zl3A+Lq7qA5D5y95F7yb8vTWb/8ItCat9u5g9
 /hW2B+hfiJ6VDKzC87BX+QTpQYSqOsJKylrOvmEkvyaDzA+psNHS29Z3recbsGeYvuMd
 lRQTszuFpjWPoRiZdBflT3nEEsL7TjU8jgkOLtsLOYlGmsmm9gOhxLcZmBGgEtSFaSgS
 ZSSZI6hdPAuUofk/XqA+hm+b8v5XHrVmupk1vIqljXRtIvDnK3qd2WoD7GmSpj95q+v6
 K8THLTmyHFmkcePO/Qv9HGW48l1PITSIfqwOvt7/JtbVEeQZiw0VZd0Z6qhIdUVIS/xN
 KNHw==
X-Gm-Message-State: AOJu0YxHoQBLRYeCGhACdjAwuWoLdoyD0s4wPQ436wKkLTnNx3uYybHv
 mONecyeJSYxs6qjeU5j6uX8wHcPCPflOFtc/hyszUMO6thXcnIMV/tq7r560tekOgYgDwbIN8nW
 BQmLW+/FM28M0Et5BAFpas0Z1WJW6GsBER3L8NGOP
X-Google-Smtp-Source: AGHT+IGPFJr+up5aWLOhpoq0iI7N2opvo0lYXLGoK7ashitixnDiShdOeVgRn65N4d3CjbOw0Oxs1eQ9nDbs
X-Received: by 2002:a6b:db08:0:b0:7da:a509:807f with SMTP id
 t8-20020a6bdb08000000b007daa509807fmr7129229ioc.16.1713823884828; 
 Mon, 22 Apr 2024 15:11:24 -0700 (PDT)
Received: from postal.iol.unh.edu (postal.iol.unh.edu. [132.177.123.84])
 by smtp-relay.gmail.com with ESMTPS id
 w14-20020a056638138e00b004851aab8200sm314238jad.12.2024.04.22.15.11.24
 (version=TLS1_2 cipher=ECDHE-ECDSA-AES128-GCM-SHA256 bits=128/128);
 Mon, 22 Apr 2024 15:11:24 -0700 (PDT)
X-Relaying-Domain: iol.unh.edu
Date: Mon, 22 Apr 2024 15:11:24 -0700 (PDT)
Message-ID: <6626e08c.050a0220.12841.235fSMTPIN_ADDED_MISSING@mx.google.com>
Received: from [172.21.0.7] (unknown [172.18.0.240])
 by postal.iol.unh.edu (Postfix) with ESMTP id 4E27E605C200;
 Mon, 22 Apr 2024 18:11:24 -0400 (EDT)
Subject: |SUCCESS| pw139612-139620 [PATCH] [v5,9/9] test: add more latencysta
From: dpdklab@iol.unh.edu
To: Test Report <test-report@dpdk.org>
Cc: dpdk-test-reports@iol.unh.edu
In-Reply-To: <20240422152336.147553-10-stephen@networkplumber.org>
References: <20240422152336.147553-10-stephen@networkplumber.org>
Content-Type: text/plain
X-BeenThere: test-report@dpdk.org
X-Mailman-Version: 2.1.29
Precedence: list
List-Id: automatic DPDK test reports <test-report.dpdk.org>
List-Unsubscribe: <https://mails.dpdk.org/options/test-report>,
 <mailto:test-report-request@dpdk.org?subject=unsubscribe>
List-Archive: <http://mails.dpdk.org/archives/test-report/>
List-Post: <mailto:test-report@dpdk.org>
List-Help: <mailto:test-report-request@dpdk.org?subject=help>
List-Subscribe: <https://mails.dpdk.org/listinfo/test-report>,
 <mailto:test-report-request@dpdk.org?subject=subscribe>
Errors-To: test-report-bounces@dpdk.org

Test-Label: iol-compile-arm64-testing
Test-Status: SUCCESS
http://dpdk.org/patch/139620

_Testing PASS_

Submitter: Stephen Hemminger <stephen@networkplumber.org>
Date: Monday, April 22 2024 15:21:39 
DPDK git baseline: Repo:dpdk
  Branch: master
  CommitID:7e06c0de1952d3109a5b0c4779d7e7d8059c9d78

139612-139620 --> testing pass

Test environment and result as below:

+----------------------------------------+--------------------+
|              Environment               | dpdk_meson_compile |
+========================================+====================+
| Ubuntu 20.04 ARM SVE                   | PASS               |
+----------------------------------------+--------------------+
| Debian 12 with MUSDK                   | PASS               |
+----------------------------------------+--------------------+
| Fedora 37 (ARM)                        | PASS               |
+----------------------------------------+--------------------+
| Ubuntu 20.04 (ARM)                     | PASS               |
+----------------------------------------+--------------------+
| CentOS Stream 9 (ARM)                  | PASS               |
+----------------------------------------+--------------------+
| Fedora 38 (ARM)                        | PASS               |
+----------------------------------------+--------------------+
| Debian 12 (arm)                        | PASS               |
+----------------------------------------+--------------------+
| Fedora 39 (ARM)                        | PASS               |
+----------------------------------------+--------------------+
| Debian 11 (Buster) (ARM)               | PASS               |
+----------------------------------------+--------------------+
| Ubuntu 20.04 aarch32 GCC Cross Compile | PASS               |
+----------------------------------------+--------------------+
| Ubuntu 20.04 ARM Clang Cross Compile   | PASS               |
+----------------------------------------+--------------------+


Ubuntu 20.04 ARM SVE
	Kernel: 5.4.0-167-generic
	Compiler: gcc (Ubuntu 10.5.0-1ubuntu1~20.04) 10.5.0

Debian 12 with MUSDK
	Kernel: Container Host Kernel
	Compiler: gcc 12.2.0

Fedora 37 (ARM)
	Kernel: Depends on container host
	Compiler: gcc 12.3.1

Ubuntu 20.04 (ARM)
	Kernel: Container Host Kernel
	Compiler: gcc 9.4.0

CentOS Stream 9 (ARM)
	Kernel: Container Host Kernel
	Compiler: gcc 11.4.1

Fedora 38 (ARM)
	Kernel: Depends on container host
	Compiler: gcc 13.2.1

Debian 12 (arm)
	Kernel: Container Host Kernel
	Compiler: gcc 12.2.0

Fedora 39 (ARM)
	Kernel: Depends on container host
	Compiler: gcc 13.2.1

Debian 11 (Buster) (ARM)
	Kernel: Container Host Kernel
	Compiler: gcc 10.2.1

Ubuntu 20.04 aarch32 GCC Cross Compile
	Kernel: 5.4.0-167-generic
	Compiler: gcc 9.4.0

Ubuntu 20.04 ARM Clang Cross Compile
	Kernel: 5.4.0-72-generic
	Compiler: clang 10.0.0-4ubuntu1

To view detailed results, visit:
https://lab.dpdk.org/results/dashboard/patchsets/29838/

UNH-IOL DPDK Community Lab

To manage your email subscriptions, visit: 
https://lab.dpdk.org/results/dashboard/preferences/subscriptions/