From mboxrd@z Thu Jan  1 00:00:00 1970
Return-Path: <test-report-bounces@dpdk.org>
Received: from mails.dpdk.org (mails.dpdk.org [217.70.189.124])
	by inbox.dpdk.org (Postfix) with ESMTP id DA5A143EE8
	for <public@inbox.dpdk.org>; Tue, 23 Apr 2024 11:57:18 +0200 (CEST)
Received: from mails.dpdk.org (localhost [127.0.0.1])
	by mails.dpdk.org (Postfix) with ESMTP id D448240E54;
	Tue, 23 Apr 2024 11:57:18 +0200 (CEST)
Received: from mail-yw1-f228.google.com (mail-yw1-f228.google.com
 [209.85.128.228])
 by mails.dpdk.org (Postfix) with ESMTP id B44C8402AB
 for <test-report@dpdk.org>; Tue, 23 Apr 2024 11:57:17 +0200 (CEST)
Received: by mail-yw1-f228.google.com with SMTP id
 00721157ae682-617d25b2bc4so56594747b3.2
 for <test-report@dpdk.org>; Tue, 23 Apr 2024 02:57:17 -0700 (PDT)
DKIM-Signature: v=1; a=rsa-sha256; c=relaxed/relaxed;
 d=iol.unh.edu; s=unh-iol; t=1713866237; x=1714471037; darn=dpdk.org;
 h=references:in-reply-to:cc:to:from:subject:message-id:date:from:to
 :cc:subject:date:message-id:reply-to;
 bh=mWrVcui18cT/r5aLcjGMwu+Hd/oRW0cseCbpTFc4/sc=;
 b=M7CLmeqkCBczhf8P1WABE+w0/d/Z7d2mGhnUj/s6PXZ0rWjqu/7N0oWbmGW2kof+Hz
 bwaEuM9btCVYcmIKFGuWymVjy78hHHtg2+353dKMibr3dCBYQOQ+7a6Zu5hZ/Ilvt/RO
 OaulNfOVMdEmn3w3ICh9dECJomvsXWSISb8Fw=
X-Google-DKIM-Signature: v=1; a=rsa-sha256; c=relaxed/relaxed;
 d=1e100.net; s=20230601; t=1713866237; x=1714471037;
 h=references:in-reply-to:cc:to:from:subject:message-id:date
 :x-gm-message-state:from:to:cc:subject:date:message-id:reply-to;
 bh=mWrVcui18cT/r5aLcjGMwu+Hd/oRW0cseCbpTFc4/sc=;
 b=eE17dw0zQahEnfj5kZUNC6822v86sBbMscsAyt23pCwGRP4SPO6GnWQye7jPpWAEfL
 gTHvgYGC2Z3TWI2F6XPMmgHib4E8xivH8qL2hrZ8T4oMo2uUCbp/W4uebbfHnSUZg3E1
 vc4pt0eZ+ItwtTDddwm1QpoWpN2/txY0ds9Ne/X3MHX+JKBezIm7Jtu6LSYOoixxjVTc
 0iEawTJdHbtofrtVldQFJqv/7fX/HwNoE8wwpcWQVcgIwtYmP/Gs0nV5VRFKNE8yfx58
 OwXchOqhfjQW7aaPvXzPI/eC/inPwXE7zItmxLhzSkpAhyXY4goVU7EbsmfjjYQ+V/oT
 DtGQ==
X-Gm-Message-State: AOJu0YzvrOOS4EINz8UQ+/LDlNZo7a0AcaITZB6I5t5RLXOBo0T/TdFo
 ZoOZhgehY/xO8/1HOuzU0nL7srRx4jN0gkKFwLGL5OG9R1G4/nQuFu8n/HLgbrsmpEzhsPkSYsv
 Y2d/r0zkroBmliZthRoAxoNw2Fxz9Igp8LV202/IM0qjlekJ+gu5lhyJC
X-Google-Smtp-Source: AGHT+IHwVN5QOZq3H0fEYhyhc1owGeZxS9tDUJjc+5Vu85j1GZJSfUPJSrl6tY5QRarj4A0p4ZxKhu7Vokx5
X-Received: by 2002:a05:690c:6010:b0:618:4203:575b with SMTP id
 hf16-20020a05690c601000b006184203575bmr14192547ywb.41.1713866237010; 
 Tue, 23 Apr 2024 02:57:17 -0700 (PDT)
Received: from postal.iol.unh.edu (postal.iol.unh.edu.
 [2606:4100:3880:1234::84]) by smtp-relay.gmail.com with ESMTPS id
 z1-20020a818901000000b0060aa4f76b47sm805292ywf.44.2024.04.23.02.57.16
 (version=TLS1_2 cipher=ECDHE-ECDSA-AES128-GCM-SHA256 bits=128/128);
 Tue, 23 Apr 2024 02:57:16 -0700 (PDT)
X-Relaying-Domain: iol.unh.edu
Date: Tue, 23 Apr 2024 02:57:16 -0700 (PDT)
Message-ID: <662785fc.810a0220.1eb78.e458SMTPIN_ADDED_MISSING@mx.google.com>
Received: from [172.21.0.6] (unknown [172.18.0.240])
 by postal.iol.unh.edu (Postfix) with ESMTP id 5566C6052514;
 Tue, 23 Apr 2024 05:57:16 -0400 (EDT)
Subject: |SUCCESS| pw139637-139640 [PATCH] [v1,4/4] dts: refine pre-test setu
From: dpdklab@iol.unh.edu
To: Test Report <test-report@dpdk.org>
Cc: dpdk-test-reports@iol.unh.edu
In-Reply-To: <20240423091252.62924-5-juraj.linkes@pantheon.tech>
References: <20240423091252.62924-5-juraj.linkes@pantheon.tech>
Content-Type: text/plain
X-BeenThere: test-report@dpdk.org
X-Mailman-Version: 2.1.29
Precedence: list
List-Id: automatic DPDK test reports <test-report.dpdk.org>
List-Unsubscribe: <https://mails.dpdk.org/options/test-report>,
 <mailto:test-report-request@dpdk.org?subject=unsubscribe>
List-Archive: <http://mails.dpdk.org/archives/test-report/>
List-Post: <mailto:test-report@dpdk.org>
List-Help: <mailto:test-report-request@dpdk.org?subject=help>
List-Subscribe: <https://mails.dpdk.org/listinfo/test-report>,
 <mailto:test-report-request@dpdk.org?subject=subscribe>
Errors-To: test-report-bounces@dpdk.org

Test-Label: iol-unit-arm64-testing
Test-Status: SUCCESS
http://dpdk.org/patch/139640

_Testing PASS_

Submitter: Juraj Linkes <juraj.linkes@pantheon.tech>
Date: Tuesday, April 23 2024 09:12:52 
DPDK git baseline: Repo:dpdk
  Branch: master
  CommitID:7e06c0de1952d3109a5b0c4779d7e7d8059c9d78

139637-139640 --> testing pass

Test environment and result as below:

+--------------------------+----------------+
|       Environment        | dpdk_unit_test |
+==========================+================+
| Debian 11 (Buster) (ARM) | PASS           |
+--------------------------+----------------+
| Fedora 38 (ARM)          | PASS           |
+--------------------------+----------------+
| Debian 12 (arm)          | PASS           |
+--------------------------+----------------+
| CentOS Stream 9 (ARM)    | PASS           |
+--------------------------+----------------+


Debian 11 (Buster) (ARM)
	Kernel: Container Host Kernel
	Compiler: gcc 10.2.1

Fedora 38 (ARM)
	Kernel: Depends on container host
	Compiler: gcc 13.2.1

Debian 12 (arm)
	Kernel: Container Host Kernel
	Compiler: gcc 12.2.0

CentOS Stream 9 (ARM)
	Kernel: Container Host Kernel
	Compiler: gcc 11.4.1

To view detailed results, visit:
https://lab.dpdk.org/results/dashboard/patchsets/29843/

UNH-IOL DPDK Community Lab

To manage your email subscriptions, visit: 
https://lab.dpdk.org/results/dashboard/preferences/subscriptions/