From mboxrd@z Thu Jan  1 00:00:00 1970
Return-Path: <test-report-bounces@dpdk.org>
Received: from mails.dpdk.org (mails.dpdk.org [217.70.189.124])
	by inbox.dpdk.org (Postfix) with ESMTP id 5EC8243EE9
	for <public@inbox.dpdk.org>; Tue, 23 Apr 2024 12:16:12 +0200 (CEST)
Received: from mails.dpdk.org (localhost [127.0.0.1])
	by mails.dpdk.org (Postfix) with ESMTP id 5A65940E54;
	Tue, 23 Apr 2024 12:16:12 +0200 (CEST)
Received: from mail-io1-f97.google.com (mail-io1-f97.google.com
 [209.85.166.97]) by mails.dpdk.org (Postfix) with ESMTP id D67FB402AB
 for <test-report@dpdk.org>; Tue, 23 Apr 2024 12:16:10 +0200 (CEST)
Received: by mail-io1-f97.google.com with SMTP id
 ca18e2360f4ac-7da939572b5so120989839f.2
 for <test-report@dpdk.org>; Tue, 23 Apr 2024 03:16:10 -0700 (PDT)
DKIM-Signature: v=1; a=rsa-sha256; c=relaxed/relaxed;
 d=iol.unh.edu; s=unh-iol; t=1713867370; x=1714472170; darn=dpdk.org;
 h=references:in-reply-to:cc:to:from:subject:message-id:date:from:to
 :cc:subject:date:message-id:reply-to;
 bh=jCBZChcphXXWN9D59KKuEbKNOUZ3wq4fNX89ApBWgkY=;
 b=L/STnqAHVwTDtQK2P6o9DDFZL4oqktSu8gGYx1URNc4hi2nBpQxQrX1XCKv3+4Sxwe
 OEIx0edKo0jO/ksTFdo/niUgZQ1K++J1zugVcnST1DCMcDuCIRKQYRC5SipeN+iGi6G9
 Itjy/jBvzY38zx2i2zgTSodC0AyMJzKFnNb8k=
X-Google-DKIM-Signature: v=1; a=rsa-sha256; c=relaxed/relaxed;
 d=1e100.net; s=20230601; t=1713867370; x=1714472170;
 h=references:in-reply-to:cc:to:from:subject:message-id:date
 :x-gm-message-state:from:to:cc:subject:date:message-id:reply-to;
 bh=jCBZChcphXXWN9D59KKuEbKNOUZ3wq4fNX89ApBWgkY=;
 b=ePFMG/AUjJ/zzkUWLzbd7arJwsh4Cu/L+9VsSESNhPL8nlR7WWxq+d6h9/0nKzjghF
 v6WosX1rRloBOBJ5vfO7WwP9oXkFmi3KchS6yNWUE6eVNQh+2RC0zqUgYpr7wWp1xqAN
 aHa2LpYzfIJm1f4YkEvQVUNbessRQ/4eurFExkWT6Wak1sbRgdqs7p8LtGr56ec1Edf0
 QxHXZXPK4gAUkQWAThYucRV9H6T/VwVNXvAb7LH9rOV6niYUPtlp4ooMI+E4idq+A/Kj
 dyJ2mron0R+tV2HphjRVviVsTsZnHX0rkFdxYK9yXtziI4VJJI0j2+Tk1UHTYS+rogEq
 XBNA==
X-Gm-Message-State: AOJu0YwHpn8dqJe4+VG89bCDsKOobJoUfGxmCNW1L6p/Tdv1Fo91X/6h
 EaNQNpQACh4jHynzuVhJrgENhGLUtt8XrQo5uz6ND0rOoKaXCiG8xnUGgtciKRHHcDe5CpOA8bs
 xyeXalYpVWXwXhXj3SvkFQVEN5EbU5XtO77WHeKdt
X-Google-Smtp-Source: AGHT+IEZC4Ftaw5IHSZ3UNnh9jitWPn+fpOjpiy3ao1RYotmy5yoD2qej5RWJHwC1JuHkXWuTgAgQSdg6NX7
X-Received: by 2002:a05:6602:6616:b0:7da:bdfe:2f07 with SMTP id
 gx22-20020a056602661600b007dabdfe2f07mr7265444iob.1.1713867370291; 
 Tue, 23 Apr 2024 03:16:10 -0700 (PDT)
Received: from postal.iol.unh.edu (postal.iol.unh.edu. [132.177.123.84])
 by smtp-relay.gmail.com with ESMTPS id
 im13-20020a0566026d0d00b007d5eaeef827sm449935iob.23.2024.04.23.03.16.10
 (version=TLS1_2 cipher=ECDHE-ECDSA-AES128-GCM-SHA256 bits=128/128);
 Tue, 23 Apr 2024 03:16:10 -0700 (PDT)
X-Relaying-Domain: iol.unh.edu
Date: Tue, 23 Apr 2024 03:16:10 -0700 (PDT)
Message-ID: <66278a6a.050a0220.88100.8860SMTPIN_ADDED_MISSING@mx.google.com>
Received: from [172.21.0.6] (unknown [172.18.0.240])
 by postal.iol.unh.edu (Postfix) with ESMTP id CD7656052514;
 Tue, 23 Apr 2024 06:16:09 -0400 (EDT)
Subject: |SUCCESS| pw139637-139640 [PATCH] [v1,4/4] dts: refine pre-test setu
From: dpdklab@iol.unh.edu
To: Test Report <test-report@dpdk.org>
Cc: dpdk-test-reports@iol.unh.edu
In-Reply-To: <20240423091252.62924-5-juraj.linkes@pantheon.tech>
References: <20240423091252.62924-5-juraj.linkes@pantheon.tech>
Content-Type: text/plain
X-BeenThere: test-report@dpdk.org
X-Mailman-Version: 2.1.29
Precedence: list
List-Id: automatic DPDK test reports <test-report.dpdk.org>
List-Unsubscribe: <https://mails.dpdk.org/options/test-report>,
 <mailto:test-report-request@dpdk.org?subject=unsubscribe>
List-Archive: <http://mails.dpdk.org/archives/test-report/>
List-Post: <mailto:test-report@dpdk.org>
List-Help: <mailto:test-report-request@dpdk.org?subject=help>
List-Subscribe: <https://mails.dpdk.org/listinfo/test-report>,
 <mailto:test-report-request@dpdk.org?subject=subscribe>
Errors-To: test-report-bounces@dpdk.org

Test-Label: iol-compile-arm64-testing
Test-Status: SUCCESS
http://dpdk.org/patch/139640

_Testing PASS_

Submitter: Juraj Linkes <juraj.linkes@pantheon.tech>
Date: Tuesday, April 23 2024 09:12:52 
DPDK git baseline: Repo:dpdk
  Branch: master
  CommitID:7e06c0de1952d3109a5b0c4779d7e7d8059c9d78

139637-139640 --> testing pass

Test environment and result as below:

+--------------------------+--------------------+
|       Environment        | dpdk_meson_compile |
+==========================+====================+
| Ubuntu 20.04 ARM SVE     | PASS               |
+--------------------------+--------------------+
| Debian 12 with MUSDK     | PASS               |
+--------------------------+--------------------+
| Fedora 37 (ARM)          | PASS               |
+--------------------------+--------------------+
| Fedora 38 (ARM)          | PASS               |
+--------------------------+--------------------+
| Fedora 39 (ARM)          | PASS               |
+--------------------------+--------------------+
| Debian 11 (Buster) (ARM) | PASS               |
+--------------------------+--------------------+
| Debian 12 (arm)          | PASS               |
+--------------------------+--------------------+
| Ubuntu 20.04 (ARM)       | PASS               |
+--------------------------+--------------------+
| CentOS Stream 9 (ARM)    | PASS               |
+--------------------------+--------------------+


Ubuntu 20.04 ARM SVE
	Kernel: 5.4.0-167-generic
	Compiler: gcc (Ubuntu 10.5.0-1ubuntu1~20.04) 10.5.0

Debian 12 with MUSDK
	Kernel: Container Host Kernel
	Compiler: gcc 12.2.0

Fedora 37 (ARM)
	Kernel: Depends on container host
	Compiler: gcc 12.3.1

Fedora 38 (ARM)
	Kernel: Depends on container host
	Compiler: gcc 13.2.1

Fedora 39 (ARM)
	Kernel: Depends on container host
	Compiler: gcc 13.2.1

Debian 11 (Buster) (ARM)
	Kernel: Container Host Kernel
	Compiler: gcc 10.2.1

Debian 12 (arm)
	Kernel: Container Host Kernel
	Compiler: gcc 12.2.0

Ubuntu 20.04 (ARM)
	Kernel: Container Host Kernel
	Compiler: gcc 9.4.0

CentOS Stream 9 (ARM)
	Kernel: Container Host Kernel
	Compiler: gcc 11.4.1

To view detailed results, visit:
https://lab.dpdk.org/results/dashboard/patchsets/29843/

UNH-IOL DPDK Community Lab

To manage your email subscriptions, visit: 
https://lab.dpdk.org/results/dashboard/preferences/subscriptions/