From mboxrd@z Thu Jan  1 00:00:00 1970
Return-Path: <test-report-bounces@dpdk.org>
Received: from mails.dpdk.org (mails.dpdk.org [217.70.189.124])
	by inbox.dpdk.org (Postfix) with ESMTP id 8DAEE43EE9
	for <public@inbox.dpdk.org>; Tue, 23 Apr 2024 12:19:25 +0200 (CEST)
Received: from mails.dpdk.org (localhost [127.0.0.1])
	by mails.dpdk.org (Postfix) with ESMTP id 87F8240E54;
	Tue, 23 Apr 2024 12:19:25 +0200 (CEST)
Received: from mail-io1-f98.google.com (mail-io1-f98.google.com
 [209.85.166.98]) by mails.dpdk.org (Postfix) with ESMTP id 81D1A402AB
 for <test-report@dpdk.org>; Tue, 23 Apr 2024 12:19:14 +0200 (CEST)
Received: by mail-io1-f98.google.com with SMTP id
 ca18e2360f4ac-7dddba0f02fso38734739f.3
 for <test-report@dpdk.org>; Tue, 23 Apr 2024 03:19:14 -0700 (PDT)
DKIM-Signature: v=1; a=rsa-sha256; c=relaxed/relaxed;
 d=iol.unh.edu; s=unh-iol; t=1713867554; x=1714472354; darn=dpdk.org;
 h=references:in-reply-to:cc:to:from:subject:message-id:date:from:to
 :cc:subject:date:message-id:reply-to;
 bh=Lpl5kuw8h+evMXhNBv+WUWC5PoFwrdDm/B9QQZ+rLAs=;
 b=YvKzbVjZf5L8EneyjhZqnHjOFVlFovH+vOOT7n9DdJiEjObiIfSprC8ie5yfwn5O3l
 Be/eqsNtT5I6AKU/CfsbaiwwDJwdiACVE+YzVkHc/7zshRiaSRQljZFbT4WxdYgbqCze
 nokQIlcd1nHjj/imkC2iB72pjgrhsS5vKSrHg=
X-Google-DKIM-Signature: v=1; a=rsa-sha256; c=relaxed/relaxed;
 d=1e100.net; s=20230601; t=1713867554; x=1714472354;
 h=references:in-reply-to:cc:to:from:subject:message-id:date
 :x-gm-message-state:from:to:cc:subject:date:message-id:reply-to;
 bh=Lpl5kuw8h+evMXhNBv+WUWC5PoFwrdDm/B9QQZ+rLAs=;
 b=kRJgdDsJF4zuPjcNRg0KmurDG0bXPEPej9k/DPDTvmXMbZLa3fmVRJ70gtvX9DuYWW
 igJu+a+FDIyITrhvBqJn9Tar8oUhhcZAjeoXuGntYGCZBkHEPcAt7bZQbc99wRvhEKoS
 ekOxBrlH68+BYEnZv94IgLq3AdNNv9PWgsEOTNzWWRb7OZyDfeGxuA7vcwYsGyi28um0
 9WLjVLz0M5EMAyO7pyV5+05Ry7Mzv2/Vv6YXdYFGOce9YlitXILDB64SdrufZtGu7Jo9
 UmM+9nE6IRLjKeIIru93tZRpXjP9vrzpIF1FjfC2G6ylRk2lGRjaQl5NciwQL9IssTIy
 I0eA==
X-Gm-Message-State: AOJu0Yx/J+G/8j3+MkONDT28CuPIqhZBImovhmrVyKHxHq+yJq5gzGWT
 bf9nE9xOAYQDtm/AQgpsk6XWCFnt/Y1CUiVTn9ex4Yfqp/iPVHFa4XzBVlkesYzCjKH230430St
 07FOQmCyOR3AVqCabYnePn5P1gq79V+lQmtsGKp3xYnGVpmo/YljDXDNR
X-Google-Smtp-Source: AGHT+IFQFJFNeVwj05BQPV52ZuvzKTXNH87dKo11/gdh86n7UT0/f45sMVAk/7QCpVY6GDMqk+5Yz1k+zAzH
X-Received: by 2002:a05:6602:2490:b0:7da:ddf3:7e76 with SMTP id
 g16-20020a056602249000b007daddf37e76mr4748770ioe.14.1713867553865; 
 Tue, 23 Apr 2024 03:19:13 -0700 (PDT)
Received: from postal.iol.unh.edu (postal.iol.unh.edu.
 [2606:4100:3880:1234::84]) by smtp-relay.gmail.com with ESMTPS id
 dk10-20020a0566021b0a00b007d6480697f5sm444929iob.34.2024.04.23.03.19.13
 (version=TLS1_2 cipher=ECDHE-ECDSA-AES128-GCM-SHA256 bits=128/128);
 Tue, 23 Apr 2024 03:19:13 -0700 (PDT)
X-Relaying-Domain: iol.unh.edu
Date: Tue, 23 Apr 2024 03:19:13 -0700 (PDT)
Message-ID: <66278b21.050a0220.3b658.6c0eSMTPIN_ADDED_MISSING@mx.google.com>
Received: from [172.21.0.6] (unknown [172.18.0.240])
 by postal.iol.unh.edu (Postfix) with ESMTP id 707D56052514;
 Tue, 23 Apr 2024 06:19:13 -0400 (EDT)
Subject: |SUCCESS| pw139637-139640 [PATCH] [v1,4/4] dts: refine pre-test setu
From: dpdklab@iol.unh.edu
To: Test Report <test-report@dpdk.org>
Cc: dpdk-test-reports@iol.unh.edu
In-Reply-To: <20240423091252.62924-5-juraj.linkes@pantheon.tech>
References: <20240423091252.62924-5-juraj.linkes@pantheon.tech>
Content-Type: text/plain
X-BeenThere: test-report@dpdk.org
X-Mailman-Version: 2.1.29
Precedence: list
List-Id: automatic DPDK test reports <test-report.dpdk.org>
List-Unsubscribe: <https://mails.dpdk.org/options/test-report>,
 <mailto:test-report-request@dpdk.org?subject=unsubscribe>
List-Archive: <http://mails.dpdk.org/archives/test-report/>
List-Post: <mailto:test-report@dpdk.org>
List-Help: <mailto:test-report-request@dpdk.org?subject=help>
List-Subscribe: <https://mails.dpdk.org/listinfo/test-report>,
 <mailto:test-report-request@dpdk.org?subject=subscribe>
Errors-To: test-report-bounces@dpdk.org

Test-Label: iol-compile-amd64-testing
Test-Status: SUCCESS
http://dpdk.org/patch/139640

_Testing PASS_

Submitter: Juraj Linkes <juraj.linkes@pantheon.tech>
Date: Tuesday, April 23 2024 09:12:52 
DPDK git baseline: Repo:dpdk
  Branch: master
  CommitID:7e06c0de1952d3109a5b0c4779d7e7d8059c9d78

139637-139640 --> testing pass

Test environment and result as below:

+---------------------+--------------------+----------------------+-------------------+
|     Environment     | dpdk_meson_compile | dpdk_mingw64_compile | dpdk_msvc_compile |
+=====================+====================+======================+===================+
| FreeBSD 13.2        | PASS               | SKIPPED              | SKIPPED           |
+---------------------+--------------------+----------------------+-------------------+
| Windows Server 2019 | PASS               | PASS                 | SKIPPED           |
+---------------------+--------------------+----------------------+-------------------+
| Windows Server 2022 | PASS               | PASS                 | PASS              |
+---------------------+--------------------+----------------------+-------------------+
| Debian Bullseye     | PASS               | SKIPPED              | SKIPPED           |
+---------------------+--------------------+----------------------+-------------------+
| CentOS Stream 8     | PASS               | SKIPPED              | SKIPPED           |
+---------------------+--------------------+----------------------+-------------------+
| CentOS Stream 9     | PASS               | SKIPPED              | SKIPPED           |
+---------------------+--------------------+----------------------+-------------------+
| Debian 12           | PASS               | SKIPPED              | SKIPPED           |
+---------------------+--------------------+----------------------+-------------------+
| Fedora 37           | PASS               | SKIPPED              | SKIPPED           |
+---------------------+--------------------+----------------------+-------------------+
| Fedora 39           | PASS               | SKIPPED              | SKIPPED           |
+---------------------+--------------------+----------------------+-------------------+
| Fedora 38           | PASS               | SKIPPED              | SKIPPED           |
+---------------------+--------------------+----------------------+-------------------+


FreeBSD 13.2
	Kernel: 13.2
	Compiler: clang 14.0.5

Windows Server 2019
	Kernel: 10.0.17763
	Compiler: clang 14.0 and gcc 8.1.0 (MinGW)

Windows Server 2022
	Kernel: 10.0.20348.2031
	Compiler: clang 15.0.7, gcc 8.1.0 (MinGW), and MSVC VS 17.9

Debian Bullseye
	Kernel: 5.4.0-167-generic
	Compiler: gcc 10.2.1-6

CentOS Stream 8
	Kernel: 5.4.0-167-generic
	Compiler: gcc 8.5.0 20210514

CentOS Stream 9
	Kernel: 5.4.0-167-generic
	Compiler: gcc 11.4.1 20230605

Debian 12
	Kernel: Container Host Kernel
	Compiler: gcc 10.2.1

Fedora 37
	Kernel: Depends on container host system
	Compiler: gcc 12.3.1

Fedora 39
	Kernel: Depends on container host
	Compiler: gcc 13.2.1

Fedora 38
	Kernel: Depends on container host
	Compiler: gcc 13.2.1

To view detailed results, visit:
https://lab.dpdk.org/results/dashboard/patchsets/29843/

UNH-IOL DPDK Community Lab

To manage your email subscriptions, visit: 
https://lab.dpdk.org/results/dashboard/preferences/subscriptions/