From mboxrd@z Thu Jan  1 00:00:00 1970
Return-Path: <test-report-bounces@dpdk.org>
Received: from mails.dpdk.org (mails.dpdk.org [217.70.189.124])
	by inbox.dpdk.org (Postfix) with ESMTP id 120DC43EE9
	for <public@inbox.dpdk.org>; Tue, 23 Apr 2024 12:24:23 +0200 (CEST)
Received: from mails.dpdk.org (localhost [127.0.0.1])
	by mails.dpdk.org (Postfix) with ESMTP id 0D61F40E54;
	Tue, 23 Apr 2024 12:24:23 +0200 (CEST)
Received: from mail-oo1-f97.google.com (mail-oo1-f97.google.com
 [209.85.161.97]) by mails.dpdk.org (Postfix) with ESMTP id 70805402AB
 for <test-report@dpdk.org>; Tue, 23 Apr 2024 12:24:19 +0200 (CEST)
Received: by mail-oo1-f97.google.com with SMTP id
 006d021491bc7-5acf5c1a2f5so3764217eaf.0
 for <test-report@dpdk.org>; Tue, 23 Apr 2024 03:24:19 -0700 (PDT)
DKIM-Signature: v=1; a=rsa-sha256; c=relaxed/relaxed;
 d=iol.unh.edu; s=unh-iol; t=1713867859; x=1714472659; darn=dpdk.org;
 h=references:in-reply-to:cc:to:from:subject:message-id:date:from:to
 :cc:subject:date:message-id:reply-to;
 bh=NAdw/EakFCAZunax9Eapjs085de4s/XneWpqzpXmH8I=;
 b=CXkXsyEAbnb9XxmUmPH4KiRRMzCEwKrLutaDbht2MQb9bB5FbeyKVw905YEG8aiI7+
 iaySeDKBKsY8rzqfaQMFNOGihoY9vMITsW0Qv3dEj7PR/xqTQX8g9C4A2hFbocV+OWeu
 j/99y3OCyO23Qm/YV+49mFyLzQHv6eQH9cfwI=
X-Google-DKIM-Signature: v=1; a=rsa-sha256; c=relaxed/relaxed;
 d=1e100.net; s=20230601; t=1713867859; x=1714472659;
 h=references:in-reply-to:cc:to:from:subject:message-id:date
 :x-gm-message-state:from:to:cc:subject:date:message-id:reply-to;
 bh=NAdw/EakFCAZunax9Eapjs085de4s/XneWpqzpXmH8I=;
 b=PzXiReWZ4ZWxQKe8WOqwdqXzP3NZw+xYIv4tIJGoKgNJXt2md1lFQOOPnnPeLiH9DW
 on6HsoAZ/cWhIllnXTgoIPbcgKnjIE4MrI2L22chXfd3aKTDOwsIuoj1esejbGBh1/zl
 y0Ge8h+fHsKLSLfle5K44N9+ezPjf6MWwSB+V09Utl1uVeacc4KGBnya0HT1SgQbxb9d
 UAlboUHaKG3AoBLvpi3cuPNMhNxeOhRDAP/NXQ3cxQj8p8zrp25qtkW/ozmkq0Hzs9j0
 WZBu/w18y8YBM6IQ3iNgJ1dbY7Q6VlqbMRVlXcdliTmlkXuoTJxKZg9qoCX1NCdagQKY
 +E0g==
X-Gm-Message-State: AOJu0YyABGcM5Di8vV6fmWZcP33t47Hrny2M1uocg7plMxc/ej1nK0X/
 ZuywVbFaEPr5GIYRHW6XsyYNHTe4lvC3QEeiFt9dlQHV3cYCzsY9qNI5HVPUJ1geYZP22YJLvKF
 aFdY/epq4fuH5X+48cRDmKpckxS709aForSwjtC1g
X-Google-Smtp-Source: AGHT+IHX5YuXVfl9WXU4NYU/63DB1k9OAYXkRtMHyJZ7RpVelFjJkEOa4DB97KwGa8bHZiA7aylNFJI5+XTl
X-Received: by 2002:a05:6820:1f89:b0:5ad:ec5:6d82 with SMTP id
 eq9-20020a0568201f8900b005ad0ec56d82mr12112867oob.0.1713867858852; 
 Tue, 23 Apr 2024 03:24:18 -0700 (PDT)
Received: from postal.iol.unh.edu (postal.iol.unh.edu. [132.177.123.84])
 by smtp-relay.gmail.com with ESMTPS id
 b14-20020a4a98ce000000b005aa37eeed13sm916909ooj.14.2024.04.23.03.24.18
 (version=TLS1_2 cipher=ECDHE-ECDSA-AES128-GCM-SHA256 bits=128/128);
 Tue, 23 Apr 2024 03:24:18 -0700 (PDT)
X-Relaying-Domain: iol.unh.edu
Date: Tue, 23 Apr 2024 03:24:18 -0700 (PDT)
Message-ID: <66278c52.4a0a0220.4d726.5cc9SMTPIN_ADDED_MISSING@mx.google.com>
Received: from [172.21.0.6] (unknown [172.18.0.240])
 by postal.iol.unh.edu (Postfix) with ESMTP id 54B726052514;
 Tue, 23 Apr 2024 06:24:18 -0400 (EDT)
Subject: |SUCCESS| pw139637-139640 [PATCH] [v1,4/4] dts: refine pre-test setu
From: dpdklab@iol.unh.edu
To: Test Report <test-report@dpdk.org>
Cc: dpdk-test-reports@iol.unh.edu
In-Reply-To: <20240423091252.62924-5-juraj.linkes@pantheon.tech>
References: <20240423091252.62924-5-juraj.linkes@pantheon.tech>
Content-Type: text/plain
X-BeenThere: test-report@dpdk.org
X-Mailman-Version: 2.1.29
Precedence: list
List-Id: automatic DPDK test reports <test-report.dpdk.org>
List-Unsubscribe: <https://mails.dpdk.org/options/test-report>,
 <mailto:test-report-request@dpdk.org?subject=unsubscribe>
List-Archive: <http://mails.dpdk.org/archives/test-report/>
List-Post: <mailto:test-report@dpdk.org>
List-Help: <mailto:test-report-request@dpdk.org?subject=help>
List-Subscribe: <https://mails.dpdk.org/listinfo/test-report>,
 <mailto:test-report-request@dpdk.org?subject=subscribe>
Errors-To: test-report-bounces@dpdk.org

Test-Label: iol-compile-arm64-testing
Test-Status: SUCCESS
http://dpdk.org/patch/139640

_Testing PASS_

Submitter: Juraj Linkes <juraj.linkes@pantheon.tech>
Date: Tuesday, April 23 2024 09:12:52 
DPDK git baseline: Repo:dpdk
  Branch: master
  CommitID:7e06c0de1952d3109a5b0c4779d7e7d8059c9d78

139637-139640 --> testing pass

Test environment and result as below:

+--------------------------------------+--------------------+
|             Environment              | dpdk_meson_compile |
+======================================+====================+
| Ubuntu 20.04 ARM SVE                 | PASS               |
+--------------------------------------+--------------------+
| Debian 12 with MUSDK                 | PASS               |
+--------------------------------------+--------------------+
| Fedora 37 (ARM)                      | PASS               |
+--------------------------------------+--------------------+
| Fedora 38 (ARM)                      | PASS               |
+--------------------------------------+--------------------+
| Fedora 39 (ARM)                      | PASS               |
+--------------------------------------+--------------------+
| Debian 11 (Buster) (ARM)             | PASS               |
+--------------------------------------+--------------------+
| Debian 12 (arm)                      | PASS               |
+--------------------------------------+--------------------+
| Ubuntu 20.04 (ARM)                   | PASS               |
+--------------------------------------+--------------------+
| CentOS Stream 9 (ARM)                | PASS               |
+--------------------------------------+--------------------+
| Ubuntu 20.04 ARM Clang Cross Compile | PASS               |
+--------------------------------------+--------------------+


Ubuntu 20.04 ARM SVE
	Kernel: 5.4.0-167-generic
	Compiler: gcc (Ubuntu 10.5.0-1ubuntu1~20.04) 10.5.0

Debian 12 with MUSDK
	Kernel: Container Host Kernel
	Compiler: gcc 12.2.0

Fedora 37 (ARM)
	Kernel: Depends on container host
	Compiler: gcc 12.3.1

Fedora 38 (ARM)
	Kernel: Depends on container host
	Compiler: gcc 13.2.1

Fedora 39 (ARM)
	Kernel: Depends on container host
	Compiler: gcc 13.2.1

Debian 11 (Buster) (ARM)
	Kernel: Container Host Kernel
	Compiler: gcc 10.2.1

Debian 12 (arm)
	Kernel: Container Host Kernel
	Compiler: gcc 12.2.0

Ubuntu 20.04 (ARM)
	Kernel: Container Host Kernel
	Compiler: gcc 9.4.0

CentOS Stream 9 (ARM)
	Kernel: Container Host Kernel
	Compiler: gcc 11.4.1

Ubuntu 20.04 ARM Clang Cross Compile
	Kernel: 5.4.0-72-generic
	Compiler: clang 10.0.0-4ubuntu1

To view detailed results, visit:
https://lab.dpdk.org/results/dashboard/patchsets/29843/

UNH-IOL DPDK Community Lab

To manage your email subscriptions, visit: 
https://lab.dpdk.org/results/dashboard/preferences/subscriptions/