From mboxrd@z Thu Jan  1 00:00:00 1970
Return-Path: <test-report-bounces@dpdk.org>
Received: from mails.dpdk.org (mails.dpdk.org [217.70.189.124])
	by inbox.dpdk.org (Postfix) with ESMTP id 280DA43E98
	for <public@inbox.dpdk.org>; Tue, 23 Apr 2024 12:50:59 +0200 (CEST)
Received: from mails.dpdk.org (localhost [127.0.0.1])
	by mails.dpdk.org (Postfix) with ESMTP id 22E4C40E54;
	Tue, 23 Apr 2024 12:50:59 +0200 (CEST)
Received: from mail-io1-f99.google.com (mail-io1-f99.google.com
 [209.85.166.99]) by mails.dpdk.org (Postfix) with ESMTP id 27D5D402AB
 for <test-report@dpdk.org>; Tue, 23 Apr 2024 12:50:52 +0200 (CEST)
Received: by mail-io1-f99.google.com with SMTP id
 ca18e2360f4ac-7d6a772af5bso200296839f.1
 for <test-report@dpdk.org>; Tue, 23 Apr 2024 03:50:52 -0700 (PDT)
DKIM-Signature: v=1; a=rsa-sha256; c=relaxed/relaxed;
 d=iol.unh.edu; s=unh-iol; t=1713869451; x=1714474251; darn=dpdk.org;
 h=references:in-reply-to:cc:to:from:subject:message-id:date:from:to
 :cc:subject:date:message-id:reply-to;
 bh=84C4eMBY98irFnSNOrBhfgGKnYPYNElktRC9zTGwUTQ=;
 b=Lwzy5tsT+yQh8OR4hg31Ka9mwfE5zm+ENzk0kgmNfENW1rKJ33EuNHQNOhFs2uXCoC
 4hlcKCMpYYgTEZ4y2xxtBA4LDLyTnxa5+IzT9UhdA7DEYgPJAPFJ83fcTI5e3OHIHO+u
 0oJbK1uwcytGmbvYX+r+lF+SrZ7w6QSglfm6U=
X-Google-DKIM-Signature: v=1; a=rsa-sha256; c=relaxed/relaxed;
 d=1e100.net; s=20230601; t=1713869451; x=1714474251;
 h=references:in-reply-to:cc:to:from:subject:message-id:date
 :x-gm-message-state:from:to:cc:subject:date:message-id:reply-to;
 bh=84C4eMBY98irFnSNOrBhfgGKnYPYNElktRC9zTGwUTQ=;
 b=gy3As2x+ZpjLSTBd+v4cj02ZswSRSBuX7kqm7i8IygAC/MapHZ5nY43dlrMtLkoTgy
 YKVYcePdRtOWKo0xIJmem2w5VKbQXi1YvYnoYOkSGNmi7hsdGXPgxzsnVCJNEgl/R9QX
 F7+/kj/7zgt7KpXUOy5PYx0qeOKv1FcXBuBUxv8gcX9R/shVjN+nDQ8U1R2eBh4aFDl8
 eBlpdK8lms6IgNwvA84x1zWZ6WIl/ee0aAc5RxrH5L/RUHxRv+wAm62ObX82muEq18cc
 A24Gkuv61b8cnDBFr+RzrSItWuXknJlB30K4kaZpPczChL1qqyQ0zOhNvV7vRrswU5+5
 4caQ==
X-Gm-Message-State: AOJu0YzdGYhM6wKAqUkeyaK7tUrKPCs5NLrfzBO32jqvhxrQlG+Idj/c
 uJ9tyXhCsbdf7lMpCfnFSfATGFDgb7H10x6TgEwNtMynJXgN7sx1TBngScX69ouZjQRSwVTN15t
 GQRXIx73oZwvDc4KQVA8aP90wb/7GzWvlv/HaqvC4uwdHUsh8MuRZBM+s
X-Google-Smtp-Source: AGHT+IHASLYFA9TfENlNjd9TzbC+2SI2l1iTLMQhKydmGMrxwoNnpe84xI3K5wQj6/5eJyBs4cyE601HGmDu
X-Received: by 2002:a5d:9058:0:b0:7d6:6405:fe11 with SMTP id
 v24-20020a5d9058000000b007d66405fe11mr13756474ioq.3.1713869451604; 
 Tue, 23 Apr 2024 03:50:51 -0700 (PDT)
Received: from postal.iol.unh.edu (postal.iol.unh.edu.
 [2606:4100:3880:1234::84]) by smtp-relay.gmail.com with ESMTPS id
 a19-20020a056638165300b004853c0e148bsm257820jat.59.2024.04.23.03.50.51
 (version=TLS1_2 cipher=ECDHE-ECDSA-AES128-GCM-SHA256 bits=128/128);
 Tue, 23 Apr 2024 03:50:51 -0700 (PDT)
X-Relaying-Domain: iol.unh.edu
Date: Tue, 23 Apr 2024 03:50:51 -0700 (PDT)
Message-ID: <6627928b.050a0220.670ec.f268SMTPIN_ADDED_MISSING@mx.google.com>
Received: from [172.21.0.6] (unknown [172.18.0.240])
 by postal.iol.unh.edu (Postfix) with ESMTP id BED716052514;
 Tue, 23 Apr 2024 06:50:50 -0400 (EDT)
Subject: |SUCCESS| pw139637-139640 [PATCH] [v1,4/4] dts: refine pre-test setu
From: dpdklab@iol.unh.edu
To: Test Report <test-report@dpdk.org>
Cc: dpdk-test-reports@iol.unh.edu
In-Reply-To: <20240423091252.62924-5-juraj.linkes@pantheon.tech>
References: <20240423091252.62924-5-juraj.linkes@pantheon.tech>
Content-Type: text/plain
X-BeenThere: test-report@dpdk.org
X-Mailman-Version: 2.1.29
Precedence: list
List-Id: automatic DPDK test reports <test-report.dpdk.org>
List-Unsubscribe: <https://mails.dpdk.org/options/test-report>,
 <mailto:test-report-request@dpdk.org?subject=unsubscribe>
List-Archive: <http://mails.dpdk.org/archives/test-report/>
List-Post: <mailto:test-report@dpdk.org>
List-Help: <mailto:test-report-request@dpdk.org?subject=help>
List-Subscribe: <https://mails.dpdk.org/listinfo/test-report>,
 <mailto:test-report-request@dpdk.org?subject=subscribe>
Errors-To: test-report-bounces@dpdk.org

Test-Label: iol-compile-arm64-testing
Test-Status: SUCCESS
http://dpdk.org/patch/139640

_Testing PASS_

Submitter: Juraj Linkes <juraj.linkes@pantheon.tech>
Date: Tuesday, April 23 2024 09:12:52 
DPDK git baseline: Repo:dpdk
  Branch: master
  CommitID:7e06c0de1952d3109a5b0c4779d7e7d8059c9d78

139637-139640 --> testing pass

Test environment and result as below:

+----------------------------------------+--------------------+
|              Environment               | dpdk_meson_compile |
+========================================+====================+
| Ubuntu 20.04 ARM SVE                   | PASS               |
+----------------------------------------+--------------------+
| Debian 12 with MUSDK                   | PASS               |
+----------------------------------------+--------------------+
| Fedora 37 (ARM)                        | PASS               |
+----------------------------------------+--------------------+
| Fedora 38 (ARM)                        | PASS               |
+----------------------------------------+--------------------+
| Fedora 39 (ARM)                        | PASS               |
+----------------------------------------+--------------------+
| Debian 11 (Buster) (ARM)               | PASS               |
+----------------------------------------+--------------------+
| Debian 12 (arm)                        | PASS               |
+----------------------------------------+--------------------+
| Ubuntu 20.04 (ARM)                     | PASS               |
+----------------------------------------+--------------------+
| CentOS Stream 9 (ARM)                  | PASS               |
+----------------------------------------+--------------------+
| Ubuntu 20.04 ARM Clang Cross Compile   | PASS               |
+----------------------------------------+--------------------+
| Ubuntu 20.04 aarch32 GCC Cross Compile | PASS               |
+----------------------------------------+--------------------+
| Ubuntu 20.04 ARM GCC Cross Compile     | PASS               |
+----------------------------------------+--------------------+


Ubuntu 20.04 ARM SVE
	Kernel: 5.4.0-167-generic
	Compiler: gcc (Ubuntu 10.5.0-1ubuntu1~20.04) 10.5.0

Debian 12 with MUSDK
	Kernel: Container Host Kernel
	Compiler: gcc 12.2.0

Fedora 37 (ARM)
	Kernel: Depends on container host
	Compiler: gcc 12.3.1

Fedora 38 (ARM)
	Kernel: Depends on container host
	Compiler: gcc 13.2.1

Fedora 39 (ARM)
	Kernel: Depends on container host
	Compiler: gcc 13.2.1

Debian 11 (Buster) (ARM)
	Kernel: Container Host Kernel
	Compiler: gcc 10.2.1

Debian 12 (arm)
	Kernel: Container Host Kernel
	Compiler: gcc 12.2.0

Ubuntu 20.04 (ARM)
	Kernel: Container Host Kernel
	Compiler: gcc 9.4.0

CentOS Stream 9 (ARM)
	Kernel: Container Host Kernel
	Compiler: gcc 11.4.1

Ubuntu 20.04 ARM Clang Cross Compile
	Kernel: 5.4.0-72-generic
	Compiler: clang 10.0.0-4ubuntu1

Ubuntu 20.04 aarch32 GCC Cross Compile
	Kernel: 5.4.0-167-generic
	Compiler: gcc 9.4.0

Ubuntu 20.04 ARM GCC Cross Compile
	Kernel: 5.4.0-167-generic
	Compiler: aarch64-linux-gnu-gcc (Ubuntu 9.4.0-1ubuntu1~20.04.2) 9.4.0

To view detailed results, visit:
https://lab.dpdk.org/results/dashboard/patchsets/29843/

UNH-IOL DPDK Community Lab

To manage your email subscriptions, visit: 
https://lab.dpdk.org/results/dashboard/preferences/subscriptions/