From mboxrd@z Thu Jan  1 00:00:00 1970
Return-Path: <test-report-bounces@dpdk.org>
Received: from mails.dpdk.org (mails.dpdk.org [217.70.189.124])
	by inbox.dpdk.org (Postfix) with ESMTP id 8578C43E82
	for <public@inbox.dpdk.org>; Tue, 23 Apr 2024 12:57:01 +0200 (CEST)
Received: from mails.dpdk.org (localhost [127.0.0.1])
	by mails.dpdk.org (Postfix) with ESMTP id 807C540E54;
	Tue, 23 Apr 2024 12:57:01 +0200 (CEST)
Received: from mail-io1-f98.google.com (mail-io1-f98.google.com
 [209.85.166.98]) by mails.dpdk.org (Postfix) with ESMTP id D7F5B402AB
 for <test-report@dpdk.org>; Tue, 23 Apr 2024 12:56:59 +0200 (CEST)
Received: by mail-io1-f98.google.com with SMTP id
 ca18e2360f4ac-7d86adab5a7so252204439f.3
 for <test-report@dpdk.org>; Tue, 23 Apr 2024 03:56:59 -0700 (PDT)
DKIM-Signature: v=1; a=rsa-sha256; c=relaxed/relaxed;
 d=iol.unh.edu; s=unh-iol; t=1713869819; x=1714474619; darn=dpdk.org;
 h=references:in-reply-to:cc:to:from:subject:message-id:date:from:to
 :cc:subject:date:message-id:reply-to;
 bh=ZwbRTUHd8dusMyJF5E5VYkvnhWBHkDNcFkhHA/zQsq4=;
 b=ia/WuZ7G5WnJa5UIvUvtcg05bUNsIoD3YaerVuDxq4gp+5UtQ86TcYOPigCbTpC3hq
 ndM0suL9h6jf6PQoOEv9Gcrj0yMZ7TuzpHwHYZhsQJAc4lhqfrtN6rXz3sTCJ5pNVp0v
 F+XUYKR4Bl9VvKXbV6kltEPK7SgmWLQSB2ZRg=
X-Google-DKIM-Signature: v=1; a=rsa-sha256; c=relaxed/relaxed;
 d=1e100.net; s=20230601; t=1713869819; x=1714474619;
 h=references:in-reply-to:cc:to:from:subject:message-id:date
 :x-gm-message-state:from:to:cc:subject:date:message-id:reply-to;
 bh=ZwbRTUHd8dusMyJF5E5VYkvnhWBHkDNcFkhHA/zQsq4=;
 b=qApM7/RZIm+4+vPOWXC/PrxhtttBShUrYc9Zmq3gVn6PGeBFy/TR4Jo13sO4VSIu6j
 QR2u8ja0OZSmrn5pSwgz7wqmhDoVVhZyYqIRIHZWpbkEXrWxYznPoHC+GG595q87Q2GB
 qXW4gIBGF0LlMpqM72ygpuZR0PF5JkR/bOyieaDPKYKJ7ekKij4udgXqe6ez7Lyhiwxm
 5jYxnjhkD2VpNbLAzTBsvAxN4NioAXBhza7JfsnnXhIZc9oUXwXi6rl2QaDHlCjAauX/
 j9MYW8zge2zEPJ+DR8UyR3/WUl7SxC8DY9BzuCppbi6+nDlF6IwX6ArG4Afn9sm/Rp2F
 UUPw==
X-Gm-Message-State: AOJu0YzW6hO41T81MVIPMoozUo+OMns45WaJnhSGmQOLXtVS+EfSrw51
 G0AtQBijouDva9c75c7l+UWf7rXydPJf2VIPhazst4azdA83ULQxlKcjkkLe5z2Pmqi+07LfBeT
 GNHLsj4Sdr+5QMhK7MHO0Z4XaXAU/xtDpvQhpdFUK
X-Google-Smtp-Source: AGHT+IERFcybERrU+9Hu+l4MLDR8jH5IFxgM9yzarIxG1t58JQOWhx09qqJSN1TdaXNMChMh0eE20FfyoeUH
X-Received: by 2002:a05:6602:19c4:b0:7da:a00d:8b55 with SMTP id
 ba4-20020a05660219c400b007daa00d8b55mr9380000iob.17.1713869819272; 
 Tue, 23 Apr 2024 03:56:59 -0700 (PDT)
Received: from postal.iol.unh.edu (postal.iol.unh.edu. [132.177.123.84])
 by smtp-relay.gmail.com with ESMTPS id
 iq24-20020a056638841800b004849fb8eeaasm749123jab.52.2024.04.23.03.56.59
 (version=TLS1_2 cipher=ECDHE-ECDSA-AES128-GCM-SHA256 bits=128/128);
 Tue, 23 Apr 2024 03:56:59 -0700 (PDT)
X-Relaying-Domain: iol.unh.edu
Date: Tue, 23 Apr 2024 03:56:59 -0700 (PDT)
Message-ID: <662793fb.050a0220.f542f.9eb2SMTPIN_ADDED_MISSING@mx.google.com>
Received: from [172.21.0.6] (unknown [172.18.0.240])
 by postal.iol.unh.edu (Postfix) with ESMTP id E3B026052514;
 Tue, 23 Apr 2024 06:56:58 -0400 (EDT)
Subject: |SUCCESS| pw139637-139640 [PATCH] [v1,4/4] dts: refine pre-test setu
From: dpdklab@iol.unh.edu
To: Test Report <test-report@dpdk.org>
Cc: dpdk-test-reports@iol.unh.edu
In-Reply-To: <20240423091252.62924-5-juraj.linkes@pantheon.tech>
References: <20240423091252.62924-5-juraj.linkes@pantheon.tech>
Content-Type: text/plain
X-BeenThere: test-report@dpdk.org
X-Mailman-Version: 2.1.29
Precedence: list
List-Id: automatic DPDK test reports <test-report.dpdk.org>
List-Unsubscribe: <https://mails.dpdk.org/options/test-report>,
 <mailto:test-report-request@dpdk.org?subject=unsubscribe>
List-Archive: <http://mails.dpdk.org/archives/test-report/>
List-Post: <mailto:test-report@dpdk.org>
List-Help: <mailto:test-report-request@dpdk.org?subject=help>
List-Subscribe: <https://mails.dpdk.org/listinfo/test-report>,
 <mailto:test-report-request@dpdk.org?subject=subscribe>
Errors-To: test-report-bounces@dpdk.org

Test-Label: iol-compile-amd64-testing
Test-Status: SUCCESS
http://dpdk.org/patch/139640

_Testing PASS_

Submitter: Juraj Linkes <juraj.linkes@pantheon.tech>
Date: Tuesday, April 23 2024 09:12:52 
DPDK git baseline: Repo:dpdk
  Branch: master
  CommitID:7e06c0de1952d3109a5b0c4779d7e7d8059c9d78

139637-139640 --> testing pass

Test environment and result as below:

+---------------------+--------------------+----------------------+-------------------+
|     Environment     | dpdk_meson_compile | dpdk_mingw64_compile | dpdk_msvc_compile |
+=====================+====================+======================+===================+
| FreeBSD 13.2        | PASS               | SKIPPED              | SKIPPED           |
+---------------------+--------------------+----------------------+-------------------+
| Windows Server 2019 | PASS               | PASS                 | SKIPPED           |
+---------------------+--------------------+----------------------+-------------------+
| Windows Server 2022 | PASS               | PASS                 | PASS              |
+---------------------+--------------------+----------------------+-------------------+
| Debian Bullseye     | PASS               | SKIPPED              | SKIPPED           |
+---------------------+--------------------+----------------------+-------------------+
| CentOS Stream 8     | PASS               | SKIPPED              | SKIPPED           |
+---------------------+--------------------+----------------------+-------------------+
| CentOS Stream 9     | PASS               | SKIPPED              | SKIPPED           |
+---------------------+--------------------+----------------------+-------------------+
| Debian 12           | PASS               | SKIPPED              | SKIPPED           |
+---------------------+--------------------+----------------------+-------------------+
| Fedora 37           | PASS               | SKIPPED              | SKIPPED           |
+---------------------+--------------------+----------------------+-------------------+
| Fedora 39           | PASS               | SKIPPED              | SKIPPED           |
+---------------------+--------------------+----------------------+-------------------+
| Fedora 38           | PASS               | SKIPPED              | SKIPPED           |
+---------------------+--------------------+----------------------+-------------------+
| Alpine              | PASS               | SKIPPED              | SKIPPED           |
+---------------------+--------------------+----------------------+-------------------+
| Ubuntu 22.04        | PASS               | SKIPPED              | SKIPPED           |
+---------------------+--------------------+----------------------+-------------------+
| openSUSE Leap 15    | PASS               | SKIPPED              | SKIPPED           |
+---------------------+--------------------+----------------------+-------------------+
| RHEL8               | PASS               | SKIPPED              | SKIPPED           |
+---------------------+--------------------+----------------------+-------------------+
| Ubuntu 20.04        | PASS               | SKIPPED              | SKIPPED           |
+---------------------+--------------------+----------------------+-------------------+


FreeBSD 13.2
	Kernel: 13.2
	Compiler: clang 14.0.5

Windows Server 2019
	Kernel: 10.0.17763
	Compiler: clang 14.0 and gcc 8.1.0 (MinGW)

Windows Server 2022
	Kernel: 10.0.20348.2031
	Compiler: clang 15.0.7, gcc 8.1.0 (MinGW), and MSVC VS 17.9

Debian Bullseye
	Kernel: 5.4.0-167-generic
	Compiler: gcc 10.2.1-6

CentOS Stream 8
	Kernel: 5.4.0-167-generic
	Compiler: gcc 8.5.0 20210514

CentOS Stream 9
	Kernel: 5.4.0-167-generic
	Compiler: gcc 11.4.1 20230605

Debian 12
	Kernel: Container Host Kernel
	Compiler: gcc 10.2.1

Fedora 37
	Kernel: Depends on container host system
	Compiler: gcc 12.3.1

Fedora 39
	Kernel: Depends on container host
	Compiler: gcc 13.2.1

Fedora 38
	Kernel: Depends on container host
	Compiler: gcc 13.2.1

Alpine
	Kernel: 5.4.0-167-generic
	Compiler: gcc (Alpine 12.2.1_git20220924-r10) 12.2.1 20220924

Ubuntu 22.04
	Kernel: 5.4.0-167-generic
	Compiler: gcc 11.4.0

openSUSE Leap 15
	Kernel: 5.4.0-167-generic
	Compiler: gcc 7.5.0

RHEL8
	Kernel: 5.4.0-167-generic
	Compiler: gcc 8.5.0 20210514 (Red Hat 8.5.0-20)

Ubuntu 20.04
	Kernel: 5.4.0-167-generic
	Compiler: gcc 9.4.0-1ubuntu1~20.04.1

To view detailed results, visit:
https://lab.dpdk.org/results/dashboard/patchsets/29843/

UNH-IOL DPDK Community Lab

To manage your email subscriptions, visit: 
https://lab.dpdk.org/results/dashboard/preferences/subscriptions/