From mboxrd@z Thu Jan  1 00:00:00 1970
Return-Path: <test-report-bounces@dpdk.org>
Received: from mails.dpdk.org (mails.dpdk.org [217.70.189.124])
	by inbox.dpdk.org (Postfix) with ESMTP id 512EC43EE9
	for <public@inbox.dpdk.org>; Tue, 23 Apr 2024 13:06:57 +0200 (CEST)
Received: from mails.dpdk.org (localhost [127.0.0.1])
	by mails.dpdk.org (Postfix) with ESMTP id 4910A40E54;
	Tue, 23 Apr 2024 13:06:57 +0200 (CEST)
Received: from mail-qk1-f225.google.com (mail-qk1-f225.google.com
 [209.85.222.225])
 by mails.dpdk.org (Postfix) with ESMTP id 41D3C402AB
 for <test-report@dpdk.org>; Tue, 23 Apr 2024 13:06:56 +0200 (CEST)
Received: by mail-qk1-f225.google.com with SMTP id
 af79cd13be357-78efd1a0022so411869185a.3
 for <test-report@dpdk.org>; Tue, 23 Apr 2024 04:06:56 -0700 (PDT)
DKIM-Signature: v=1; a=rsa-sha256; c=relaxed/relaxed;
 d=iol.unh.edu; s=unh-iol; t=1713870415; x=1714475215; darn=dpdk.org;
 h=references:in-reply-to:cc:to:from:subject:message-id:date:from:to
 :cc:subject:date:message-id:reply-to;
 bh=ELSaARqhajvwMbE5W+hUKgSPczpznre8X4ky8075OTc=;
 b=FZlzL3ezZzXPAlCU9sVo4jW8k1+ANQQGdcvPTvjsxz8ObUupkfOCrFgHMXuYlUOYCq
 psEsq+VcP0xsE/jvPXYpoJy31vmM6UYU3NLerxLE7r1PlBIvpo2flhM7MCv7YWX0r7dQ
 bWFX5RvljVkqZ8f/6Gpqy5TBchLgguxIb+PaA=
X-Google-DKIM-Signature: v=1; a=rsa-sha256; c=relaxed/relaxed;
 d=1e100.net; s=20230601; t=1713870415; x=1714475215;
 h=references:in-reply-to:cc:to:from:subject:message-id:date
 :x-gm-message-state:from:to:cc:subject:date:message-id:reply-to;
 bh=ELSaARqhajvwMbE5W+hUKgSPczpznre8X4ky8075OTc=;
 b=SDC7udOcWosJGjT7qGjRcjgTulCnLeWf1+NwALC/Rxjm+4GpPF12iqO90kKodfdYd2
 x/33f/1saBvFbw2/aRmFDohR6rN94TbNYnk+1Q1ZuPZAXqjWunihpTeA82TUY9c3zaPw
 gzG9SmCrSqZS5mXMhiTeCLmMsM9K0JDMRcstRNqMzWCatS7fZ3MZakU9Rfw6RWThO9Nu
 XLgypgYTqEjTLwhPunUhyqk/MQxhQwgwTGduHXCZU2DvPkUIUgPeewD8Pfj1i0Q1TZVr
 pC+p86DDnYismsHQMpk0l54gj2wHV7q0ecI61NXOXf7CpHD2a0h1U+NJ3/Ngb4QZ14Bp
 Hn5w==
X-Gm-Message-State: AOJu0YzlrDkkisYJtL6h4LsYnurwkW5zUKb50mFH7K4AgMGftg5y9dOm
 E2yhBMXvJRLlaojcqufTWzbR9uiQ+q4JWBziJiGRuoWoZ82Gbx5UlyhfXBlmMBeESZjuUpZtGgQ
 eyrM2+ruYkGvaTHQhoycoD8GnlyPXh+VzaX95EbFY
X-Google-Smtp-Source: AGHT+IFtRQAqF1aMXU9VBWiJuq1NYLKVJr1Lri1e7uUROOoClG+VzG83anyC8o8pQN08Npz2ooW6qNcTdyXu
X-Received: by 2002:a0c:f314:0:b0:6a0:7c5f:2c0e with SMTP id
 j20-20020a0cf314000000b006a07c5f2c0emr7747925qvl.19.1713870415697; 
 Tue, 23 Apr 2024 04:06:55 -0700 (PDT)
Received: from postal.iol.unh.edu (postal.iol.unh.edu. [132.177.123.84])
 by smtp-relay.gmail.com with ESMTPS id
 jk10-20020ad45d4a000000b0069b0f33e71esm811128qvb.50.2024.04.23.04.06.55
 (version=TLS1_2 cipher=ECDHE-ECDSA-AES128-GCM-SHA256 bits=128/128);
 Tue, 23 Apr 2024 04:06:55 -0700 (PDT)
X-Relaying-Domain: iol.unh.edu
Date: Tue, 23 Apr 2024 04:06:55 -0700 (PDT)
Message-ID: <6627964f.d40a0220.26874.eaa0SMTPIN_ADDED_MISSING@mx.google.com>
Received: from [172.21.0.6] (unknown [172.18.0.240])
 by postal.iol.unh.edu (Postfix) with ESMTP id 576B46052514;
 Tue, 23 Apr 2024 07:06:55 -0400 (EDT)
Subject: |SUCCESS| pw139641 [PATCH] net/af_packet: cache align Rx/Tx structs
From: dpdklab@iol.unh.edu
To: Test Report <test-report@dpdk.org>
Cc: dpdk-test-reports@iol.unh.edu
In-Reply-To: <20240423090813.94110-1-mattias.ronnblom@ericsson.com>
References: <20240423090813.94110-1-mattias.ronnblom@ericsson.com>
Content-Type: text/plain
X-BeenThere: test-report@dpdk.org
X-Mailman-Version: 2.1.29
Precedence: list
List-Id: automatic DPDK test reports <test-report.dpdk.org>
List-Unsubscribe: <https://mails.dpdk.org/options/test-report>,
 <mailto:test-report-request@dpdk.org?subject=unsubscribe>
List-Archive: <http://mails.dpdk.org/archives/test-report/>
List-Post: <mailto:test-report@dpdk.org>
List-Help: <mailto:test-report-request@dpdk.org?subject=help>
List-Subscribe: <https://mails.dpdk.org/listinfo/test-report>,
 <mailto:test-report-request@dpdk.org?subject=subscribe>
Errors-To: test-report-bounces@dpdk.org

Test-Label: iol-abi-testing
Test-Status: SUCCESS
http://dpdk.org/patch/139641

_Testing PASS_

Submitter: Mattias Ronnblom <mattias.ronnblom@ericsson.com>
Date: Tuesday, April 23 2024 09:08:13 
DPDK git baseline: Repo:dpdk
  Branch: master
  CommitID:8841786ab4aa72d205f97528af8708a13a851f4f

139641 --> testing pass

Test environment and result as below:

+------------------+----------+
|   Environment    | abi_test |
+==================+==========+
| Fedora 39        | PASS     |
+------------------+----------+
| Fedora 37        | PASS     |
+------------------+----------+
| Debian Bullseye  | PASS     |
+------------------+----------+
| openSUSE Leap 15 | PASS     |
+------------------+----------+
| CentOS Stream 8  | PASS     |
+------------------+----------+
| Fedora 38        | PASS     |
+------------------+----------+
| CentOS Stream 9  | PASS     |
+------------------+----------+
| Debian 12        | PASS     |
+------------------+----------+
| Ubuntu 22.04     | PASS     |
+------------------+----------+
| RHEL8            | PASS     |
+------------------+----------+


Fedora 39
	Kernel: Depends on container host
	Compiler: gcc 13.2.1

Fedora 37
	Kernel: Depends on container host system
	Compiler: gcc 12.3.1

Debian Bullseye
	Kernel: 5.4.0-167-generic
	Compiler: gcc 10.2.1-6

openSUSE Leap 15
	Kernel: 5.4.0-167-generic
	Compiler: gcc 7.5.0

CentOS Stream 8
	Kernel: 5.4.0-167-generic
	Compiler: gcc 8.5.0 20210514

Fedora 38
	Kernel: Depends on container host
	Compiler: gcc 13.2.1

CentOS Stream 9
	Kernel: 5.4.0-167-generic
	Compiler: gcc 11.4.1 20230605

Debian 12
	Kernel: Container Host Kernel
	Compiler: gcc 10.2.1

Ubuntu 22.04
	Kernel: 5.4.0-167-generic
	Compiler: gcc 11.4.0

RHEL8
	Kernel: 5.4.0-167-generic
	Compiler: gcc 8.5.0 20210514 (Red Hat 8.5.0-20)

To view detailed results, visit:
https://lab.dpdk.org/results/dashboard/patchsets/29844/

UNH-IOL DPDK Community Lab

To manage your email subscriptions, visit: 
https://lab.dpdk.org/results/dashboard/preferences/subscriptions/