From mboxrd@z Thu Jan  1 00:00:00 1970
Return-Path: <test-report-bounces@dpdk.org>
Received: from mails.dpdk.org (mails.dpdk.org [217.70.189.124])
	by inbox.dpdk.org (Postfix) with ESMTP id 3174443EE9
	for <public@inbox.dpdk.org>; Tue, 23 Apr 2024 13:36:59 +0200 (CEST)
Received: from mails.dpdk.org (localhost [127.0.0.1])
	by mails.dpdk.org (Postfix) with ESMTP id 2DBD240E54;
	Tue, 23 Apr 2024 13:36:59 +0200 (CEST)
Received: from mail-yw1-f225.google.com (mail-yw1-f225.google.com
 [209.85.128.225])
 by mails.dpdk.org (Postfix) with ESMTP id 58069402AB
 for <test-report@dpdk.org>; Tue, 23 Apr 2024 13:36:57 +0200 (CEST)
Received: by mail-yw1-f225.google.com with SMTP id
 00721157ae682-6164d7a02d2so64121497b3.3
 for <test-report@dpdk.org>; Tue, 23 Apr 2024 04:36:57 -0700 (PDT)
DKIM-Signature: v=1; a=rsa-sha256; c=relaxed/relaxed;
 d=iol.unh.edu; s=unh-iol; t=1713872217; x=1714477017; darn=dpdk.org;
 h=references:in-reply-to:cc:to:from:subject:message-id:date:from:to
 :cc:subject:date:message-id:reply-to;
 bh=Z95bcve4C5tUeXOksScXq/5wG7az80+PCMpEyq3nvaE=;
 b=b2Q69nvpCpxD1JkBJ6+wC3Mn5JCnGjgCHLOjtJCd+C957CXLbUOmAJEx5hJDFIOeVE
 XVQ/9TuG6eCt4p8KXDf89Gw4kjf1/25mwCorwD0ol2EYINjgiyCSNO6g3e28u6voF6rD
 1w8WiqP973HBaI3uYUsjroliG4b/Ev7/HeraY=
X-Google-DKIM-Signature: v=1; a=rsa-sha256; c=relaxed/relaxed;
 d=1e100.net; s=20230601; t=1713872217; x=1714477017;
 h=references:in-reply-to:cc:to:from:subject:message-id:date
 :x-gm-message-state:from:to:cc:subject:date:message-id:reply-to;
 bh=Z95bcve4C5tUeXOksScXq/5wG7az80+PCMpEyq3nvaE=;
 b=fM2mHycpr27lWLLGLz3uUje/5fsoXNOp09PCUO8evmDXXDliOdBXWE/0KMLr2fS0pS
 0nvbR/pdH4HBQkyfno3XB5VF0JgEQ4jGQml06gonIb+4qVrzYC5bMgfCbo5KKj93IXsn
 4RH61Swo/NF24M8jWIS5tCs137lQ6/QyDHzecBHitTrzf4MJJCPqcWRqISNAXJ4Xbg3K
 r80HV6AU1S6buMqE47uv6Yhst4YlUGdtLErrcc5XYQFsO6bWn8fL9RhGpkOaKL2OzYSo
 JyY87vQtQvPN7ojQgMA6CGggyLkv251eQ5uJn9gaJkuxVYXqziiozTZVIYmNqia2r/jt
 NN+Q==
X-Gm-Message-State: AOJu0YxmASrv1QoWQvWZNLM8BP44IBCDjIaFUaFeI3YmG1eMWfxUmowY
 kxZ0wKjffE46GOA9cLDkDYA1p4y2FtfQeczUv7kOJstxP28H4iXwlggC6TzPnFGt8WD3ph+DhQq
 hh74+vOhC5mmsVv/m5poaueRff5N7cIXFrncq+MJl
X-Google-Smtp-Source: AGHT+IFuFJjB3qWSXXbMXKb6qBW4oddhIijDYqU+YpgCz5QQq57W48EKlQig6kASEJuIfzo+7+7zef97T09A
X-Received: by 2002:a05:690c:358a:b0:61a:b1a7:b300 with SMTP id
 fr10-20020a05690c358a00b0061ab1a7b300mr14977881ywb.29.1713872216818; 
 Tue, 23 Apr 2024 04:36:56 -0700 (PDT)
Received: from postal.iol.unh.edu (postal.iol.unh.edu. [132.177.123.84])
 by smtp-relay.gmail.com with ESMTPS id
 g2-20020a0dc402000000b00617c9431a10sm814997ywd.59.2024.04.23.04.36.56
 (version=TLS1_2 cipher=ECDHE-ECDSA-AES128-GCM-SHA256 bits=128/128);
 Tue, 23 Apr 2024 04:36:56 -0700 (PDT)
X-Relaying-Domain: iol.unh.edu
Date: Tue, 23 Apr 2024 04:36:56 -0700 (PDT)
Message-ID: <66279d58.0d0a0220.906bf.177fSMTPIN_ADDED_MISSING@mx.google.com>
Received: from [172.21.0.6] (unknown [172.18.0.240])
 by postal.iol.unh.edu (Postfix) with ESMTP id 7682B6052514;
 Tue, 23 Apr 2024 07:36:56 -0400 (EDT)
Subject: |SUCCESS| pw139641 [PATCH] net/af_packet: cache align Rx/Tx structs
From: dpdklab@iol.unh.edu
To: Test Report <test-report@dpdk.org>
Cc: dpdk-test-reports@iol.unh.edu
In-Reply-To: <20240423090813.94110-1-mattias.ronnblom@ericsson.com>
References: <20240423090813.94110-1-mattias.ronnblom@ericsson.com>
Content-Type: text/plain
X-BeenThere: test-report@dpdk.org
X-Mailman-Version: 2.1.29
Precedence: list
List-Id: automatic DPDK test reports <test-report.dpdk.org>
List-Unsubscribe: <https://mails.dpdk.org/options/test-report>,
 <mailto:test-report-request@dpdk.org?subject=unsubscribe>
List-Archive: <http://mails.dpdk.org/archives/test-report/>
List-Post: <mailto:test-report@dpdk.org>
List-Help: <mailto:test-report-request@dpdk.org?subject=help>
List-Subscribe: <https://mails.dpdk.org/listinfo/test-report>,
 <mailto:test-report-request@dpdk.org?subject=subscribe>
Errors-To: test-report-bounces@dpdk.org

Test-Label: iol-unit-arm64-testing
Test-Status: SUCCESS
http://dpdk.org/patch/139641

_Testing PASS_

Submitter: Mattias Ronnblom <mattias.ronnblom@ericsson.com>
Date: Tuesday, April 23 2024 09:08:13 
DPDK git baseline: Repo:dpdk
  Branch: master
  CommitID:8841786ab4aa72d205f97528af8708a13a851f4f

139641 --> testing pass

Test environment and result as below:

+-----------------------------+------------------------------+----------------+---------------------------+--------------+
|         Environment         | cryptodev_sw_snow3g_autotest | dpdk_unit_test | cryptodev_sw_zuc_autotest | lpm_autotest |
+=============================+==============================+================+===========================+==============+
| Debian 12 (arm)             | PASS                         | PASS           | PASS                      | SKIPPED      |
+-----------------------------+------------------------------+----------------+---------------------------+--------------+
| CentOS Stream 9 (ARM)       | SKIPPED                      | PASS           | SKIPPED                   | SKIPPED      |
+-----------------------------+------------------------------+----------------+---------------------------+--------------+
| Debian 11 (Buster) (ARM)    | SKIPPED                      | PASS           | SKIPPED                   | SKIPPED      |
+-----------------------------+------------------------------+----------------+---------------------------+--------------+
| Fedora 38 (ARM)             | SKIPPED                      | PASS           | SKIPPED                   | SKIPPED      |
+-----------------------------+------------------------------+----------------+---------------------------+--------------+
| 32-bit Ubuntu 20.04.4 (ARM) | SKIPPED                      | PASS           | SKIPPED                   | SKIPPED      |
+-----------------------------+------------------------------+----------------+---------------------------+--------------+
| Fedora 39 (ARM)             | SKIPPED                      | PASS           | SKIPPED                   | SKIPPED      |
+-----------------------------+------------------------------+----------------+---------------------------+--------------+
| Fedora 37 (ARM)             | SKIPPED                      | PASS           | SKIPPED                   | SKIPPED      |
+-----------------------------+------------------------------+----------------+---------------------------+--------------+
| Fedora 38 (ARM Clang)       | SKIPPED                      | PASS           | SKIPPED                   | SKIPPED      |
+-----------------------------+------------------------------+----------------+---------------------------+--------------+
| Ubuntu 20.04 (ARM)          | SKIPPED                      | PASS           | SKIPPED                   | SKIPPED      |
+-----------------------------+------------------------------+----------------+---------------------------+--------------+
| Ubuntu 20.04 ARM SVE        | SKIPPED                      | SKIPPED        | SKIPPED                   | PASS         |
+-----------------------------+------------------------------+----------------+---------------------------+--------------+


Debian 12 (arm)
	Kernel: Container Host Kernel
	Compiler: gcc 12.2.0

CentOS Stream 9 (ARM)
	Kernel: Container Host Kernel
	Compiler: gcc 11.4.1

Debian 11 (Buster) (ARM)
	Kernel: Container Host Kernel
	Compiler: gcc 10.2.1

Fedora 38 (ARM)
	Kernel: Depends on container host
	Compiler: gcc 13.2.1

32-bit Ubuntu 20.04.4 (ARM)
	Kernel: 5.4.0-155-generic aarch64
	Compiler: gcc 9.4

Fedora 39 (ARM)
	Kernel: Depends on container host
	Compiler: gcc 13.2.1

Fedora 37 (ARM)
	Kernel: Depends on container host
	Compiler: gcc 12.3.1

Fedora 38 (ARM Clang)
	Kernel: Depends on container host
	Compiler: clang 16.0.6

Ubuntu 20.04 (ARM)
	Kernel: Container Host Kernel
	Compiler: gcc 9.4.0

Ubuntu 20.04 ARM SVE
	Kernel: 5.4.0-167-generic
	Compiler: gcc (Ubuntu 10.5.0-1ubuntu1~20.04) 10.5.0

To view detailed results, visit:
https://lab.dpdk.org/results/dashboard/patchsets/29844/

UNH-IOL DPDK Community Lab

To manage your email subscriptions, visit: 
https://lab.dpdk.org/results/dashboard/preferences/subscriptions/